BEGIN:VCALENDAR
VERSION:2.0
PRODID:-//YGAMETIME.com//YGT iCal Creator//EN
METHOD:PUBLISH
X-PUBLISHED-TTL:PT6H
REFRESH-INTERVAL;VALUE=DURATION:PT6H
CALSCALE:GREGORIAN
X-WR-CALNAME:YGAMETIME CALENDAR
BEGIN:VTIMEZONE
TZID:America/Chicago
X-LIC-LOCATION:America/Chicago
BEGIN:DAYLIGHT
TZOFFSETFROM:-0600
TZOFFSETTO:-0500
TZNAME:CDT
DTSTART:19700308T020000
RRULE:FREQ=YEARLY;BYMONTH=3;BYDAY=2SU
END:DAYLIGHT
BEGIN:STANDARD
TZOFFSETFROM:-0500
TZOFFSETTO:-0600
TZNAME:CST
DTSTART:19701101T020000
RRULE:FREQ=YEARLY;BYMONTH=11;BYDAY=1SU
END:STANDARD
END:VTIMEZONE
BEGIN:VEVENT
UID:robertson-596895@ygametime.com
DTSTAMP:20260404T144500Z
DTSTART;TZID=America/Chicago:20260404T094500
DURATION:PT0H60M0S
SUMMARY:Maxwell vs Robinson
DESCRIPTION:2015-2012 Coed (U14) | Soccer\nRobertson County Family YMCA\n
URL;VALUE=URI:https://ygametime.com/branch/robertson/sports/2026-spring-soccer/25724/?utm_medium=calendar&utm_source=team_cal&utm_content=league_url#game-596895
LOCATION:Field 5 
BEGIN:VALARM
TRIGGER:-P2H
ACTION:DISPLAY
DESCRIPTION:Maxwell vs Robinson
END:VALARM
END:VEVENT
BEGIN:VEVENT
UID:robertson-596897@ygametime.com
DTSTAMP:20260411T144500Z
DTSTART;TZID=America/Chicago:20260411T094500
DURATION:PT0H60M0S
SUMMARY:Robinson vs Suiter
DESCRIPTION:2015-2012 Coed (U14) | Soccer\nRobertson County Family YMCA\n
URL;VALUE=URI:https://ygametime.com/branch/robertson/sports/2026-spring-soccer/25724/?utm_medium=calendar&utm_source=team_cal&utm_content=league_url#game-596897
LOCATION:Field 5 
BEGIN:VALARM
TRIGGER:-P2H
ACTION:DISPLAY
DESCRIPTION:Robinson vs Suiter
END:VALARM
END:VEVENT
BEGIN:VEVENT
UID:robertson-596898@ygametime.com
DTSTAMP:20260418T133000Z
DTSTART;TZID=America/Chicago:20260418T083000
DURATION:PT0H60M0S
SUMMARY:Robinson vs Angus
DESCRIPTION:2015-2012 Coed (U14) | Soccer\nRobertson County Family YMCA\n
URL;VALUE=URI:https://ygametime.com/branch/robertson/sports/2026-spring-soccer/25724/?utm_medium=calendar&utm_source=team_cal&utm_content=league_url#game-596898
LOCATION:Field 5 
BEGIN:VALARM
TRIGGER:-P2H
ACTION:DISPLAY
DESCRIPTION:Robinson vs Angus
END:VALARM
END:VEVENT
BEGIN:VEVENT
UID:robertson-596900@ygametime.com
DTSTAMP:20260425T133000Z
DTSTART;TZID=America/Chicago:20260425T083000
DURATION:PT0H60M0S
SUMMARY:Maxwell vs Robinson
DESCRIPTION:2015-2012 Coed (U14) | Soccer\nRobertson County Family YMCA\n
URL;VALUE=URI:https://ygametime.com/branch/robertson/sports/2026-spring-soccer/25724/?utm_medium=calendar&utm_source=team_cal&utm_content=league_url#game-596900
LOCATION:Field 5 
BEGIN:VALARM
TRIGGER:-P2H
ACTION:DISPLAY
DESCRIPTION:Maxwell vs Robinson
END:VALARM
END:VEVENT
BEGIN:VEVENT
UID:robertson-596903@ygametime.com
DTSTAMP:20260502T144500Z
DTSTART;TZID=America/Chicago:20260502T094500
DURATION:PT0H60M0S
SUMMARY:Robinson vs Suiter
DESCRIPTION:2015-2012 Coed (U14) | Soccer\nRobertson County Family YMCA\n
URL;VALUE=URI:https://ygametime.com/branch/robertson/sports/2026-spring-soccer/25724/?utm_medium=calendar&utm_source=team_cal&utm_content=league_url#game-596903
LOCATION:Field 5 
BEGIN:VALARM
TRIGGER:-P2H
ACTION:DISPLAY
DESCRIPTION:Robinson vs Suiter
END:VALARM
END:VEVENT
BEGIN:VEVENT
UID:robertson-596905@ygametime.com
DTSTAMP:20260509T144500Z
DTSTART;TZID=America/Chicago:20260509T094500
DURATION:PT0H60M0S
SUMMARY:Robinson vs Angus
DESCRIPTION:2015-2012 Coed (U14) | Soccer\nRobertson County Family YMCA\n
URL;VALUE=URI:https://ygametime.com/branch/robertson/sports/2026-spring-soccer/25724/?utm_medium=calendar&utm_source=team_cal&utm_content=league_url#game-596905
LOCATION:Field 5 
BEGIN:VALARM
TRIGGER:-P2H
ACTION:DISPLAY
DESCRIPTION:Robinson vs Angus
END:VALARM
END:VEVENT
BEGIN:VEVENT
UID:robertson-596907@ygametime.com
DTSTAMP:20260516T144500Z
DTSTART;TZID=America/Chicago:20260516T094500
DURATION:PT0H60M0S
SUMMARY:Maxwell vs Robinson
DESCRIPTION:2015-2012 Coed (U14) | Soccer\nRobertson County Family YMCA\n
URL;VALUE=URI:https://ygametime.com/branch/robertson/sports/2026-spring-soccer/25724/?utm_medium=calendar&utm_source=team_cal&utm_content=league_url#game-596907
LOCATION:Field 5 
BEGIN:VALARM
TRIGGER:-P2H
ACTION:DISPLAY
DESCRIPTION:Maxwell vs Robinson
END:VALARM
END:VEVENT
END:VCALENDAR

