BEGIN:VCALENDAR
VERSION:2.0
PRODID:-//YGAMETIME.com//YGT iCal Creator//EN
METHOD:PUBLISH
X-PUBLISHED-TTL:PT6H
REFRESH-INTERVAL;VALUE=DURATION:PT6H
CALSCALE:GREGORIAN
X-WR-CALNAME:YGAMETIME CALENDAR
BEGIN:VTIMEZONE
TZID:America/Chicago
X-LIC-LOCATION:America/Chicago
BEGIN:DAYLIGHT
TZOFFSETFROM:-0600
TZOFFSETTO:-0500
TZNAME:CDT
DTSTART:19700308T020000
RRULE:FREQ=YEARLY;BYMONTH=3;BYDAY=2SU
END:DAYLIGHT
BEGIN:STANDARD
TZOFFSETFROM:-0500
TZOFFSETTO:-0600
TZNAME:CST
DTSTART:19701101T020000
RRULE:FREQ=YEARLY;BYMONTH=11;BYDAY=1SU
END:STANDARD
END:VTIMEZONE
BEGIN:VEVENT
UID:robertson-596910@ygametime.com
DTSTAMP:20260404T160000Z
DTSTART;TZID=America/Chicago:20260404T110000
DURATION:PT0H60M0S
SUMMARY:Harris (White) vs Mlckovsky
DESCRIPTION:2016-2017 Coed (U10) | Soccer\nRobertson County Family YMCA\n
URL;VALUE=URI:https://ygametime.com/branch/robertson/sports/2026-spring-soccer/25723/?utm_medium=calendar&utm_source=team_cal&utm_content=league_url#game-596910
LOCATION:Field 4
BEGIN:VALARM
TRIGGER:-P2H
ACTION:DISPLAY
DESCRIPTION:Harris (White) vs Mlckovsky
END:VALARM
END:VEVENT
BEGIN:VEVENT
UID:robertson-596911@ygametime.com
DTSTAMP:20260411T133000Z
DTSTART;TZID=America/Chicago:20260411T083000
DURATION:PT0H60M0S
SUMMARY:Robinson vs Mlckovsky
DESCRIPTION:2016-2017 Coed (U10) | Soccer\nRobertson County Family YMCA\n
URL;VALUE=URI:https://ygametime.com/branch/robertson/sports/2026-spring-soccer/25723/?utm_medium=calendar&utm_source=team_cal&utm_content=league_url#game-596911
LOCATION:Field 4
BEGIN:VALARM
TRIGGER:-P2H
ACTION:DISPLAY
DESCRIPTION:Robinson vs Mlckovsky
END:VALARM
END:VEVENT
BEGIN:VEVENT
UID:robertson-596914@ygametime.com
DTSTAMP:20260418T133000Z
DTSTART;TZID=America/Chicago:20260418T083000
DURATION:PT0H60M0S
SUMMARY:Mlckovsky vs Hinners
DESCRIPTION:2016-2017 Coed (U10) | Soccer\nRobertson County Family YMCA\n
URL;VALUE=URI:https://ygametime.com/branch/robertson/sports/2026-spring-soccer/25723/?utm_medium=calendar&utm_source=team_cal&utm_content=league_url#game-596914
LOCATION:Field 4
BEGIN:VALARM
TRIGGER:-P2H
ACTION:DISPLAY
DESCRIPTION:Mlckovsky vs Hinners
END:VALARM
END:VEVENT
BEGIN:VEVENT
UID:robertson-596918@ygametime.com
DTSTAMP:20260425T171500Z
DTSTART;TZID=America/Chicago:20260425T121500
DURATION:PT0H60M0S
SUMMARY:Harris (Crimson) vs Mlckovsky
DESCRIPTION:2016-2017 Coed (U10) | Soccer\nRobertson County Family YMCA\n
URL;VALUE=URI:https://ygametime.com/branch/robertson/sports/2026-spring-soccer/25723/?utm_medium=calendar&utm_source=team_cal&utm_content=league_url#game-596918
LOCATION:Field 4
BEGIN:VALARM
TRIGGER:-P2H
ACTION:DISPLAY
DESCRIPTION:Harris (Crimson) vs Mlckovsky
END:VALARM
END:VEVENT
BEGIN:VEVENT
UID:robertson-596921@ygametime.com
DTSTAMP:20260502T171500Z
DTSTART;TZID=America/Chicago:20260502T121500
DURATION:PT0H60M0S
SUMMARY:Harris (White) vs Mlckovsky
DESCRIPTION:2016-2017 Coed (U10) | Soccer\nRobertson County Family YMCA\n
URL;VALUE=URI:https://ygametime.com/branch/robertson/sports/2026-spring-soccer/25723/?utm_medium=calendar&utm_source=team_cal&utm_content=league_url#game-596921
LOCATION:Field 4
BEGIN:VALARM
TRIGGER:-P2H
ACTION:DISPLAY
DESCRIPTION:Harris (White) vs Mlckovsky
END:VALARM
END:VEVENT
BEGIN:VEVENT
UID:robertson-596924@ygametime.com
DTSTAMP:20260509T171500Z
DTSTART;TZID=America/Chicago:20260509T121500
DURATION:PT0H60M0S
SUMMARY:Lambert vs Mlckovsky
DESCRIPTION:2016-2017 Coed (U10) | Soccer\nRobertson County Family YMCA\n
URL;VALUE=URI:https://ygametime.com/branch/robertson/sports/2026-spring-soccer/25723/?utm_medium=calendar&utm_source=team_cal&utm_content=league_url#game-596924
LOCATION:Field 4
BEGIN:VALARM
TRIGGER:-P2H
ACTION:DISPLAY
DESCRIPTION:Lambert vs Mlckovsky
END:VALARM
END:VEVENT
BEGIN:VEVENT
UID:robertson-596926@ygametime.com
DTSTAMP:20260516T133000Z
DTSTART;TZID=America/Chicago:20260516T083000
DURATION:PT0H60M0S
SUMMARY:Mlckovsky vs Robinson
DESCRIPTION:2016-2017 Coed (U10) | Soccer\nRobertson County Family YMCA\n
URL;VALUE=URI:https://ygametime.com/branch/robertson/sports/2026-spring-soccer/25723/?utm_medium=calendar&utm_source=team_cal&utm_content=league_url#game-596926
LOCATION:Field 4
BEGIN:VALARM
TRIGGER:-P2H
ACTION:DISPLAY
DESCRIPTION:Mlckovsky vs Robinson
END:VALARM
END:VEVENT
END:VCALENDAR

