BEGIN:VCALENDAR
VERSION:2.0
PRODID:-//YGAMETIME.com//YGT iCal Creator//EN
METHOD:PUBLISH
X-PUBLISHED-TTL:PT6H
REFRESH-INTERVAL;VALUE=DURATION:PT6H
CALSCALE:GREGORIAN
X-WR-CALNAME:YGAMETIME CALENDAR
BEGIN:VEVENT
UID:roses-588835@ygametime.com
DTSTAMP:Z
DTSTART;TZID=America/New York:20260103T120000
DURATION:PT0H60M0S
SUMMARY:Test vs -
DESCRIPTION:Test Season | Jr. NBA\nYMCA of the Roses- Lancaster County\n
URL;VALUE=URI:https://ygametime.com/branch/roses/sports/2026-winter-jr-nba/25398/?utm_medium=calendar&utm_source=team_cal&utm_content=league_url#game-588835
LOCATION:Lampeter-Strasburg
BEGIN:VALARM
TRIGGER:-P2H
ACTION:DISPLAY
DESCRIPTION:Test vs -
END:VALARM
END:VEVENT
BEGIN:VEVENT
UID:roses-588837@ygametime.com
DTSTAMP:Z
DTSTART;TZID=America/New York:20260110T110000
DURATION:PT0H60M0S
SUMMARY:- vs Test
DESCRIPTION:Test Season | Jr. NBA\nYMCA of the Roses- Lancaster County\n
URL;VALUE=URI:https://ygametime.com/branch/roses/sports/2026-winter-jr-nba/25398/?utm_medium=calendar&utm_source=team_cal&utm_content=league_url#game-588837
LOCATION:Lancaster City Center
BEGIN:VALARM
TRIGGER:-P2H
ACTION:DISPLAY
DESCRIPTION:- vs Test
END:VALARM
END:VEVENT
BEGIN:VEVENT
UID:roses-588839@ygametime.com
DTSTAMP:Z
DTSTART;TZID=America/New York:20260117T110000
DURATION:PT0H60M0S
SUMMARY:Test vs -
DESCRIPTION:Test Season | Jr. NBA\nYMCA of the Roses- Lancaster County\n
URL;VALUE=URI:https://ygametime.com/branch/roses/sports/2026-winter-jr-nba/25398/?utm_medium=calendar&utm_source=team_cal&utm_content=league_url#game-588839
LOCATION:Lampeter-Strasburg
BEGIN:VALARM
TRIGGER:-P2H
ACTION:DISPLAY
DESCRIPTION:Test vs -
END:VALARM
END:VEVENT
BEGIN:VEVENT
UID:roses-588843@ygametime.com
DTSTAMP:Z
DTSTART;TZID=America/New York:20260124T110000
DURATION:PT0H60M0S
SUMMARY:- vs Test
DESCRIPTION:Test Season | Jr. NBA\nYMCA of the Roses- Lancaster County\n
URL;VALUE=URI:https://ygametime.com/branch/roses/sports/2026-winter-jr-nba/25398/?utm_medium=calendar&utm_source=team_cal&utm_content=league_url#game-588843
LOCATION:Lancaster City Center
BEGIN:VALARM
TRIGGER:-P2H
ACTION:DISPLAY
DESCRIPTION:- vs Test
END:VALARM
END:VEVENT
BEGIN:VEVENT
UID:roses-588849@ygametime.com
DTSTAMP:Z
DTSTART;TZID=America/New York:20260207T110000
DURATION:PT0H60M0S
SUMMARY:- vs Test
DESCRIPTION:Test Season | Jr. NBA\nYMCA of the Roses- Lancaster County\n
URL;VALUE=URI:https://ygametime.com/branch/roses/sports/2026-winter-jr-nba/25398/?utm_medium=calendar&utm_source=team_cal&utm_content=league_url#game-588849
LOCATION:Lancaster City Center
BEGIN:VALARM
TRIGGER:-P2H
ACTION:DISPLAY
DESCRIPTION:- vs Test
END:VALARM
END:VEVENT
END:VCALENDAR

