BEGIN:VCALENDAR
VERSION:2.0
PRODID:-//YGAMETIME.com//YGT iCal Creator//EN
METHOD:PUBLISH
X-PUBLISHED-TTL:PT6H
REFRESH-INTERVAL;VALUE=DURATION:PT6H
CALSCALE:GREGORIAN
X-WR-CALNAME:YGAMETIME CALENDAR
BEGIN:VEVENT
UID:roses-365482@ygametime.com
DTSTAMP:Z
DTSTART;TZID=America/New York:20230301T183000
DURATION:PT0H15M0S
SUMMARY:Maryellen/Maria vs Eugene/Kirk
DESCRIPTION:March 1st-April 19th | Pickleball\nYMCA of the Roses- Lancaster County\n
URL;VALUE=URI:https://ygametime.com/branch/roses/sports/2023-spring-pickleball/15781/?utm_medium=calendar&utm_source=team_cal&utm_content=league_url#game-365482
LOCATION:
BEGIN:VALARM
TRIGGER:-P2H
ACTION:DISPLAY
DESCRIPTION:Maryellen/Maria vs Eugene/Kirk
END:VALARM
END:VEVENT
BEGIN:VEVENT
UID:roses-365487@ygametime.com
DTSTAMP:Z
DTSTART;TZID=America/New York:20230301T184500
DURATION:PT0H15M0S
SUMMARY:Eugene/Kirk vs Sara/Cathy H.
DESCRIPTION:March 1st-April 19th | Pickleball\nYMCA of the Roses- Lancaster County\n
URL;VALUE=URI:https://ygametime.com/branch/roses/sports/2023-spring-pickleball/15781/?utm_medium=calendar&utm_source=team_cal&utm_content=league_url#game-365487
LOCATION:
BEGIN:VALARM
TRIGGER:-P2H
ACTION:DISPLAY
DESCRIPTION:Eugene/Kirk vs Sara/Cathy H.
END:VALARM
END:VEVENT
BEGIN:VEVENT
UID:roses-365489@ygametime.com
DTSTAMP:Z
DTSTART;TZID=America/New York:20230301T190000
DURATION:PT0H15M0S
SUMMARY:Maureen/Cathy S. vs Eugene/Kirk
DESCRIPTION:March 1st-April 19th | Pickleball\nYMCA of the Roses- Lancaster County\n
URL;VALUE=URI:https://ygametime.com/branch/roses/sports/2023-spring-pickleball/15781/?utm_medium=calendar&utm_source=team_cal&utm_content=league_url#game-365489
LOCATION:
BEGIN:VALARM
TRIGGER:-P2H
ACTION:DISPLAY
DESCRIPTION:Maureen/Cathy S. vs Eugene/Kirk
END:VALARM
END:VEVENT
BEGIN:VEVENT
UID:roses-365491@ygametime.com
DTSTAMP:Z
DTSTART;TZID=America/New York:20230301T191500
DURATION:PT0H15M0S
SUMMARY:Eugene/Kirk vs Amy/Steven
DESCRIPTION:March 1st-April 19th | Pickleball\nYMCA of the Roses- Lancaster County\n
URL;VALUE=URI:https://ygametime.com/branch/roses/sports/2023-spring-pickleball/15781/?utm_medium=calendar&utm_source=team_cal&utm_content=league_url#game-365491
LOCATION:
BEGIN:VALARM
TRIGGER:-P2H
ACTION:DISPLAY
DESCRIPTION:Eugene/Kirk vs Amy/Steven
END:VALARM
END:VEVENT
BEGIN:VEVENT
UID:roses-365496@ygametime.com
DTSTAMP:Z
DTSTART;TZID=America/New York:20230301T193000
DURATION:PT0H15M0S
SUMMARY:Ron/Sue vs Eugene/Kirk
DESCRIPTION:March 1st-April 19th | Pickleball\nYMCA of the Roses- Lancaster County\n
URL;VALUE=URI:https://ygametime.com/branch/roses/sports/2023-spring-pickleball/15781/?utm_medium=calendar&utm_source=team_cal&utm_content=league_url#game-365496
LOCATION:
BEGIN:VALARM
TRIGGER:-P2H
ACTION:DISPLAY
DESCRIPTION:Ron/Sue vs Eugene/Kirk
END:VALARM
END:VEVENT
BEGIN:VEVENT
UID:roses-365498@ygametime.com
DTSTAMP:Z
DTSTART;TZID=America/New York:20230308T183000
DURATION:PT0H15M0S
SUMMARY:Maryellen/Maria vs Eugene/Kirk
DESCRIPTION:March 1st-April 19th | Pickleball\nYMCA of the Roses- Lancaster County\n
URL;VALUE=URI:https://ygametime.com/branch/roses/sports/2023-spring-pickleball/15781/?utm_medium=calendar&utm_source=team_cal&utm_content=league_url#game-365498
LOCATION:
BEGIN:VALARM
TRIGGER:-P2H
ACTION:DISPLAY
DESCRIPTION:Maryellen/Maria vs Eugene/Kirk
END:VALARM
END:VEVENT
BEGIN:VEVENT
UID:roses-365500@ygametime.com
DTSTAMP:Z
DTSTART;TZID=America/New York:20230308T184500
DURATION:PT0H15M0S
SUMMARY:Eugene/Kirk vs Sara/Cathy H.
DESCRIPTION:March 1st-April 19th | Pickleball\nYMCA of the Roses- Lancaster County\n
URL;VALUE=URI:https://ygametime.com/branch/roses/sports/2023-spring-pickleball/15781/?utm_medium=calendar&utm_source=team_cal&utm_content=league_url#game-365500
LOCATION:
BEGIN:VALARM
TRIGGER:-P2H
ACTION:DISPLAY
DESCRIPTION:Eugene/Kirk vs Sara/Cathy H.
END:VALARM
END:VEVENT
BEGIN:VEVENT
UID:roses-365505@ygametime.com
DTSTAMP:Z
DTSTART;TZID=America/New York:20230308T190000
DURATION:PT0H15M0S
SUMMARY:Maureen/Cathy S. vs Eugene/Kirk
DESCRIPTION:March 1st-April 19th | Pickleball\nYMCA of the Roses- Lancaster County\n
URL;VALUE=URI:https://ygametime.com/branch/roses/sports/2023-spring-pickleball/15781/?utm_medium=calendar&utm_source=team_cal&utm_content=league_url#game-365505
LOCATION:
BEGIN:VALARM
TRIGGER:-P2H
ACTION:DISPLAY
DESCRIPTION:Maureen/Cathy S. vs Eugene/Kirk
END:VALARM
END:VEVENT
BEGIN:VEVENT
UID:roses-365507@ygametime.com
DTSTAMP:Z
DTSTART;TZID=America/New York:20230308T191500
DURATION:PT0H15M0S
SUMMARY:Eugene/Kirk vs Amy/Steven
DESCRIPTION:March 1st-April 19th | Pickleball\nYMCA of the Roses- Lancaster County\n
URL;VALUE=URI:https://ygametime.com/branch/roses/sports/2023-spring-pickleball/15781/?utm_medium=calendar&utm_source=team_cal&utm_content=league_url#game-365507
LOCATION:
BEGIN:VALARM
TRIGGER:-P2H
ACTION:DISPLAY
DESCRIPTION:Eugene/Kirk vs Amy/Steven
END:VALARM
END:VEVENT
BEGIN:VEVENT
UID:roses-365509@ygametime.com
DTSTAMP:Z
DTSTART;TZID=America/New York:20230308T193000
DURATION:PT0H15M0S
SUMMARY:Ron/Sue vs Eugene/Kirk
DESCRIPTION:March 1st-April 19th | Pickleball\nYMCA of the Roses- Lancaster County\n
URL;VALUE=URI:https://ygametime.com/branch/roses/sports/2023-spring-pickleball/15781/?utm_medium=calendar&utm_source=team_cal&utm_content=league_url#game-365509
LOCATION:
BEGIN:VALARM
TRIGGER:-P2H
ACTION:DISPLAY
DESCRIPTION:Ron/Sue vs Eugene/Kirk
END:VALARM
END:VEVENT
BEGIN:VEVENT
UID:roses-365514@ygametime.com
DTSTAMP:Z
DTSTART;TZID=America/New York:20230315T183000
DURATION:PT0H15M0S
SUMMARY:Maryellen/Maria vs Eugene/Kirk
DESCRIPTION:March 1st-April 19th | Pickleball\nYMCA of the Roses- Lancaster County\n
URL;VALUE=URI:https://ygametime.com/branch/roses/sports/2023-spring-pickleball/15781/?utm_medium=calendar&utm_source=team_cal&utm_content=league_url#game-365514
LOCATION:
BEGIN:VALARM
TRIGGER:-P2H
ACTION:DISPLAY
DESCRIPTION:Maryellen/Maria vs Eugene/Kirk
END:VALARM
END:VEVENT
BEGIN:VEVENT
UID:roses-365516@ygametime.com
DTSTAMP:Z
DTSTART;TZID=America/New York:20230315T184500
DURATION:PT0H15M0S
SUMMARY:Eugene/Kirk vs Sara/Cathy H.
DESCRIPTION:March 1st-April 19th | Pickleball\nYMCA of the Roses- Lancaster County\n
URL;VALUE=URI:https://ygametime.com/branch/roses/sports/2023-spring-pickleball/15781/?utm_medium=calendar&utm_source=team_cal&utm_content=league_url#game-365516
LOCATION:
BEGIN:VALARM
TRIGGER:-P2H
ACTION:DISPLAY
DESCRIPTION:Eugene/Kirk vs Sara/Cathy H.
END:VALARM
END:VEVENT
BEGIN:VEVENT
UID:roses-365518@ygametime.com
DTSTAMP:Z
DTSTART;TZID=America/New York:20230315T190000
DURATION:PT0H15M0S
SUMMARY:Maureen/Cathy S. vs Eugene/Kirk
DESCRIPTION:March 1st-April 19th | Pickleball\nYMCA of the Roses- Lancaster County\n
URL;VALUE=URI:https://ygametime.com/branch/roses/sports/2023-spring-pickleball/15781/?utm_medium=calendar&utm_source=team_cal&utm_content=league_url#game-365518
LOCATION:
BEGIN:VALARM
TRIGGER:-P2H
ACTION:DISPLAY
DESCRIPTION:Maureen/Cathy S. vs Eugene/Kirk
END:VALARM
END:VEVENT
BEGIN:VEVENT
UID:roses-365523@ygametime.com
DTSTAMP:Z
DTSTART;TZID=America/New York:20230315T191500
DURATION:PT0H15M0S
SUMMARY:Eugene/Kirk vs Amy/Steven
DESCRIPTION:March 1st-April 19th | Pickleball\nYMCA of the Roses- Lancaster County\n
URL;VALUE=URI:https://ygametime.com/branch/roses/sports/2023-spring-pickleball/15781/?utm_medium=calendar&utm_source=team_cal&utm_content=league_url#game-365523
LOCATION:
BEGIN:VALARM
TRIGGER:-P2H
ACTION:DISPLAY
DESCRIPTION:Eugene/Kirk vs Amy/Steven
END:VALARM
END:VEVENT
BEGIN:VEVENT
UID:roses-365525@ygametime.com
DTSTAMP:Z
DTSTART;TZID=America/New York:20230315T193000
DURATION:PT0H15M0S
SUMMARY:Ron/Sue vs Eugene/Kirk
DESCRIPTION:March 1st-April 19th | Pickleball\nYMCA of the Roses- Lancaster County\n
URL;VALUE=URI:https://ygametime.com/branch/roses/sports/2023-spring-pickleball/15781/?utm_medium=calendar&utm_source=team_cal&utm_content=league_url#game-365525
LOCATION:
BEGIN:VALARM
TRIGGER:-P2H
ACTION:DISPLAY
DESCRIPTION:Ron/Sue vs Eugene/Kirk
END:VALARM
END:VEVENT
BEGIN:VEVENT
UID:roses-365527@ygametime.com
DTSTAMP:Z
DTSTART;TZID=America/New York:20230322T183000
DURATION:PT0H15M0S
SUMMARY:Maryellen/Maria vs Eugene/Kirk
DESCRIPTION:March 1st-April 19th | Pickleball\nYMCA of the Roses- Lancaster County\n
URL;VALUE=URI:https://ygametime.com/branch/roses/sports/2023-spring-pickleball/15781/?utm_medium=calendar&utm_source=team_cal&utm_content=league_url#game-365527
LOCATION:
BEGIN:VALARM
TRIGGER:-P2H
ACTION:DISPLAY
DESCRIPTION:Maryellen/Maria vs Eugene/Kirk
END:VALARM
END:VEVENT
BEGIN:VEVENT
UID:roses-365532@ygametime.com
DTSTAMP:Z
DTSTART;TZID=America/New York:20230322T184500
DURATION:PT0H15M0S
SUMMARY:Eugene/Kirk vs Sara/Cathy H.
DESCRIPTION:March 1st-April 19th | Pickleball\nYMCA of the Roses- Lancaster County\n
URL;VALUE=URI:https://ygametime.com/branch/roses/sports/2023-spring-pickleball/15781/?utm_medium=calendar&utm_source=team_cal&utm_content=league_url#game-365532
LOCATION:
BEGIN:VALARM
TRIGGER:-P2H
ACTION:DISPLAY
DESCRIPTION:Eugene/Kirk vs Sara/Cathy H.
END:VALARM
END:VEVENT
BEGIN:VEVENT
UID:roses-365534@ygametime.com
DTSTAMP:Z
DTSTART;TZID=America/New York:20230322T190000
DURATION:PT0H15M0S
SUMMARY:Maureen/Cathy S. vs Eugene/Kirk
DESCRIPTION:March 1st-April 19th | Pickleball\nYMCA of the Roses- Lancaster County\n
URL;VALUE=URI:https://ygametime.com/branch/roses/sports/2023-spring-pickleball/15781/?utm_medium=calendar&utm_source=team_cal&utm_content=league_url#game-365534
LOCATION:
BEGIN:VALARM
TRIGGER:-P2H
ACTION:DISPLAY
DESCRIPTION:Maureen/Cathy S. vs Eugene/Kirk
END:VALARM
END:VEVENT
BEGIN:VEVENT
UID:roses-365536@ygametime.com
DTSTAMP:Z
DTSTART;TZID=America/New York:20230322T191500
DURATION:PT0H15M0S
SUMMARY:Eugene/Kirk vs Amy/Steven
DESCRIPTION:March 1st-April 19th | Pickleball\nYMCA of the Roses- Lancaster County\n
URL;VALUE=URI:https://ygametime.com/branch/roses/sports/2023-spring-pickleball/15781/?utm_medium=calendar&utm_source=team_cal&utm_content=league_url#game-365536
LOCATION:
BEGIN:VALARM
TRIGGER:-P2H
ACTION:DISPLAY
DESCRIPTION:Eugene/Kirk vs Amy/Steven
END:VALARM
END:VEVENT
BEGIN:VEVENT
UID:roses-365541@ygametime.com
DTSTAMP:Z
DTSTART;TZID=America/New York:20230322T193000
DURATION:PT0H15M0S
SUMMARY:Ron/Sue vs Eugene/Kirk
DESCRIPTION:March 1st-April 19th | Pickleball\nYMCA of the Roses- Lancaster County\n
URL;VALUE=URI:https://ygametime.com/branch/roses/sports/2023-spring-pickleball/15781/?utm_medium=calendar&utm_source=team_cal&utm_content=league_url#game-365541
LOCATION:
BEGIN:VALARM
TRIGGER:-P2H
ACTION:DISPLAY
DESCRIPTION:Ron/Sue vs Eugene/Kirk
END:VALARM
END:VEVENT
BEGIN:VEVENT
UID:roses-365543@ygametime.com
DTSTAMP:Z
DTSTART;TZID=America/New York:20230329T183000
DURATION:PT0H15M0S
SUMMARY:Maryellen/Maria vs Eugene/Kirk
DESCRIPTION:March 1st-April 19th | Pickleball\nYMCA of the Roses- Lancaster County\n
URL;VALUE=URI:https://ygametime.com/branch/roses/sports/2023-spring-pickleball/15781/?utm_medium=calendar&utm_source=team_cal&utm_content=league_url#game-365543
LOCATION:
BEGIN:VALARM
TRIGGER:-P2H
ACTION:DISPLAY
DESCRIPTION:Maryellen/Maria vs Eugene/Kirk
END:VALARM
END:VEVENT
BEGIN:VEVENT
UID:roses-365545@ygametime.com
DTSTAMP:Z
DTSTART;TZID=America/New York:20230329T184500
DURATION:PT0H15M0S
SUMMARY:Eugene/Kirk vs Sara/Cathy H.
DESCRIPTION:March 1st-April 19th | Pickleball\nYMCA of the Roses- Lancaster County\n
URL;VALUE=URI:https://ygametime.com/branch/roses/sports/2023-spring-pickleball/15781/?utm_medium=calendar&utm_source=team_cal&utm_content=league_url#game-365545
LOCATION:
BEGIN:VALARM
TRIGGER:-P2H
ACTION:DISPLAY
DESCRIPTION:Eugene/Kirk vs Sara/Cathy H.
END:VALARM
END:VEVENT
BEGIN:VEVENT
UID:roses-365550@ygametime.com
DTSTAMP:Z
DTSTART;TZID=America/New York:20230329T190000
DURATION:PT0H15M0S
SUMMARY:Maureen/Cathy S. vs Eugene/Kirk
DESCRIPTION:March 1st-April 19th | Pickleball\nYMCA of the Roses- Lancaster County\n
URL;VALUE=URI:https://ygametime.com/branch/roses/sports/2023-spring-pickleball/15781/?utm_medium=calendar&utm_source=team_cal&utm_content=league_url#game-365550
LOCATION:
BEGIN:VALARM
TRIGGER:-P2H
ACTION:DISPLAY
DESCRIPTION:Maureen/Cathy S. vs Eugene/Kirk
END:VALARM
END:VEVENT
BEGIN:VEVENT
UID:roses-365552@ygametime.com
DTSTAMP:Z
DTSTART;TZID=America/New York:20230329T191500
DURATION:PT0H15M0S
SUMMARY:Eugene/Kirk vs Amy/Steven
DESCRIPTION:March 1st-April 19th | Pickleball\nYMCA of the Roses- Lancaster County\n
URL;VALUE=URI:https://ygametime.com/branch/roses/sports/2023-spring-pickleball/15781/?utm_medium=calendar&utm_source=team_cal&utm_content=league_url#game-365552
LOCATION:
BEGIN:VALARM
TRIGGER:-P2H
ACTION:DISPLAY
DESCRIPTION:Eugene/Kirk vs Amy/Steven
END:VALARM
END:VEVENT
BEGIN:VEVENT
UID:roses-365554@ygametime.com
DTSTAMP:Z
DTSTART;TZID=America/New York:20230329T193000
DURATION:PT0H15M0S
SUMMARY:Ron/Sue vs Eugene/Kirk
DESCRIPTION:March 1st-April 19th | Pickleball\nYMCA of the Roses- Lancaster County\n
URL;VALUE=URI:https://ygametime.com/branch/roses/sports/2023-spring-pickleball/15781/?utm_medium=calendar&utm_source=team_cal&utm_content=league_url#game-365554
LOCATION:
BEGIN:VALARM
TRIGGER:-P2H
ACTION:DISPLAY
DESCRIPTION:Ron/Sue vs Eugene/Kirk
END:VALARM
END:VEVENT
BEGIN:VEVENT
UID:roses-365559@ygametime.com
DTSTAMP:Z
DTSTART;TZID=America/New York:20230405T183000
DURATION:PT0H15M0S
SUMMARY:Maryellen/Maria vs Eugene/Kirk
DESCRIPTION:March 1st-April 19th | Pickleball\nYMCA of the Roses- Lancaster County\n
URL;VALUE=URI:https://ygametime.com/branch/roses/sports/2023-spring-pickleball/15781/?utm_medium=calendar&utm_source=team_cal&utm_content=league_url#game-365559
LOCATION:
BEGIN:VALARM
TRIGGER:-P2H
ACTION:DISPLAY
DESCRIPTION:Maryellen/Maria vs Eugene/Kirk
END:VALARM
END:VEVENT
BEGIN:VEVENT
UID:roses-365561@ygametime.com
DTSTAMP:Z
DTSTART;TZID=America/New York:20230405T184500
DURATION:PT0H15M0S
SUMMARY:Eugene/Kirk vs Sara/Cathy H.
DESCRIPTION:March 1st-April 19th | Pickleball\nYMCA of the Roses- Lancaster County\n
URL;VALUE=URI:https://ygametime.com/branch/roses/sports/2023-spring-pickleball/15781/?utm_medium=calendar&utm_source=team_cal&utm_content=league_url#game-365561
LOCATION:
BEGIN:VALARM
TRIGGER:-P2H
ACTION:DISPLAY
DESCRIPTION:Eugene/Kirk vs Sara/Cathy H.
END:VALARM
END:VEVENT
BEGIN:VEVENT
UID:roses-365563@ygametime.com
DTSTAMP:Z
DTSTART;TZID=America/New York:20230405T190000
DURATION:PT0H15M0S
SUMMARY:Maureen/Cathy S. vs Eugene/Kirk
DESCRIPTION:March 1st-April 19th | Pickleball\nYMCA of the Roses- Lancaster County\n
URL;VALUE=URI:https://ygametime.com/branch/roses/sports/2023-spring-pickleball/15781/?utm_medium=calendar&utm_source=team_cal&utm_content=league_url#game-365563
LOCATION:
BEGIN:VALARM
TRIGGER:-P2H
ACTION:DISPLAY
DESCRIPTION:Maureen/Cathy S. vs Eugene/Kirk
END:VALARM
END:VEVENT
BEGIN:VEVENT
UID:roses-365568@ygametime.com
DTSTAMP:Z
DTSTART;TZID=America/New York:20230405T191500
DURATION:PT0H15M0S
SUMMARY:Eugene/Kirk vs Amy/Steven
DESCRIPTION:March 1st-April 19th | Pickleball\nYMCA of the Roses- Lancaster County\n
URL;VALUE=URI:https://ygametime.com/branch/roses/sports/2023-spring-pickleball/15781/?utm_medium=calendar&utm_source=team_cal&utm_content=league_url#game-365568
LOCATION:
BEGIN:VALARM
TRIGGER:-P2H
ACTION:DISPLAY
DESCRIPTION:Eugene/Kirk vs Amy/Steven
END:VALARM
END:VEVENT
BEGIN:VEVENT
UID:roses-365570@ygametime.com
DTSTAMP:Z
DTSTART;TZID=America/New York:20230405T193000
DURATION:PT0H15M0S
SUMMARY:Ron/Sue vs Eugene/Kirk
DESCRIPTION:March 1st-April 19th | Pickleball\nYMCA of the Roses- Lancaster County\n
URL;VALUE=URI:https://ygametime.com/branch/roses/sports/2023-spring-pickleball/15781/?utm_medium=calendar&utm_source=team_cal&utm_content=league_url#game-365570
LOCATION:
BEGIN:VALARM
TRIGGER:-P2H
ACTION:DISPLAY
DESCRIPTION:Ron/Sue vs Eugene/Kirk
END:VALARM
END:VEVENT
BEGIN:VEVENT
UID:roses-365572@ygametime.com
DTSTAMP:Z
DTSTART;TZID=America/New York:20230412T183000
DURATION:PT0H15M0S
SUMMARY:Maryellen/Maria vs Eugene/Kirk
DESCRIPTION:March 1st-April 19th | Pickleball\nYMCA of the Roses- Lancaster County\n
URL;VALUE=URI:https://ygametime.com/branch/roses/sports/2023-spring-pickleball/15781/?utm_medium=calendar&utm_source=team_cal&utm_content=league_url#game-365572
LOCATION:
BEGIN:VALARM
TRIGGER:-P2H
ACTION:DISPLAY
DESCRIPTION:Maryellen/Maria vs Eugene/Kirk
END:VALARM
END:VEVENT
BEGIN:VEVENT
UID:roses-365577@ygametime.com
DTSTAMP:Z
DTSTART;TZID=America/New York:20230412T194500
DURATION:PT0H15M0S
SUMMARY:Eugene/Kirk vs Sara/Cathy H.
DESCRIPTION:March 1st-April 19th | Pickleball\nYMCA of the Roses- Lancaster County\n
URL;VALUE=URI:https://ygametime.com/branch/roses/sports/2023-spring-pickleball/15781/?utm_medium=calendar&utm_source=team_cal&utm_content=league_url#game-365577
LOCATION:
BEGIN:VALARM
TRIGGER:-P2H
ACTION:DISPLAY
DESCRIPTION:Eugene/Kirk vs Sara/Cathy H.
END:VALARM
END:VEVENT
BEGIN:VEVENT
UID:roses-365579@ygametime.com
DTSTAMP:Z
DTSTART;TZID=America/New York:20230412T201500
DURATION:PT0H15M0S
SUMMARY:Maureen/Cathy S. vs Eugene/Kirk
DESCRIPTION:March 1st-April 19th | Pickleball\nYMCA of the Roses- Lancaster County\n
URL;VALUE=URI:https://ygametime.com/branch/roses/sports/2023-spring-pickleball/15781/?utm_medium=calendar&utm_source=team_cal&utm_content=league_url#game-365579
LOCATION:
BEGIN:VALARM
TRIGGER:-P2H
ACTION:DISPLAY
DESCRIPTION:Maureen/Cathy S. vs Eugene/Kirk
END:VALARM
END:VEVENT
BEGIN:VEVENT
UID:roses-365581@ygametime.com
DTSTAMP:Z
DTSTART;TZID=America/New York:20230412T204500
DURATION:PT0H15M0S
SUMMARY:Eugene/Kirk vs Amy/Steven
DESCRIPTION:March 1st-April 19th | Pickleball\nYMCA of the Roses- Lancaster County\n
URL;VALUE=URI:https://ygametime.com/branch/roses/sports/2023-spring-pickleball/15781/?utm_medium=calendar&utm_source=team_cal&utm_content=league_url#game-365581
LOCATION:
BEGIN:VALARM
TRIGGER:-P2H
ACTION:DISPLAY
DESCRIPTION:Eugene/Kirk vs Amy/Steven
END:VALARM
END:VEVENT
BEGIN:VEVENT
UID:roses-365586@ygametime.com
DTSTAMP:Z
DTSTART;TZID=America/New York:20230412T220000
DURATION:PT0H15M0S
SUMMARY:Ron/Sue vs Eugene/Kirk
DESCRIPTION:March 1st-April 19th | Pickleball\nYMCA of the Roses- Lancaster County\n
URL;VALUE=URI:https://ygametime.com/branch/roses/sports/2023-spring-pickleball/15781/?utm_medium=calendar&utm_source=team_cal&utm_content=league_url#game-365586
LOCATION:
BEGIN:VALARM
TRIGGER:-P2H
ACTION:DISPLAY
DESCRIPTION:Ron/Sue vs Eugene/Kirk
END:VALARM
END:VEVENT
BEGIN:VEVENT
UID:roses-365589@ygametime.com
DTSTAMP:Z
DTSTART;TZID=America/New York:20230419T190000
DURATION:PT0H15M0S
SUMMARY:Eugene/Kirk vs -
DESCRIPTION:March 1st-April 19th | Pickleball\nYMCA of the Roses- Lancaster County\n
URL;VALUE=URI:https://ygametime.com/branch/roses/sports/2023-spring-pickleball/15781/?utm_medium=calendar&utm_source=team_cal&utm_content=league_url#game-365589
LOCATION:Lampeter-Strasburg
BEGIN:VALARM
TRIGGER:-P2H
ACTION:DISPLAY
DESCRIPTION:Eugene/Kirk vs -
END:VALARM
END:VEVENT
END:VCALENDAR

