BEGIN:VCALENDAR
VERSION:2.0
PRODID:-//YGAMETIME.com//YGT iCal Creator//EN
METHOD:PUBLISH
X-PUBLISHED-TTL:PT6H
REFRESH-INTERVAL;VALUE=DURATION:PT6H
CALSCALE:GREGORIAN
X-WR-CALNAME:YGAMETIME CALENDAR
BEGIN:VEVENT
UID:roses-365483@ygametime.com
DTSTAMP:Z
DTSTART;TZID=America/New York:20230301T183000
DURATION:PT0H15M0S
SUMMARY:Sara/Cathy H. vs Ron/Sue
DESCRIPTION:March 1st-April 19th | Pickleball\nYMCA of the Roses- Lancaster County\n
URL;VALUE=URI:https://ygametime.com/branch/roses/sports/2023-spring-pickleball/15781/?utm_medium=calendar&utm_source=team_cal&utm_content=league_url#game-365483
LOCATION:
BEGIN:VALARM
TRIGGER:-P2H
ACTION:DISPLAY
DESCRIPTION:Sara/Cathy H. vs Ron/Sue
END:VALARM
END:VEVENT
BEGIN:VEVENT
UID:roses-365486@ygametime.com
DTSTAMP:Z
DTSTART;TZID=America/New York:20230301T184500
DURATION:PT0H15M0S
SUMMARY:Ron/Sue vs Amy/Steven
DESCRIPTION:March 1st-April 19th | Pickleball\nYMCA of the Roses- Lancaster County\n
URL;VALUE=URI:https://ygametime.com/branch/roses/sports/2023-spring-pickleball/15781/?utm_medium=calendar&utm_source=team_cal&utm_content=league_url#game-365486
LOCATION:
BEGIN:VALARM
TRIGGER:-P2H
ACTION:DISPLAY
DESCRIPTION:Ron/Sue vs Amy/Steven
END:VALARM
END:VEVENT
BEGIN:VEVENT
UID:roses-365488@ygametime.com
DTSTAMP:Z
DTSTART;TZID=America/New York:20230301T190000
DURATION:PT0H15M0S
SUMMARY:Maryellen/Maria vs Ron/Sue
DESCRIPTION:March 1st-April 19th | Pickleball\nYMCA of the Roses- Lancaster County\n
URL;VALUE=URI:https://ygametime.com/branch/roses/sports/2023-spring-pickleball/15781/?utm_medium=calendar&utm_source=team_cal&utm_content=league_url#game-365488
LOCATION:
BEGIN:VALARM
TRIGGER:-P2H
ACTION:DISPLAY
DESCRIPTION:Maryellen/Maria vs Ron/Sue
END:VALARM
END:VEVENT
BEGIN:VEVENT
UID:roses-365492@ygametime.com
DTSTAMP:Z
DTSTART;TZID=America/New York:20230301T191500
DURATION:PT0H15M0S
SUMMARY:Ron/Sue vs Maureen/Cathy S.
DESCRIPTION:March 1st-April 19th | Pickleball\nYMCA of the Roses- Lancaster County\n
URL;VALUE=URI:https://ygametime.com/branch/roses/sports/2023-spring-pickleball/15781/?utm_medium=calendar&utm_source=team_cal&utm_content=league_url#game-365492
LOCATION:
BEGIN:VALARM
TRIGGER:-P2H
ACTION:DISPLAY
DESCRIPTION:Ron/Sue vs Maureen/Cathy S.
END:VALARM
END:VEVENT
BEGIN:VEVENT
UID:roses-365496@ygametime.com
DTSTAMP:Z
DTSTART;TZID=America/New York:20230301T193000
DURATION:PT0H15M0S
SUMMARY:Ron/Sue vs Eugene/Kirk
DESCRIPTION:March 1st-April 19th | Pickleball\nYMCA of the Roses- Lancaster County\n
URL;VALUE=URI:https://ygametime.com/branch/roses/sports/2023-spring-pickleball/15781/?utm_medium=calendar&utm_source=team_cal&utm_content=league_url#game-365496
LOCATION:
BEGIN:VALARM
TRIGGER:-P2H
ACTION:DISPLAY
DESCRIPTION:Ron/Sue vs Eugene/Kirk
END:VALARM
END:VEVENT
BEGIN:VEVENT
UID:roses-365499@ygametime.com
DTSTAMP:Z
DTSTART;TZID=America/New York:20230308T183000
DURATION:PT0H15M0S
SUMMARY:Sara/Cathy H. vs Ron/Sue
DESCRIPTION:March 1st-April 19th | Pickleball\nYMCA of the Roses- Lancaster County\n
URL;VALUE=URI:https://ygametime.com/branch/roses/sports/2023-spring-pickleball/15781/?utm_medium=calendar&utm_source=team_cal&utm_content=league_url#game-365499
LOCATION:
BEGIN:VALARM
TRIGGER:-P2H
ACTION:DISPLAY
DESCRIPTION:Sara/Cathy H. vs Ron/Sue
END:VALARM
END:VEVENT
BEGIN:VEVENT
UID:roses-365502@ygametime.com
DTSTAMP:Z
DTSTART;TZID=America/New York:20230308T184500
DURATION:PT0H15M0S
SUMMARY:Ron/Sue vs Amy/Steven
DESCRIPTION:March 1st-April 19th | Pickleball\nYMCA of the Roses- Lancaster County\n
URL;VALUE=URI:https://ygametime.com/branch/roses/sports/2023-spring-pickleball/15781/?utm_medium=calendar&utm_source=team_cal&utm_content=league_url#game-365502
LOCATION:
BEGIN:VALARM
TRIGGER:-P2H
ACTION:DISPLAY
DESCRIPTION:Ron/Sue vs Amy/Steven
END:VALARM
END:VEVENT
BEGIN:VEVENT
UID:roses-365504@ygametime.com
DTSTAMP:Z
DTSTART;TZID=America/New York:20230308T190000
DURATION:PT0H15M0S
SUMMARY:Maryellen/Maria vs Ron/Sue
DESCRIPTION:March 1st-April 19th | Pickleball\nYMCA of the Roses- Lancaster County\n
URL;VALUE=URI:https://ygametime.com/branch/roses/sports/2023-spring-pickleball/15781/?utm_medium=calendar&utm_source=team_cal&utm_content=league_url#game-365504
LOCATION:
BEGIN:VALARM
TRIGGER:-P2H
ACTION:DISPLAY
DESCRIPTION:Maryellen/Maria vs Ron/Sue
END:VALARM
END:VEVENT
BEGIN:VEVENT
UID:roses-365508@ygametime.com
DTSTAMP:Z
DTSTART;TZID=America/New York:20230308T191500
DURATION:PT0H15M0S
SUMMARY:Ron/Sue vs Maureen/Cathy S.
DESCRIPTION:March 1st-April 19th | Pickleball\nYMCA of the Roses- Lancaster County\n
URL;VALUE=URI:https://ygametime.com/branch/roses/sports/2023-spring-pickleball/15781/?utm_medium=calendar&utm_source=team_cal&utm_content=league_url#game-365508
LOCATION:
BEGIN:VALARM
TRIGGER:-P2H
ACTION:DISPLAY
DESCRIPTION:Ron/Sue vs Maureen/Cathy S.
END:VALARM
END:VEVENT
BEGIN:VEVENT
UID:roses-365509@ygametime.com
DTSTAMP:Z
DTSTART;TZID=America/New York:20230308T193000
DURATION:PT0H15M0S
SUMMARY:Ron/Sue vs Eugene/Kirk
DESCRIPTION:March 1st-April 19th | Pickleball\nYMCA of the Roses- Lancaster County\n
URL;VALUE=URI:https://ygametime.com/branch/roses/sports/2023-spring-pickleball/15781/?utm_medium=calendar&utm_source=team_cal&utm_content=league_url#game-365509
LOCATION:
BEGIN:VALARM
TRIGGER:-P2H
ACTION:DISPLAY
DESCRIPTION:Ron/Sue vs Eugene/Kirk
END:VALARM
END:VEVENT
BEGIN:VEVENT
UID:roses-365512@ygametime.com
DTSTAMP:Z
DTSTART;TZID=America/New York:20230315T183000
DURATION:PT0H15M0S
SUMMARY:Sara/Cathy H. vs Ron/Sue
DESCRIPTION:March 1st-April 19th | Pickleball\nYMCA of the Roses- Lancaster County\n
URL;VALUE=URI:https://ygametime.com/branch/roses/sports/2023-spring-pickleball/15781/?utm_medium=calendar&utm_source=team_cal&utm_content=league_url#game-365512
LOCATION:
BEGIN:VALARM
TRIGGER:-P2H
ACTION:DISPLAY
DESCRIPTION:Sara/Cathy H. vs Ron/Sue
END:VALARM
END:VEVENT
BEGIN:VEVENT
UID:roses-365515@ygametime.com
DTSTAMP:Z
DTSTART;TZID=America/New York:20230315T184500
DURATION:PT0H15M0S
SUMMARY:Ron/Sue vs Amy/Steven
DESCRIPTION:March 1st-April 19th | Pickleball\nYMCA of the Roses- Lancaster County\n
URL;VALUE=URI:https://ygametime.com/branch/roses/sports/2023-spring-pickleball/15781/?utm_medium=calendar&utm_source=team_cal&utm_content=league_url#game-365515
LOCATION:
BEGIN:VALARM
TRIGGER:-P2H
ACTION:DISPLAY
DESCRIPTION:Ron/Sue vs Amy/Steven
END:VALARM
END:VEVENT
BEGIN:VEVENT
UID:roses-365520@ygametime.com
DTSTAMP:Z
DTSTART;TZID=America/New York:20230315T190000
DURATION:PT0H15M0S
SUMMARY:Maryellen/Maria vs Ron/Sue
DESCRIPTION:March 1st-April 19th | Pickleball\nYMCA of the Roses- Lancaster County\n
URL;VALUE=URI:https://ygametime.com/branch/roses/sports/2023-spring-pickleball/15781/?utm_medium=calendar&utm_source=team_cal&utm_content=league_url#game-365520
LOCATION:
BEGIN:VALARM
TRIGGER:-P2H
ACTION:DISPLAY
DESCRIPTION:Maryellen/Maria vs Ron/Sue
END:VALARM
END:VEVENT
BEGIN:VEVENT
UID:roses-365521@ygametime.com
DTSTAMP:Z
DTSTART;TZID=America/New York:20230315T191500
DURATION:PT0H15M0S
SUMMARY:Ron/Sue vs Maureen/Cathy S.
DESCRIPTION:March 1st-April 19th | Pickleball\nYMCA of the Roses- Lancaster County\n
URL;VALUE=URI:https://ygametime.com/branch/roses/sports/2023-spring-pickleball/15781/?utm_medium=calendar&utm_source=team_cal&utm_content=league_url#game-365521
LOCATION:
BEGIN:VALARM
TRIGGER:-P2H
ACTION:DISPLAY
DESCRIPTION:Ron/Sue vs Maureen/Cathy S.
END:VALARM
END:VEVENT
BEGIN:VEVENT
UID:roses-365525@ygametime.com
DTSTAMP:Z
DTSTART;TZID=America/New York:20230315T193000
DURATION:PT0H15M0S
SUMMARY:Ron/Sue vs Eugene/Kirk
DESCRIPTION:March 1st-April 19th | Pickleball\nYMCA of the Roses- Lancaster County\n
URL;VALUE=URI:https://ygametime.com/branch/roses/sports/2023-spring-pickleball/15781/?utm_medium=calendar&utm_source=team_cal&utm_content=league_url#game-365525
LOCATION:
BEGIN:VALARM
TRIGGER:-P2H
ACTION:DISPLAY
DESCRIPTION:Ron/Sue vs Eugene/Kirk
END:VALARM
END:VEVENT
BEGIN:VEVENT
UID:roses-365528@ygametime.com
DTSTAMP:Z
DTSTART;TZID=America/New York:20230322T183000
DURATION:PT0H15M0S
SUMMARY:Sara/Cathy H. vs Ron/Sue
DESCRIPTION:March 1st-April 19th | Pickleball\nYMCA of the Roses- Lancaster County\n
URL;VALUE=URI:https://ygametime.com/branch/roses/sports/2023-spring-pickleball/15781/?utm_medium=calendar&utm_source=team_cal&utm_content=league_url#game-365528
LOCATION:
BEGIN:VALARM
TRIGGER:-P2H
ACTION:DISPLAY
DESCRIPTION:Sara/Cathy H. vs Ron/Sue
END:VALARM
END:VEVENT
BEGIN:VEVENT
UID:roses-365531@ygametime.com
DTSTAMP:Z
DTSTART;TZID=America/New York:20230322T184500
DURATION:PT0H15M0S
SUMMARY:Ron/Sue vs Amy/Steven
DESCRIPTION:March 1st-April 19th | Pickleball\nYMCA of the Roses- Lancaster County\n
URL;VALUE=URI:https://ygametime.com/branch/roses/sports/2023-spring-pickleball/15781/?utm_medium=calendar&utm_source=team_cal&utm_content=league_url#game-365531
LOCATION:
BEGIN:VALARM
TRIGGER:-P2H
ACTION:DISPLAY
DESCRIPTION:Ron/Sue vs Amy/Steven
END:VALARM
END:VEVENT
BEGIN:VEVENT
UID:roses-365533@ygametime.com
DTSTAMP:Z
DTSTART;TZID=America/New York:20230322T190000
DURATION:PT0H15M0S
SUMMARY:Maryellen/Maria vs Ron/Sue
DESCRIPTION:March 1st-April 19th | Pickleball\nYMCA of the Roses- Lancaster County\n
URL;VALUE=URI:https://ygametime.com/branch/roses/sports/2023-spring-pickleball/15781/?utm_medium=calendar&utm_source=team_cal&utm_content=league_url#game-365533
LOCATION:
BEGIN:VALARM
TRIGGER:-P2H
ACTION:DISPLAY
DESCRIPTION:Maryellen/Maria vs Ron/Sue
END:VALARM
END:VEVENT
BEGIN:VEVENT
UID:roses-365537@ygametime.com
DTSTAMP:Z
DTSTART;TZID=America/New York:20230322T191500
DURATION:PT0H15M0S
SUMMARY:Ron/Sue vs Maureen/Cathy S.
DESCRIPTION:March 1st-April 19th | Pickleball\nYMCA of the Roses- Lancaster County\n
URL;VALUE=URI:https://ygametime.com/branch/roses/sports/2023-spring-pickleball/15781/?utm_medium=calendar&utm_source=team_cal&utm_content=league_url#game-365537
LOCATION:
BEGIN:VALARM
TRIGGER:-P2H
ACTION:DISPLAY
DESCRIPTION:Ron/Sue vs Maureen/Cathy S.
END:VALARM
END:VEVENT
BEGIN:VEVENT
UID:roses-365541@ygametime.com
DTSTAMP:Z
DTSTART;TZID=America/New York:20230322T193000
DURATION:PT0H15M0S
SUMMARY:Ron/Sue vs Eugene/Kirk
DESCRIPTION:March 1st-April 19th | Pickleball\nYMCA of the Roses- Lancaster County\n
URL;VALUE=URI:https://ygametime.com/branch/roses/sports/2023-spring-pickleball/15781/?utm_medium=calendar&utm_source=team_cal&utm_content=league_url#game-365541
LOCATION:
BEGIN:VALARM
TRIGGER:-P2H
ACTION:DISPLAY
DESCRIPTION:Ron/Sue vs Eugene/Kirk
END:VALARM
END:VEVENT
BEGIN:VEVENT
UID:roses-365544@ygametime.com
DTSTAMP:Z
DTSTART;TZID=America/New York:20230329T183000
DURATION:PT0H15M0S
SUMMARY:Sara/Cathy H. vs Ron/Sue
DESCRIPTION:March 1st-April 19th | Pickleball\nYMCA of the Roses- Lancaster County\n
URL;VALUE=URI:https://ygametime.com/branch/roses/sports/2023-spring-pickleball/15781/?utm_medium=calendar&utm_source=team_cal&utm_content=league_url#game-365544
LOCATION:
BEGIN:VALARM
TRIGGER:-P2H
ACTION:DISPLAY
DESCRIPTION:Sara/Cathy H. vs Ron/Sue
END:VALARM
END:VEVENT
BEGIN:VEVENT
UID:roses-365547@ygametime.com
DTSTAMP:Z
DTSTART;TZID=America/New York:20230329T184500
DURATION:PT0H15M0S
SUMMARY:Ron/Sue vs Amy/Steven
DESCRIPTION:March 1st-April 19th | Pickleball\nYMCA of the Roses- Lancaster County\n
URL;VALUE=URI:https://ygametime.com/branch/roses/sports/2023-spring-pickleball/15781/?utm_medium=calendar&utm_source=team_cal&utm_content=league_url#game-365547
LOCATION:
BEGIN:VALARM
TRIGGER:-P2H
ACTION:DISPLAY
DESCRIPTION:Ron/Sue vs Amy/Steven
END:VALARM
END:VEVENT
BEGIN:VEVENT
UID:roses-365549@ygametime.com
DTSTAMP:Z
DTSTART;TZID=America/New York:20230329T190000
DURATION:PT0H15M0S
SUMMARY:Maryellen/Maria vs Ron/Sue
DESCRIPTION:March 1st-April 19th | Pickleball\nYMCA of the Roses- Lancaster County\n
URL;VALUE=URI:https://ygametime.com/branch/roses/sports/2023-spring-pickleball/15781/?utm_medium=calendar&utm_source=team_cal&utm_content=league_url#game-365549
LOCATION:
BEGIN:VALARM
TRIGGER:-P2H
ACTION:DISPLAY
DESCRIPTION:Maryellen/Maria vs Ron/Sue
END:VALARM
END:VEVENT
BEGIN:VEVENT
UID:roses-365553@ygametime.com
DTSTAMP:Z
DTSTART;TZID=America/New York:20230329T191500
DURATION:PT0H15M0S
SUMMARY:Ron/Sue vs Maureen/Cathy S.
DESCRIPTION:March 1st-April 19th | Pickleball\nYMCA of the Roses- Lancaster County\n
URL;VALUE=URI:https://ygametime.com/branch/roses/sports/2023-spring-pickleball/15781/?utm_medium=calendar&utm_source=team_cal&utm_content=league_url#game-365553
LOCATION:
BEGIN:VALARM
TRIGGER:-P2H
ACTION:DISPLAY
DESCRIPTION:Ron/Sue vs Maureen/Cathy S.
END:VALARM
END:VEVENT
BEGIN:VEVENT
UID:roses-365554@ygametime.com
DTSTAMP:Z
DTSTART;TZID=America/New York:20230329T193000
DURATION:PT0H15M0S
SUMMARY:Ron/Sue vs Eugene/Kirk
DESCRIPTION:March 1st-April 19th | Pickleball\nYMCA of the Roses- Lancaster County\n
URL;VALUE=URI:https://ygametime.com/branch/roses/sports/2023-spring-pickleball/15781/?utm_medium=calendar&utm_source=team_cal&utm_content=league_url#game-365554
LOCATION:
BEGIN:VALARM
TRIGGER:-P2H
ACTION:DISPLAY
DESCRIPTION:Ron/Sue vs Eugene/Kirk
END:VALARM
END:VEVENT
BEGIN:VEVENT
UID:roses-365557@ygametime.com
DTSTAMP:Z
DTSTART;TZID=America/New York:20230405T183000
DURATION:PT0H15M0S
SUMMARY:Sara/Cathy H. vs Ron/Sue
DESCRIPTION:March 1st-April 19th | Pickleball\nYMCA of the Roses- Lancaster County\n
URL;VALUE=URI:https://ygametime.com/branch/roses/sports/2023-spring-pickleball/15781/?utm_medium=calendar&utm_source=team_cal&utm_content=league_url#game-365557
LOCATION:
BEGIN:VALARM
TRIGGER:-P2H
ACTION:DISPLAY
DESCRIPTION:Sara/Cathy H. vs Ron/Sue
END:VALARM
END:VEVENT
BEGIN:VEVENT
UID:roses-365560@ygametime.com
DTSTAMP:Z
DTSTART;TZID=America/New York:20230405T184500
DURATION:PT0H15M0S
SUMMARY:Ron/Sue vs Amy/Steven
DESCRIPTION:March 1st-April 19th | Pickleball\nYMCA of the Roses- Lancaster County\n
URL;VALUE=URI:https://ygametime.com/branch/roses/sports/2023-spring-pickleball/15781/?utm_medium=calendar&utm_source=team_cal&utm_content=league_url#game-365560
LOCATION:
BEGIN:VALARM
TRIGGER:-P2H
ACTION:DISPLAY
DESCRIPTION:Ron/Sue vs Amy/Steven
END:VALARM
END:VEVENT
BEGIN:VEVENT
UID:roses-365565@ygametime.com
DTSTAMP:Z
DTSTART;TZID=America/New York:20230405T190000
DURATION:PT0H15M0S
SUMMARY:Maryellen/Maria vs Ron/Sue
DESCRIPTION:March 1st-April 19th | Pickleball\nYMCA of the Roses- Lancaster County\n
URL;VALUE=URI:https://ygametime.com/branch/roses/sports/2023-spring-pickleball/15781/?utm_medium=calendar&utm_source=team_cal&utm_content=league_url#game-365565
LOCATION:
BEGIN:VALARM
TRIGGER:-P2H
ACTION:DISPLAY
DESCRIPTION:Maryellen/Maria vs Ron/Sue
END:VALARM
END:VEVENT
BEGIN:VEVENT
UID:roses-365566@ygametime.com
DTSTAMP:Z
DTSTART;TZID=America/New York:20230405T191500
DURATION:PT0H15M0S
SUMMARY:Ron/Sue vs Maureen/Cathy S.
DESCRIPTION:March 1st-April 19th | Pickleball\nYMCA of the Roses- Lancaster County\n
URL;VALUE=URI:https://ygametime.com/branch/roses/sports/2023-spring-pickleball/15781/?utm_medium=calendar&utm_source=team_cal&utm_content=league_url#game-365566
LOCATION:
BEGIN:VALARM
TRIGGER:-P2H
ACTION:DISPLAY
DESCRIPTION:Ron/Sue vs Maureen/Cathy S.
END:VALARM
END:VEVENT
BEGIN:VEVENT
UID:roses-365570@ygametime.com
DTSTAMP:Z
DTSTART;TZID=America/New York:20230405T193000
DURATION:PT0H15M0S
SUMMARY:Ron/Sue vs Eugene/Kirk
DESCRIPTION:March 1st-April 19th | Pickleball\nYMCA of the Roses- Lancaster County\n
URL;VALUE=URI:https://ygametime.com/branch/roses/sports/2023-spring-pickleball/15781/?utm_medium=calendar&utm_source=team_cal&utm_content=league_url#game-365570
LOCATION:
BEGIN:VALARM
TRIGGER:-P2H
ACTION:DISPLAY
DESCRIPTION:Ron/Sue vs Eugene/Kirk
END:VALARM
END:VEVENT
BEGIN:VEVENT
UID:roses-365573@ygametime.com
DTSTAMP:Z
DTSTART;TZID=America/New York:20230412T184500
DURATION:PT0H15M0S
SUMMARY:Sara/Cathy H. vs Ron/Sue
DESCRIPTION:March 1st-April 19th | Pickleball\nYMCA of the Roses- Lancaster County\n
URL;VALUE=URI:https://ygametime.com/branch/roses/sports/2023-spring-pickleball/15781/?utm_medium=calendar&utm_source=team_cal&utm_content=league_url#game-365573
LOCATION:
BEGIN:VALARM
TRIGGER:-P2H
ACTION:DISPLAY
DESCRIPTION:Sara/Cathy H. vs Ron/Sue
END:VALARM
END:VEVENT
BEGIN:VEVENT
UID:roses-365576@ygametime.com
DTSTAMP:Z
DTSTART;TZID=America/New York:20230412T193000
DURATION:PT0H15M0S
SUMMARY:Ron/Sue vs Amy/Steven
DESCRIPTION:March 1st-April 19th | Pickleball\nYMCA of the Roses- Lancaster County\n
URL;VALUE=URI:https://ygametime.com/branch/roses/sports/2023-spring-pickleball/15781/?utm_medium=calendar&utm_source=team_cal&utm_content=league_url#game-365576
LOCATION:
BEGIN:VALARM
TRIGGER:-P2H
ACTION:DISPLAY
DESCRIPTION:Ron/Sue vs Amy/Steven
END:VALARM
END:VEVENT
BEGIN:VEVENT
UID:roses-365578@ygametime.com
DTSTAMP:Z
DTSTART;TZID=America/New York:20230412T200000
DURATION:PT0H15M0S
SUMMARY:Maryellen/Maria vs Ron/Sue
DESCRIPTION:March 1st-April 19th | Pickleball\nYMCA of the Roses- Lancaster County\n
URL;VALUE=URI:https://ygametime.com/branch/roses/sports/2023-spring-pickleball/15781/?utm_medium=calendar&utm_source=team_cal&utm_content=league_url#game-365578
LOCATION:
BEGIN:VALARM
TRIGGER:-P2H
ACTION:DISPLAY
DESCRIPTION:Maryellen/Maria vs Ron/Sue
END:VALARM
END:VEVENT
BEGIN:VEVENT
UID:roses-365582@ygametime.com
DTSTAMP:Z
DTSTART;TZID=America/New York:20230412T210000
DURATION:PT0H15M0S
SUMMARY:Ron/Sue vs Maureen/Cathy S.
DESCRIPTION:March 1st-April 19th | Pickleball\nYMCA of the Roses- Lancaster County\n
URL;VALUE=URI:https://ygametime.com/branch/roses/sports/2023-spring-pickleball/15781/?utm_medium=calendar&utm_source=team_cal&utm_content=league_url#game-365582
LOCATION:
BEGIN:VALARM
TRIGGER:-P2H
ACTION:DISPLAY
DESCRIPTION:Ron/Sue vs Maureen/Cathy S.
END:VALARM
END:VEVENT
BEGIN:VEVENT
UID:roses-365586@ygametime.com
DTSTAMP:Z
DTSTART;TZID=America/New York:20230412T220000
DURATION:PT0H15M0S
SUMMARY:Ron/Sue vs Eugene/Kirk
DESCRIPTION:March 1st-April 19th | Pickleball\nYMCA of the Roses- Lancaster County\n
URL;VALUE=URI:https://ygametime.com/branch/roses/sports/2023-spring-pickleball/15781/?utm_medium=calendar&utm_source=team_cal&utm_content=league_url#game-365586
LOCATION:
BEGIN:VALARM
TRIGGER:-P2H
ACTION:DISPLAY
DESCRIPTION:Ron/Sue vs Eugene/Kirk
END:VALARM
END:VEVENT
BEGIN:VEVENT
UID:roses-365587@ygametime.com
DTSTAMP:Z
DTSTART;TZID=America/New York:20230419T183000
DURATION:PT0H15M0S
SUMMARY:Ron/Sue vs Maryellen/Maria
DESCRIPTION:March 1st-April 19th | Pickleball\nYMCA of the Roses- Lancaster County\n
URL;VALUE=URI:https://ygametime.com/branch/roses/sports/2023-spring-pickleball/15781/?utm_medium=calendar&utm_source=team_cal&utm_content=league_url#game-365587
LOCATION:Lampeter-Strasburg
BEGIN:VALARM
TRIGGER:-P2H
ACTION:DISPLAY
DESCRIPTION:Ron/Sue vs Maryellen/Maria
END:VALARM
END:VEVENT
END:VCALENDAR

