BEGIN:VCALENDAR
VERSION:2.0
PRODID:-//YGAMETIME.com//YGT iCal Creator//EN
METHOD:PUBLISH
X-PUBLISHED-TTL:PT6H
REFRESH-INTERVAL;VALUE=DURATION:PT6H
CALSCALE:GREGORIAN
X-WR-CALNAME:YGAMETIME CALENDAR
BEGIN:VEVENT
UID:roses-365484@ygametime.com
DTSTAMP:Z
DTSTART;TZID=America/New York:20230301T183000
DURATION:PT0H15M0S
SUMMARY:Amy/Steven vs Maureen/Cathy S.
DESCRIPTION:March 1st-April 19th | Pickleball\nYMCA of the Roses- Lancaster County\n
URL;VALUE=URI:https://ygametime.com/branch/roses/sports/2023-spring-pickleball/15781/?utm_medium=calendar&utm_source=team_cal&utm_content=league_url#game-365484
LOCATION:
BEGIN:VALARM
TRIGGER:-P2H
ACTION:DISPLAY
DESCRIPTION:Amy/Steven vs Maureen/Cathy S.
END:VALARM
END:VEVENT
BEGIN:VEVENT
UID:roses-365486@ygametime.com
DTSTAMP:Z
DTSTART;TZID=America/New York:20230301T184500
DURATION:PT0H15M0S
SUMMARY:Ron/Sue vs Amy/Steven
DESCRIPTION:March 1st-April 19th | Pickleball\nYMCA of the Roses- Lancaster County\n
URL;VALUE=URI:https://ygametime.com/branch/roses/sports/2023-spring-pickleball/15781/?utm_medium=calendar&utm_source=team_cal&utm_content=league_url#game-365486
LOCATION:
BEGIN:VALARM
TRIGGER:-P2H
ACTION:DISPLAY
DESCRIPTION:Ron/Sue vs Amy/Steven
END:VALARM
END:VEVENT
BEGIN:VEVENT
UID:roses-365490@ygametime.com
DTSTAMP:Z
DTSTART;TZID=America/New York:20230301T190000
DURATION:PT0H15M0S
SUMMARY:Amy/Steven vs Sara/Cathy H.
DESCRIPTION:March 1st-April 19th | Pickleball\nYMCA of the Roses- Lancaster County\n
URL;VALUE=URI:https://ygametime.com/branch/roses/sports/2023-spring-pickleball/15781/?utm_medium=calendar&utm_source=team_cal&utm_content=league_url#game-365490
LOCATION:
BEGIN:VALARM
TRIGGER:-P2H
ACTION:DISPLAY
DESCRIPTION:Amy/Steven vs Sara/Cathy H.
END:VALARM
END:VEVENT
BEGIN:VEVENT
UID:roses-365491@ygametime.com
DTSTAMP:Z
DTSTART;TZID=America/New York:20230301T191500
DURATION:PT0H15M0S
SUMMARY:Eugene/Kirk vs Amy/Steven
DESCRIPTION:March 1st-April 19th | Pickleball\nYMCA of the Roses- Lancaster County\n
URL;VALUE=URI:https://ygametime.com/branch/roses/sports/2023-spring-pickleball/15781/?utm_medium=calendar&utm_source=team_cal&utm_content=league_url#game-365491
LOCATION:
BEGIN:VALARM
TRIGGER:-P2H
ACTION:DISPLAY
DESCRIPTION:Eugene/Kirk vs Amy/Steven
END:VALARM
END:VEVENT
BEGIN:VEVENT
UID:roses-365494@ygametime.com
DTSTAMP:Z
DTSTART;TZID=America/New York:20230301T193000
DURATION:PT0H15M0S
SUMMARY:Maryellen/Maria vs Amy/Steven
DESCRIPTION:March 1st-April 19th | Pickleball\nYMCA of the Roses- Lancaster County\n
URL;VALUE=URI:https://ygametime.com/branch/roses/sports/2023-spring-pickleball/15781/?utm_medium=calendar&utm_source=team_cal&utm_content=league_url#game-365494
LOCATION:
BEGIN:VALARM
TRIGGER:-P2H
ACTION:DISPLAY
DESCRIPTION:Maryellen/Maria vs Amy/Steven
END:VALARM
END:VEVENT
BEGIN:VEVENT
UID:roses-365497@ygametime.com
DTSTAMP:Z
DTSTART;TZID=America/New York:20230308T183000
DURATION:PT0H15M0S
SUMMARY:Amy/Steven vs Maureen/Cathy S.
DESCRIPTION:March 1st-April 19th | Pickleball\nYMCA of the Roses- Lancaster County\n
URL;VALUE=URI:https://ygametime.com/branch/roses/sports/2023-spring-pickleball/15781/?utm_medium=calendar&utm_source=team_cal&utm_content=league_url#game-365497
LOCATION:
BEGIN:VALARM
TRIGGER:-P2H
ACTION:DISPLAY
DESCRIPTION:Amy/Steven vs Maureen/Cathy S.
END:VALARM
END:VEVENT
BEGIN:VEVENT
UID:roses-365502@ygametime.com
DTSTAMP:Z
DTSTART;TZID=America/New York:20230308T184500
DURATION:PT0H15M0S
SUMMARY:Ron/Sue vs Amy/Steven
DESCRIPTION:March 1st-April 19th | Pickleball\nYMCA of the Roses- Lancaster County\n
URL;VALUE=URI:https://ygametime.com/branch/roses/sports/2023-spring-pickleball/15781/?utm_medium=calendar&utm_source=team_cal&utm_content=league_url#game-365502
LOCATION:
BEGIN:VALARM
TRIGGER:-P2H
ACTION:DISPLAY
DESCRIPTION:Ron/Sue vs Amy/Steven
END:VALARM
END:VEVENT
BEGIN:VEVENT
UID:roses-365503@ygametime.com
DTSTAMP:Z
DTSTART;TZID=America/New York:20230308T190000
DURATION:PT0H15M0S
SUMMARY:Amy/Steven vs Sara/Cathy H.
DESCRIPTION:March 1st-April 19th | Pickleball\nYMCA of the Roses- Lancaster County\n
URL;VALUE=URI:https://ygametime.com/branch/roses/sports/2023-spring-pickleball/15781/?utm_medium=calendar&utm_source=team_cal&utm_content=league_url#game-365503
LOCATION:
BEGIN:VALARM
TRIGGER:-P2H
ACTION:DISPLAY
DESCRIPTION:Amy/Steven vs Sara/Cathy H.
END:VALARM
END:VEVENT
BEGIN:VEVENT
UID:roses-365507@ygametime.com
DTSTAMP:Z
DTSTART;TZID=America/New York:20230308T191500
DURATION:PT0H15M0S
SUMMARY:Eugene/Kirk vs Amy/Steven
DESCRIPTION:March 1st-April 19th | Pickleball\nYMCA of the Roses- Lancaster County\n
URL;VALUE=URI:https://ygametime.com/branch/roses/sports/2023-spring-pickleball/15781/?utm_medium=calendar&utm_source=team_cal&utm_content=league_url#game-365507
LOCATION:
BEGIN:VALARM
TRIGGER:-P2H
ACTION:DISPLAY
DESCRIPTION:Eugene/Kirk vs Amy/Steven
END:VALARM
END:VEVENT
BEGIN:VEVENT
UID:roses-365510@ygametime.com
DTSTAMP:Z
DTSTART;TZID=America/New York:20230308T193000
DURATION:PT0H15M0S
SUMMARY:Maryellen/Maria vs Amy/Steven
DESCRIPTION:March 1st-April 19th | Pickleball\nYMCA of the Roses- Lancaster County\n
URL;VALUE=URI:https://ygametime.com/branch/roses/sports/2023-spring-pickleball/15781/?utm_medium=calendar&utm_source=team_cal&utm_content=league_url#game-365510
LOCATION:
BEGIN:VALARM
TRIGGER:-P2H
ACTION:DISPLAY
DESCRIPTION:Maryellen/Maria vs Amy/Steven
END:VALARM
END:VEVENT
BEGIN:VEVENT
UID:roses-365513@ygametime.com
DTSTAMP:Z
DTSTART;TZID=America/New York:20230315T183000
DURATION:PT0H15M0S
SUMMARY:Amy/Steven vs Maureen/Cathy S.
DESCRIPTION:March 1st-April 19th | Pickleball\nYMCA of the Roses- Lancaster County\n
URL;VALUE=URI:https://ygametime.com/branch/roses/sports/2023-spring-pickleball/15781/?utm_medium=calendar&utm_source=team_cal&utm_content=league_url#game-365513
LOCATION:
BEGIN:VALARM
TRIGGER:-P2H
ACTION:DISPLAY
DESCRIPTION:Amy/Steven vs Maureen/Cathy S.
END:VALARM
END:VEVENT
BEGIN:VEVENT
UID:roses-365515@ygametime.com
DTSTAMP:Z
DTSTART;TZID=America/New York:20230315T184500
DURATION:PT0H15M0S
SUMMARY:Ron/Sue vs Amy/Steven
DESCRIPTION:March 1st-April 19th | Pickleball\nYMCA of the Roses- Lancaster County\n
URL;VALUE=URI:https://ygametime.com/branch/roses/sports/2023-spring-pickleball/15781/?utm_medium=calendar&utm_source=team_cal&utm_content=league_url#game-365515
LOCATION:
BEGIN:VALARM
TRIGGER:-P2H
ACTION:DISPLAY
DESCRIPTION:Ron/Sue vs Amy/Steven
END:VALARM
END:VEVENT
BEGIN:VEVENT
UID:roses-365519@ygametime.com
DTSTAMP:Z
DTSTART;TZID=America/New York:20230315T190000
DURATION:PT0H15M0S
SUMMARY:Amy/Steven vs Sara/Cathy H.
DESCRIPTION:March 1st-April 19th | Pickleball\nYMCA of the Roses- Lancaster County\n
URL;VALUE=URI:https://ygametime.com/branch/roses/sports/2023-spring-pickleball/15781/?utm_medium=calendar&utm_source=team_cal&utm_content=league_url#game-365519
LOCATION:
BEGIN:VALARM
TRIGGER:-P2H
ACTION:DISPLAY
DESCRIPTION:Amy/Steven vs Sara/Cathy H.
END:VALARM
END:VEVENT
BEGIN:VEVENT
UID:roses-365523@ygametime.com
DTSTAMP:Z
DTSTART;TZID=America/New York:20230315T191500
DURATION:PT0H15M0S
SUMMARY:Eugene/Kirk vs Amy/Steven
DESCRIPTION:March 1st-April 19th | Pickleball\nYMCA of the Roses- Lancaster County\n
URL;VALUE=URI:https://ygametime.com/branch/roses/sports/2023-spring-pickleball/15781/?utm_medium=calendar&utm_source=team_cal&utm_content=league_url#game-365523
LOCATION:
BEGIN:VALARM
TRIGGER:-P2H
ACTION:DISPLAY
DESCRIPTION:Eugene/Kirk vs Amy/Steven
END:VALARM
END:VEVENT
BEGIN:VEVENT
UID:roses-365526@ygametime.com
DTSTAMP:Z
DTSTART;TZID=America/New York:20230315T193000
DURATION:PT0H15M0S
SUMMARY:Maryellen/Maria vs Amy/Steven
DESCRIPTION:March 1st-April 19th | Pickleball\nYMCA of the Roses- Lancaster County\n
URL;VALUE=URI:https://ygametime.com/branch/roses/sports/2023-spring-pickleball/15781/?utm_medium=calendar&utm_source=team_cal&utm_content=league_url#game-365526
LOCATION:
BEGIN:VALARM
TRIGGER:-P2H
ACTION:DISPLAY
DESCRIPTION:Maryellen/Maria vs Amy/Steven
END:VALARM
END:VEVENT
BEGIN:VEVENT
UID:roses-365529@ygametime.com
DTSTAMP:Z
DTSTART;TZID=America/New York:20230322T183000
DURATION:PT0H15M0S
SUMMARY:Amy/Steven vs Maureen/Cathy S.
DESCRIPTION:March 1st-April 19th | Pickleball\nYMCA of the Roses- Lancaster County\n
URL;VALUE=URI:https://ygametime.com/branch/roses/sports/2023-spring-pickleball/15781/?utm_medium=calendar&utm_source=team_cal&utm_content=league_url#game-365529
LOCATION:
BEGIN:VALARM
TRIGGER:-P2H
ACTION:DISPLAY
DESCRIPTION:Amy/Steven vs Maureen/Cathy S.
END:VALARM
END:VEVENT
BEGIN:VEVENT
UID:roses-365531@ygametime.com
DTSTAMP:Z
DTSTART;TZID=America/New York:20230322T184500
DURATION:PT0H15M0S
SUMMARY:Ron/Sue vs Amy/Steven
DESCRIPTION:March 1st-April 19th | Pickleball\nYMCA of the Roses- Lancaster County\n
URL;VALUE=URI:https://ygametime.com/branch/roses/sports/2023-spring-pickleball/15781/?utm_medium=calendar&utm_source=team_cal&utm_content=league_url#game-365531
LOCATION:
BEGIN:VALARM
TRIGGER:-P2H
ACTION:DISPLAY
DESCRIPTION:Ron/Sue vs Amy/Steven
END:VALARM
END:VEVENT
BEGIN:VEVENT
UID:roses-365535@ygametime.com
DTSTAMP:Z
DTSTART;TZID=America/New York:20230322T190000
DURATION:PT0H15M0S
SUMMARY:Amy/Steven vs Sara/Cathy H.
DESCRIPTION:March 1st-April 19th | Pickleball\nYMCA of the Roses- Lancaster County\n
URL;VALUE=URI:https://ygametime.com/branch/roses/sports/2023-spring-pickleball/15781/?utm_medium=calendar&utm_source=team_cal&utm_content=league_url#game-365535
LOCATION:
BEGIN:VALARM
TRIGGER:-P2H
ACTION:DISPLAY
DESCRIPTION:Amy/Steven vs Sara/Cathy H.
END:VALARM
END:VEVENT
BEGIN:VEVENT
UID:roses-365536@ygametime.com
DTSTAMP:Z
DTSTART;TZID=America/New York:20230322T191500
DURATION:PT0H15M0S
SUMMARY:Eugene/Kirk vs Amy/Steven
DESCRIPTION:March 1st-April 19th | Pickleball\nYMCA of the Roses- Lancaster County\n
URL;VALUE=URI:https://ygametime.com/branch/roses/sports/2023-spring-pickleball/15781/?utm_medium=calendar&utm_source=team_cal&utm_content=league_url#game-365536
LOCATION:
BEGIN:VALARM
TRIGGER:-P2H
ACTION:DISPLAY
DESCRIPTION:Eugene/Kirk vs Amy/Steven
END:VALARM
END:VEVENT
BEGIN:VEVENT
UID:roses-365539@ygametime.com
DTSTAMP:Z
DTSTART;TZID=America/New York:20230322T193000
DURATION:PT0H15M0S
SUMMARY:Maryellen/Maria vs Amy/Steven
DESCRIPTION:March 1st-April 19th | Pickleball\nYMCA of the Roses- Lancaster County\n
URL;VALUE=URI:https://ygametime.com/branch/roses/sports/2023-spring-pickleball/15781/?utm_medium=calendar&utm_source=team_cal&utm_content=league_url#game-365539
LOCATION:
BEGIN:VALARM
TRIGGER:-P2H
ACTION:DISPLAY
DESCRIPTION:Maryellen/Maria vs Amy/Steven
END:VALARM
END:VEVENT
BEGIN:VEVENT
UID:roses-365542@ygametime.com
DTSTAMP:Z
DTSTART;TZID=America/New York:20230329T183000
DURATION:PT0H15M0S
SUMMARY:Amy/Steven vs Maureen/Cathy S.
DESCRIPTION:March 1st-April 19th | Pickleball\nYMCA of the Roses- Lancaster County\n
URL;VALUE=URI:https://ygametime.com/branch/roses/sports/2023-spring-pickleball/15781/?utm_medium=calendar&utm_source=team_cal&utm_content=league_url#game-365542
LOCATION:
BEGIN:VALARM
TRIGGER:-P2H
ACTION:DISPLAY
DESCRIPTION:Amy/Steven vs Maureen/Cathy S.
END:VALARM
END:VEVENT
BEGIN:VEVENT
UID:roses-365547@ygametime.com
DTSTAMP:Z
DTSTART;TZID=America/New York:20230329T184500
DURATION:PT0H15M0S
SUMMARY:Ron/Sue vs Amy/Steven
DESCRIPTION:March 1st-April 19th | Pickleball\nYMCA of the Roses- Lancaster County\n
URL;VALUE=URI:https://ygametime.com/branch/roses/sports/2023-spring-pickleball/15781/?utm_medium=calendar&utm_source=team_cal&utm_content=league_url#game-365547
LOCATION:
BEGIN:VALARM
TRIGGER:-P2H
ACTION:DISPLAY
DESCRIPTION:Ron/Sue vs Amy/Steven
END:VALARM
END:VEVENT
BEGIN:VEVENT
UID:roses-365548@ygametime.com
DTSTAMP:Z
DTSTART;TZID=America/New York:20230329T190000
DURATION:PT0H15M0S
SUMMARY:Amy/Steven vs Sara/Cathy H.
DESCRIPTION:March 1st-April 19th | Pickleball\nYMCA of the Roses- Lancaster County\n
URL;VALUE=URI:https://ygametime.com/branch/roses/sports/2023-spring-pickleball/15781/?utm_medium=calendar&utm_source=team_cal&utm_content=league_url#game-365548
LOCATION:
BEGIN:VALARM
TRIGGER:-P2H
ACTION:DISPLAY
DESCRIPTION:Amy/Steven vs Sara/Cathy H.
END:VALARM
END:VEVENT
BEGIN:VEVENT
UID:roses-365552@ygametime.com
DTSTAMP:Z
DTSTART;TZID=America/New York:20230329T191500
DURATION:PT0H15M0S
SUMMARY:Eugene/Kirk vs Amy/Steven
DESCRIPTION:March 1st-April 19th | Pickleball\nYMCA of the Roses- Lancaster County\n
URL;VALUE=URI:https://ygametime.com/branch/roses/sports/2023-spring-pickleball/15781/?utm_medium=calendar&utm_source=team_cal&utm_content=league_url#game-365552
LOCATION:
BEGIN:VALARM
TRIGGER:-P2H
ACTION:DISPLAY
DESCRIPTION:Eugene/Kirk vs Amy/Steven
END:VALARM
END:VEVENT
BEGIN:VEVENT
UID:roses-365555@ygametime.com
DTSTAMP:Z
DTSTART;TZID=America/New York:20230329T193000
DURATION:PT0H15M0S
SUMMARY:Maryellen/Maria vs Amy/Steven
DESCRIPTION:March 1st-April 19th | Pickleball\nYMCA of the Roses- Lancaster County\n
URL;VALUE=URI:https://ygametime.com/branch/roses/sports/2023-spring-pickleball/15781/?utm_medium=calendar&utm_source=team_cal&utm_content=league_url#game-365555
LOCATION:
BEGIN:VALARM
TRIGGER:-P2H
ACTION:DISPLAY
DESCRIPTION:Maryellen/Maria vs Amy/Steven
END:VALARM
END:VEVENT
BEGIN:VEVENT
UID:roses-365558@ygametime.com
DTSTAMP:Z
DTSTART;TZID=America/New York:20230405T183000
DURATION:PT0H15M0S
SUMMARY:Amy/Steven vs Maureen/Cathy S.
DESCRIPTION:March 1st-April 19th | Pickleball\nYMCA of the Roses- Lancaster County\n
URL;VALUE=URI:https://ygametime.com/branch/roses/sports/2023-spring-pickleball/15781/?utm_medium=calendar&utm_source=team_cal&utm_content=league_url#game-365558
LOCATION:
BEGIN:VALARM
TRIGGER:-P2H
ACTION:DISPLAY
DESCRIPTION:Amy/Steven vs Maureen/Cathy S.
END:VALARM
END:VEVENT
BEGIN:VEVENT
UID:roses-365560@ygametime.com
DTSTAMP:Z
DTSTART;TZID=America/New York:20230405T184500
DURATION:PT0H15M0S
SUMMARY:Ron/Sue vs Amy/Steven
DESCRIPTION:March 1st-April 19th | Pickleball\nYMCA of the Roses- Lancaster County\n
URL;VALUE=URI:https://ygametime.com/branch/roses/sports/2023-spring-pickleball/15781/?utm_medium=calendar&utm_source=team_cal&utm_content=league_url#game-365560
LOCATION:
BEGIN:VALARM
TRIGGER:-P2H
ACTION:DISPLAY
DESCRIPTION:Ron/Sue vs Amy/Steven
END:VALARM
END:VEVENT
BEGIN:VEVENT
UID:roses-365564@ygametime.com
DTSTAMP:Z
DTSTART;TZID=America/New York:20230405T190000
DURATION:PT0H15M0S
SUMMARY:Amy/Steven vs Sara/Cathy H.
DESCRIPTION:March 1st-April 19th | Pickleball\nYMCA of the Roses- Lancaster County\n
URL;VALUE=URI:https://ygametime.com/branch/roses/sports/2023-spring-pickleball/15781/?utm_medium=calendar&utm_source=team_cal&utm_content=league_url#game-365564
LOCATION:
BEGIN:VALARM
TRIGGER:-P2H
ACTION:DISPLAY
DESCRIPTION:Amy/Steven vs Sara/Cathy H.
END:VALARM
END:VEVENT
BEGIN:VEVENT
UID:roses-365568@ygametime.com
DTSTAMP:Z
DTSTART;TZID=America/New York:20230405T191500
DURATION:PT0H15M0S
SUMMARY:Eugene/Kirk vs Amy/Steven
DESCRIPTION:March 1st-April 19th | Pickleball\nYMCA of the Roses- Lancaster County\n
URL;VALUE=URI:https://ygametime.com/branch/roses/sports/2023-spring-pickleball/15781/?utm_medium=calendar&utm_source=team_cal&utm_content=league_url#game-365568
LOCATION:
BEGIN:VALARM
TRIGGER:-P2H
ACTION:DISPLAY
DESCRIPTION:Eugene/Kirk vs Amy/Steven
END:VALARM
END:VEVENT
BEGIN:VEVENT
UID:roses-365571@ygametime.com
DTSTAMP:Z
DTSTART;TZID=America/New York:20230405T193000
DURATION:PT0H15M0S
SUMMARY:Maryellen/Maria vs Amy/Steven
DESCRIPTION:March 1st-April 19th | Pickleball\nYMCA of the Roses- Lancaster County\n
URL;VALUE=URI:https://ygametime.com/branch/roses/sports/2023-spring-pickleball/15781/?utm_medium=calendar&utm_source=team_cal&utm_content=league_url#game-365571
LOCATION:
BEGIN:VALARM
TRIGGER:-P2H
ACTION:DISPLAY
DESCRIPTION:Maryellen/Maria vs Amy/Steven
END:VALARM
END:VEVENT
BEGIN:VEVENT
UID:roses-365574@ygametime.com
DTSTAMP:Z
DTSTART;TZID=America/New York:20230412T190000
DURATION:PT0H15M0S
SUMMARY:Amy/Steven vs Maureen/Cathy S.
DESCRIPTION:March 1st-April 19th | Pickleball\nYMCA of the Roses- Lancaster County\n
URL;VALUE=URI:https://ygametime.com/branch/roses/sports/2023-spring-pickleball/15781/?utm_medium=calendar&utm_source=team_cal&utm_content=league_url#game-365574
LOCATION:
BEGIN:VALARM
TRIGGER:-P2H
ACTION:DISPLAY
DESCRIPTION:Amy/Steven vs Maureen/Cathy S.
END:VALARM
END:VEVENT
BEGIN:VEVENT
UID:roses-365576@ygametime.com
DTSTAMP:Z
DTSTART;TZID=America/New York:20230412T193000
DURATION:PT0H15M0S
SUMMARY:Ron/Sue vs Amy/Steven
DESCRIPTION:March 1st-April 19th | Pickleball\nYMCA of the Roses- Lancaster County\n
URL;VALUE=URI:https://ygametime.com/branch/roses/sports/2023-spring-pickleball/15781/?utm_medium=calendar&utm_source=team_cal&utm_content=league_url#game-365576
LOCATION:
BEGIN:VALARM
TRIGGER:-P2H
ACTION:DISPLAY
DESCRIPTION:Ron/Sue vs Amy/Steven
END:VALARM
END:VEVENT
BEGIN:VEVENT
UID:roses-365580@ygametime.com
DTSTAMP:Z
DTSTART;TZID=America/New York:20230412T203000
DURATION:PT0H15M0S
SUMMARY:Amy/Steven vs Sara/Cathy H.
DESCRIPTION:March 1st-April 19th | Pickleball\nYMCA of the Roses- Lancaster County\n
URL;VALUE=URI:https://ygametime.com/branch/roses/sports/2023-spring-pickleball/15781/?utm_medium=calendar&utm_source=team_cal&utm_content=league_url#game-365580
LOCATION:
BEGIN:VALARM
TRIGGER:-P2H
ACTION:DISPLAY
DESCRIPTION:Amy/Steven vs Sara/Cathy H.
END:VALARM
END:VEVENT
BEGIN:VEVENT
UID:roses-365581@ygametime.com
DTSTAMP:Z
DTSTART;TZID=America/New York:20230412T204500
DURATION:PT0H15M0S
SUMMARY:Eugene/Kirk vs Amy/Steven
DESCRIPTION:March 1st-April 19th | Pickleball\nYMCA of the Roses- Lancaster County\n
URL;VALUE=URI:https://ygametime.com/branch/roses/sports/2023-spring-pickleball/15781/?utm_medium=calendar&utm_source=team_cal&utm_content=league_url#game-365581
LOCATION:
BEGIN:VALARM
TRIGGER:-P2H
ACTION:DISPLAY
DESCRIPTION:Eugene/Kirk vs Amy/Steven
END:VALARM
END:VEVENT
BEGIN:VEVENT
UID:roses-365584@ygametime.com
DTSTAMP:Z
DTSTART;TZID=America/New York:20230412T213000
DURATION:PT0H15M0S
SUMMARY:Maryellen/Maria vs Amy/Steven
DESCRIPTION:March 1st-April 19th | Pickleball\nYMCA of the Roses- Lancaster County\n
URL;VALUE=URI:https://ygametime.com/branch/roses/sports/2023-spring-pickleball/15781/?utm_medium=calendar&utm_source=team_cal&utm_content=league_url#game-365584
LOCATION:
BEGIN:VALARM
TRIGGER:-P2H
ACTION:DISPLAY
DESCRIPTION:Maryellen/Maria vs Amy/Steven
END:VALARM
END:VEVENT
BEGIN:VEVENT
UID:roses-365588@ygametime.com
DTSTAMP:Z
DTSTART;TZID=America/New York:20230419T184500
DURATION:PT0H15M0S
SUMMARY:Sara/Cathy H. vs Amy/Steven
DESCRIPTION:March 1st-April 19th | Pickleball\nYMCA of the Roses- Lancaster County\n
URL;VALUE=URI:https://ygametime.com/branch/roses/sports/2023-spring-pickleball/15781/?utm_medium=calendar&utm_source=team_cal&utm_content=league_url#game-365588
LOCATION:Lampeter-Strasburg
BEGIN:VALARM
TRIGGER:-P2H
ACTION:DISPLAY
DESCRIPTION:Sara/Cathy H. vs Amy/Steven
END:VALARM
END:VEVENT
END:VCALENDAR

