BEGIN:VCALENDAR
VERSION:2.0
PRODID:-//YGAMETIME.com//YGT iCal Creator//EN
METHOD:PUBLISH
X-PUBLISHED-TTL:PT6H
REFRESH-INTERVAL;VALUE=DURATION:PT6H
CALSCALE:GREGORIAN
X-WR-CALNAME:YGAMETIME CALENDAR
BEGIN:VEVENT
UID:roses-384197@ygametime.com
DTSTAMP:Z
DTSTART;TZID=America/New York:20230514T153000
DURATION:PT0H30M0S
SUMMARY:Floorball Flyers vs Fly Floorball Fly
DESCRIPTION:May Tournament | Floorball\nYMCA of the Roses- Lancaster County\n
URL;VALUE=URI:https://ygametime.com/branch/roses/sports/2023-spring-floorball/16431/?utm_medium=calendar&utm_source=team_cal&utm_content=league_url#game-384197
LOCATION:Lampeter-Strasburg
BEGIN:VALARM
TRIGGER:-P2H
ACTION:DISPLAY
DESCRIPTION:Floorball Flyers vs Fly Floorball Fly
END:VALARM
END:VEVENT
BEGIN:VEVENT
UID:roses-384199@ygametime.com
DTSTAMP:Z
DTSTART;TZID=America/New York:20230514T163000
DURATION:PT0H30M0S
SUMMARY:Unreliables vs Floorball Flyers
DESCRIPTION:May Tournament | Floorball\nYMCA of the Roses- Lancaster County\n
URL;VALUE=URI:https://ygametime.com/branch/roses/sports/2023-spring-floorball/16431/?utm_medium=calendar&utm_source=team_cal&utm_content=league_url#game-384199
LOCATION:Lampeter-Strasburg
BEGIN:VALARM
TRIGGER:-P2H
ACTION:DISPLAY
DESCRIPTION:Unreliables vs Floorball Flyers
END:VALARM
END:VEVENT
BEGIN:VEVENT
UID:roses-384202@ygametime.com
DTSTAMP:Z
DTSTART;TZID=America/New York:20230514T180000
DURATION:PT0H30M0S
SUMMARY:Floorball Flyers vs Sweden
DESCRIPTION:May Tournament | Floorball\nYMCA of the Roses- Lancaster County\n
URL;VALUE=URI:https://ygametime.com/branch/roses/sports/2023-spring-floorball/16431/?utm_medium=calendar&utm_source=team_cal&utm_content=league_url#game-384202
LOCATION:Lampeter-Strasburg
BEGIN:VALARM
TRIGGER:-P2H
ACTION:DISPLAY
DESCRIPTION:Floorball Flyers vs Sweden
END:VALARM
END:VEVENT
END:VCALENDAR

