BEGIN:VCALENDAR
VERSION:2.0
PRODID:-//YGAMETIME.com//YGT iCal Creator//EN
METHOD:PUBLISH
X-PUBLISHED-TTL:PT6H
REFRESH-INTERVAL;VALUE=DURATION:PT6H
CALSCALE:GREGORIAN
X-WR-CALNAME:YGAMETIME CALENDAR
BEGIN:VEVENT
UID:roses-413783@ygametime.com
DTSTAMP:Z
DTSTART;TZID=America/New York:20231202T122000
DURATION:PT0H20M0S
SUMMARY:TN vs VA
DESCRIPTION:Winter Tournament | Floorball\nYMCA of the Roses- Lancaster County\n
URL;VALUE=URI:https://ygametime.com/branch/roses/sports/2023-spring-floorball/18046/?utm_medium=calendar&utm_source=team_cal&utm_content=league_url#game-413783
LOCATION:Lampeter-Strasburg
BEGIN:VALARM
TRIGGER:-P2H
ACTION:DISPLAY
DESCRIPTION:TN vs VA
END:VALARM
END:VEVENT
BEGIN:VEVENT
UID:roses-413784@ygametime.com
DTSTAMP:Z
DTSTART;TZID=America/New York:20231202T124000
DURATION:PT0H20M0S
SUMMARY:NY vs TN
DESCRIPTION:Winter Tournament | Floorball\nYMCA of the Roses- Lancaster County\n
URL;VALUE=URI:https://ygametime.com/branch/roses/sports/2023-spring-floorball/18046/?utm_medium=calendar&utm_source=team_cal&utm_content=league_url#game-413784
LOCATION:Lampeter-Strasburg
BEGIN:VALARM
TRIGGER:-P2H
ACTION:DISPLAY
DESCRIPTION:NY vs TN
END:VALARM
END:VEVENT
BEGIN:VEVENT
UID:roses-413787@ygametime.com
DTSTAMP:Z
DTSTART;TZID=America/New York:20231202T134000
DURATION:PT0H20M0S
SUMMARY:PA vs TN
DESCRIPTION:Winter Tournament | Floorball\nYMCA of the Roses- Lancaster County\n
URL;VALUE=URI:https://ygametime.com/branch/roses/sports/2023-spring-floorball/18046/?utm_medium=calendar&utm_source=team_cal&utm_content=league_url#game-413787
LOCATION:Lampeter-Strasburg
BEGIN:VALARM
TRIGGER:-P2H
ACTION:DISPLAY
DESCRIPTION:PA vs TN
END:VALARM
END:VEVENT
END:VCALENDAR

