BEGIN:VCALENDAR
VERSION:2.0
PRODID:-//YGAMETIME.com//YGT iCal Creator//EN
METHOD:PUBLISH
X-PUBLISHED-TTL:PT6H
REFRESH-INTERVAL;VALUE=DURATION:PT6H
CALSCALE:GREGORIAN
X-WR-CALNAME:YGAMETIME CALENDAR
BEGIN:VEVENT
UID:roses-413788@ygametime.com
DTSTAMP:Z
DTSTART;TZID=America/New York:20231202T140000
DURATION:PT0H20M0S
SUMMARY:NY 2 vs PA 2
DESCRIPTION:Winter Tournament | Floorball\nYMCA of the Roses- Lancaster County\n
URL;VALUE=URI:https://ygametime.com/branch/roses/sports/2023-spring-floorball/18046/?utm_medium=calendar&utm_source=team_cal&utm_content=league_url#game-413788
LOCATION:Lampeter-Strasburg
BEGIN:VALARM
TRIGGER:-P2H
ACTION:DISPLAY
DESCRIPTION:NY 2 vs PA 2
END:VALARM
END:VEVENT
BEGIN:VEVENT
UID:roses-413790@ygametime.com
DTSTAMP:Z
DTSTART;TZID=America/New York:20231202T144000
DURATION:PT0H20M0S
SUMMARY:NY 2 vs TN 2
DESCRIPTION:Winter Tournament | Floorball\nYMCA of the Roses- Lancaster County\n
URL;VALUE=URI:https://ygametime.com/branch/roses/sports/2023-spring-floorball/18046/?utm_medium=calendar&utm_source=team_cal&utm_content=league_url#game-413790
LOCATION:Lampeter-Strasburg
BEGIN:VALARM
TRIGGER:-P2H
ACTION:DISPLAY
DESCRIPTION:NY 2 vs TN 2
END:VALARM
END:VEVENT
BEGIN:VEVENT
UID:roses-413792@ygametime.com
DTSTAMP:Z
DTSTART;TZID=America/New York:20231202T152000
DURATION:PT0H20M0S
SUMMARY:NY 2 vs VA 2
DESCRIPTION:Winter Tournament | Floorball\nYMCA of the Roses- Lancaster County\n
URL;VALUE=URI:https://ygametime.com/branch/roses/sports/2023-spring-floorball/18046/?utm_medium=calendar&utm_source=team_cal&utm_content=league_url#game-413792
LOCATION:Lampeter-Strasburg
BEGIN:VALARM
TRIGGER:-P2H
ACTION:DISPLAY
DESCRIPTION:NY 2 vs VA 2
END:VALARM
END:VEVENT
END:VCALENDAR

