BEGIN:VCALENDAR
VERSION:2.0
PRODID:-//YGAMETIME.com//YGT iCal Creator//EN
METHOD:PUBLISH
X-PUBLISHED-TTL:PT6H
REFRESH-INTERVAL;VALUE=DURATION:PT6H
CALSCALE:GREGORIAN
X-WR-CALNAME:YGAMETIME CALENDAR
BEGIN:VEVENT
UID:roses-423304@ygametime.com
DTSTAMP:Z
DTSTART;TZID=America/New York:20231202T133000
DURATION:PT0H15M0S
SUMMARY:Fightin' Floorballers vs North Carolina
DESCRIPTION:Amish Country Classic | Floorball\nYMCA of the Roses- Lancaster County\n
URL;VALUE=URI:https://ygametime.com/branch/roses/sports/2023-spring-floorball/18362/?utm_medium=calendar&utm_source=team_cal&utm_content=league_url#game-423304
LOCATION:Lampeter-Strasburg
BEGIN:VALARM
TRIGGER:-P2H
ACTION:DISPLAY
DESCRIPTION:Fightin' Floorballers vs North Carolina
END:VALARM
END:VEVENT
BEGIN:VEVENT
UID:roses-423306@ygametime.com
DTSTAMP:Z
DTSTART;TZID=America/New York:20231202T140000
DURATION:PT0H15M0S
SUMMARY:Sweden vs Fightin' Floorballers
DESCRIPTION:Amish Country Classic | Floorball\nYMCA of the Roses- Lancaster County\n
URL;VALUE=URI:https://ygametime.com/branch/roses/sports/2023-spring-floorball/18362/?utm_medium=calendar&utm_source=team_cal&utm_content=league_url#game-423306
LOCATION:Lampeter-Strasburg
BEGIN:VALARM
TRIGGER:-P2H
ACTION:DISPLAY
DESCRIPTION:Sweden vs Fightin' Floorballers
END:VALARM
END:VEVENT
BEGIN:VEVENT
UID:roses-423310@ygametime.com
DTSTAMP:Z
DTSTART;TZID=America/New York:20231202T150000
DURATION:PT0H15M0S
SUMMARY:Fightin' Floorballers vs Virginia
DESCRIPTION:Amish Country Classic | Floorball\nYMCA of the Roses- Lancaster County\n
URL;VALUE=URI:https://ygametime.com/branch/roses/sports/2023-spring-floorball/18362/?utm_medium=calendar&utm_source=team_cal&utm_content=league_url#game-423310
LOCATION:Lampeter-Strasburg
BEGIN:VALARM
TRIGGER:-P2H
ACTION:DISPLAY
DESCRIPTION:Fightin' Floorballers vs Virginia
END:VALARM
END:VEVENT
BEGIN:VEVENT
UID:roses-423312@ygametime.com
DTSTAMP:Z
DTSTART;TZID=America/New York:20231202T153000
DURATION:PT0H15M0S
SUMMARY:Fightin' Floorballers vs Unreliables
DESCRIPTION:Amish Country Classic | Floorball\nYMCA of the Roses- Lancaster County\n
URL;VALUE=URI:https://ygametime.com/branch/roses/sports/2023-spring-floorball/18362/?utm_medium=calendar&utm_source=team_cal&utm_content=league_url#game-423312
LOCATION:Lampeter-Strasburg
BEGIN:VALARM
TRIGGER:-P2H
ACTION:DISPLAY
DESCRIPTION:Fightin' Floorballers vs Unreliables
END:VALARM
END:VEVENT
BEGIN:VEVENT
UID:roses-423315@ygametime.com
DTSTAMP:Z
DTSTART;TZID=America/New York:20231202T161500
DURATION:PT0H15M0S
SUMMARY:New York City vs Fightin' Floorballers
DESCRIPTION:Amish Country Classic | Floorball\nYMCA of the Roses- Lancaster County\n
URL;VALUE=URI:https://ygametime.com/branch/roses/sports/2023-spring-floorball/18362/?utm_medium=calendar&utm_source=team_cal&utm_content=league_url#game-423315
LOCATION:Lampeter-Strasburg
BEGIN:VALARM
TRIGGER:-P2H
ACTION:DISPLAY
DESCRIPTION:New York City vs Fightin' Floorballers
END:VALARM
END:VEVENT
END:VCALENDAR

