BEGIN:VCALENDAR
VERSION:2.0
PRODID:-//YGAMETIME.com//YGT iCal Creator//EN
METHOD:PUBLISH
X-PUBLISHED-TTL:PT6H
REFRESH-INTERVAL;VALUE=DURATION:PT6H
CALSCALE:GREGORIAN
X-WR-CALNAME:YGAMETIME CALENDAR
BEGIN:VEVENT
UID:roses-423303@ygametime.com
DTSTAMP:Z
DTSTART;TZID=America/New York:20231202T131500
DURATION:PT0H15M0S
SUMMARY:New York City vs Sweden
DESCRIPTION:Amish Country Classic | Floorball\nYMCA of the Roses- Lancaster County\n
URL;VALUE=URI:https://ygametime.com/branch/roses/sports/2023-spring-floorball/18362/?utm_medium=calendar&utm_source=team_cal&utm_content=league_url#game-423303
LOCATION:Lampeter-Strasburg
BEGIN:VALARM
TRIGGER:-P2H
ACTION:DISPLAY
DESCRIPTION:New York City vs Sweden
END:VALARM
END:VEVENT
BEGIN:VEVENT
UID:roses-423306@ygametime.com
DTSTAMP:Z
DTSTART;TZID=America/New York:20231202T140000
DURATION:PT0H15M0S
SUMMARY:Sweden vs Fightin' Floorballers
DESCRIPTION:Amish Country Classic | Floorball\nYMCA of the Roses- Lancaster County\n
URL;VALUE=URI:https://ygametime.com/branch/roses/sports/2023-spring-floorball/18362/?utm_medium=calendar&utm_source=team_cal&utm_content=league_url#game-423306
LOCATION:Lampeter-Strasburg
BEGIN:VALARM
TRIGGER:-P2H
ACTION:DISPLAY
DESCRIPTION:Sweden vs Fightin' Floorballers
END:VALARM
END:VEVENT
BEGIN:VEVENT
UID:roses-423308@ygametime.com
DTSTAMP:Z
DTSTART;TZID=America/New York:20231202T143000
DURATION:PT0H15M0S
SUMMARY:Unreliables vs Sweden
DESCRIPTION:Amish Country Classic | Floorball\nYMCA of the Roses- Lancaster County\n
URL;VALUE=URI:https://ygametime.com/branch/roses/sports/2023-spring-floorball/18362/?utm_medium=calendar&utm_source=team_cal&utm_content=league_url#game-423308
LOCATION:Lampeter-Strasburg
BEGIN:VALARM
TRIGGER:-P2H
ACTION:DISPLAY
DESCRIPTION:Unreliables vs Sweden
END:VALARM
END:VEVENT
BEGIN:VEVENT
UID:roses-423311@ygametime.com
DTSTAMP:Z
DTSTART;TZID=America/New York:20231202T151500
DURATION:PT0H15M0S
SUMMARY:Sweden vs North Carolina
DESCRIPTION:Amish Country Classic | Floorball\nYMCA of the Roses- Lancaster County\n
URL;VALUE=URI:https://ygametime.com/branch/roses/sports/2023-spring-floorball/18362/?utm_medium=calendar&utm_source=team_cal&utm_content=league_url#game-423311
LOCATION:Lampeter-Strasburg
BEGIN:VALARM
TRIGGER:-P2H
ACTION:DISPLAY
DESCRIPTION:Sweden vs North Carolina
END:VALARM
END:VEVENT
BEGIN:VEVENT
UID:roses-423316@ygametime.com
DTSTAMP:Z
DTSTART;TZID=America/New York:20231202T163000
DURATION:PT0H15M0S
SUMMARY:Sweden vs Virginia
DESCRIPTION:Amish Country Classic | Floorball\nYMCA of the Roses- Lancaster County\n
URL;VALUE=URI:https://ygametime.com/branch/roses/sports/2023-spring-floorball/18362/?utm_medium=calendar&utm_source=team_cal&utm_content=league_url#game-423316
LOCATION:Lampeter-Strasburg
BEGIN:VALARM
TRIGGER:-P2H
ACTION:DISPLAY
DESCRIPTION:Sweden vs Virginia
END:VALARM
END:VEVENT
END:VCALENDAR

