BEGIN:VCALENDAR
VERSION:2.0
PRODID:-//YGAMETIME.com//YGT iCal Creator//EN
METHOD:PUBLISH
X-PUBLISHED-TTL:PT6H
REFRESH-INTERVAL;VALUE=DURATION:PT6H
CALSCALE:GREGORIAN
X-WR-CALNAME:YGAMETIME CALENDAR
BEGIN:VEVENT
UID:roses-423302@ygametime.com
DTSTAMP:Z
DTSTART;TZID=America/New York:20231202T130000
DURATION:PT0H15M0S
SUMMARY:Virginia vs Unreliables
DESCRIPTION:Amish Country Classic | Floorball\nYMCA of the Roses- Lancaster County\n
URL;VALUE=URI:https://ygametime.com/branch/roses/sports/2023-spring-floorball/18362/?utm_medium=calendar&utm_source=team_cal&utm_content=league_url#game-423302
LOCATION:Lampeter-Strasburg
BEGIN:VALARM
TRIGGER:-P2H
ACTION:DISPLAY
DESCRIPTION:Virginia vs Unreliables
END:VALARM
END:VEVENT
BEGIN:VEVENT
UID:roses-423305@ygametime.com
DTSTAMP:Z
DTSTART;TZID=America/New York:20231202T134500
DURATION:PT0H15M0S
SUMMARY:Unreliables vs New York City
DESCRIPTION:Amish Country Classic | Floorball\nYMCA of the Roses- Lancaster County\n
URL;VALUE=URI:https://ygametime.com/branch/roses/sports/2023-spring-floorball/18362/?utm_medium=calendar&utm_source=team_cal&utm_content=league_url#game-423305
LOCATION:Lampeter-Strasburg
BEGIN:VALARM
TRIGGER:-P2H
ACTION:DISPLAY
DESCRIPTION:Unreliables vs New York City
END:VALARM
END:VEVENT
BEGIN:VEVENT
UID:roses-423308@ygametime.com
DTSTAMP:Z
DTSTART;TZID=America/New York:20231202T143000
DURATION:PT0H15M0S
SUMMARY:Unreliables vs Sweden
DESCRIPTION:Amish Country Classic | Floorball\nYMCA of the Roses- Lancaster County\n
URL;VALUE=URI:https://ygametime.com/branch/roses/sports/2023-spring-floorball/18362/?utm_medium=calendar&utm_source=team_cal&utm_content=league_url#game-423308
LOCATION:Lampeter-Strasburg
BEGIN:VALARM
TRIGGER:-P2H
ACTION:DISPLAY
DESCRIPTION:Unreliables vs Sweden
END:VALARM
END:VEVENT
BEGIN:VEVENT
UID:roses-423312@ygametime.com
DTSTAMP:Z
DTSTART;TZID=America/New York:20231202T153000
DURATION:PT0H15M0S
SUMMARY:Fightin' Floorballers vs Unreliables
DESCRIPTION:Amish Country Classic | Floorball\nYMCA of the Roses- Lancaster County\n
URL;VALUE=URI:https://ygametime.com/branch/roses/sports/2023-spring-floorball/18362/?utm_medium=calendar&utm_source=team_cal&utm_content=league_url#game-423312
LOCATION:Lampeter-Strasburg
BEGIN:VALARM
TRIGGER:-P2H
ACTION:DISPLAY
DESCRIPTION:Fightin' Floorballers vs Unreliables
END:VALARM
END:VEVENT
BEGIN:VEVENT
UID:roses-423314@ygametime.com
DTSTAMP:Z
DTSTART;TZID=America/New York:20231202T160000
DURATION:PT0H15M0S
SUMMARY:North Carolina vs Unreliables
DESCRIPTION:Amish Country Classic | Floorball\nYMCA of the Roses- Lancaster County\n
URL;VALUE=URI:https://ygametime.com/branch/roses/sports/2023-spring-floorball/18362/?utm_medium=calendar&utm_source=team_cal&utm_content=league_url#game-423314
LOCATION:Lampeter-Strasburg
BEGIN:VALARM
TRIGGER:-P2H
ACTION:DISPLAY
DESCRIPTION:North Carolina vs Unreliables
END:VALARM
END:VEVENT
END:VCALENDAR

