BEGIN:VCALENDAR
VERSION:2.0
PRODID:-//YGAMETIME.com//YGT iCal Creator//EN
METHOD:PUBLISH
X-PUBLISHED-TTL:PT6H
REFRESH-INTERVAL;VALUE=DURATION:PT6H
CALSCALE:GREGORIAN
X-WR-CALNAME:YGAMETIME CALENDAR
BEGIN:VEVENT
UID:rv-601656@ygametime.com
DTSTAMP:20260418T180000Z
DTSTART;TZID=America/Los_Angeles:20260418T110000
DURATION:PT0H75M0S
SUMMARY:Thomson Aces vs Fire Balls
DESCRIPTION:5th - 6th Grade | Volleyball\nRogue Valley Family YMCA\n
URL;VALUE=URI:https://ygametime.com/branch/rv/sports/2026-spring-volleyball/10796/?utm_medium=calendar&utm_source=team_cal&utm_content=league_url#game-601656
LOCATION:Hedrick Middle School Gym (Court 1)
BEGIN:VALARM
TRIGGER:-P2H
ACTION:DISPLAY
DESCRIPTION:Thomson Aces vs Fire Balls
END:VALARM
END:VEVENT
BEGIN:VEVENT
UID:rv-601662@ygametime.com
DTSTAMP:20260425T164500Z
DTSTART;TZID=America/Los_Angeles:20260425T094500
DURATION:PT0H75M0S
SUMMARY:Aces vs Thomson Aces
DESCRIPTION:5th - 6th Grade | Volleyball\nRogue Valley Family YMCA\n
URL;VALUE=URI:https://ygametime.com/branch/rv/sports/2026-spring-volleyball/10796/?utm_medium=calendar&utm_source=team_cal&utm_content=league_url#game-601662
LOCATION:Hedrick Middle School Gym (Court 1)
BEGIN:VALARM
TRIGGER:-P2H
ACTION:DISPLAY
DESCRIPTION:Aces vs Thomson Aces
END:VALARM
END:VEVENT
BEGIN:VEVENT
UID:rv-601667@ygametime.com
DTSTAMP:20260502T153000Z
DTSTART;TZID=America/Los_Angeles:20260502T083000
DURATION:PT0H75M0S
SUMMARY:Court Crushers vs Thomson Aces
DESCRIPTION:5th - 6th Grade | Volleyball\nRogue Valley Family YMCA\n
URL;VALUE=URI:https://ygametime.com/branch/rv/sports/2026-spring-volleyball/10796/?utm_medium=calendar&utm_source=team_cal&utm_content=league_url#game-601667
LOCATION:Hedrick Middle School Gym (Court 1)
BEGIN:VALARM
TRIGGER:-P2H
ACTION:DISPLAY
DESCRIPTION:Court Crushers vs Thomson Aces
END:VALARM
END:VEVENT
BEGIN:VEVENT
UID:rv-601676@ygametime.com
DTSTAMP:20260509T180000Z
DTSTART;TZID=America/Los_Angeles:20260509T110000
DURATION:PT0H75M0S
SUMMARY:Thomson Aces vs Pink Pups
DESCRIPTION:5th - 6th Grade | Volleyball\nRogue Valley Family YMCA\n
URL;VALUE=URI:https://ygametime.com/branch/rv/sports/2026-spring-volleyball/10796/?utm_medium=calendar&utm_source=team_cal&utm_content=league_url#game-601676
LOCATION:Hedrick Middle School Gym (Court 2)
BEGIN:VALARM
TRIGGER:-P2H
ACTION:DISPLAY
DESCRIPTION:Thomson Aces vs Pink Pups
END:VALARM
END:VEVENT
BEGIN:VEVENT
UID:rv-601681@ygametime.com
DTSTAMP:20260516T191500Z
DTSTART;TZID=America/Los_Angeles:20260516T121500
DURATION:PT0H75M0S
SUMMARY:Thomson Aces vs Bumpin Baddies 
DESCRIPTION:5th - 6th Grade | Volleyball\nRogue Valley Family YMCA\n
URL;VALUE=URI:https://ygametime.com/branch/rv/sports/2026-spring-volleyball/10796/?utm_medium=calendar&utm_source=team_cal&utm_content=league_url#game-601681
LOCATION:Hedrick Middle School Gym (Court 1)
BEGIN:VALARM
TRIGGER:-P2H
ACTION:DISPLAY
DESCRIPTION:Thomson Aces vs Bumpin Baddies 
END:VALARM
END:VEVENT
END:VCALENDAR

