BEGIN:VCALENDAR
VERSION:2.0
PRODID:-//YGAMETIME.com//YGT iCal Creator//EN
METHOD:PUBLISH
X-PUBLISHED-TTL:PT6H
REFRESH-INTERVAL;VALUE=DURATION:PT6H
CALSCALE:GREGORIAN
X-WR-CALNAME:YGAMETIME CALENDAR
BEGIN:VEVENT
UID:rv-601658@ygametime.com
DTSTAMP:20260418T191500Z
DTSTART;TZID=America/Los_Angeles:20260418T121500
DURATION:PT0H75M0S
SUMMARY:The Flares vs Pepper and Spice 
DESCRIPTION:5th - 6th Grade | Volleyball\nRogue Valley Family YMCA\n
URL;VALUE=URI:https://ygametime.com/branch/rv/sports/2026-spring-volleyball/10796/?utm_medium=calendar&utm_source=team_cal&utm_content=league_url#game-601658
LOCATION:Hedrick Middle School Gym (Court 1)
BEGIN:VALARM
TRIGGER:-P2H
ACTION:DISPLAY
DESCRIPTION:The Flares vs Pepper and Spice 
END:VALARM
END:VEVENT
BEGIN:VEVENT
UID:rv-601664@ygametime.com
DTSTAMP:20260425T191500Z
DTSTART;TZID=America/Los_Angeles:20260425T121500
DURATION:PT0H75M0S
SUMMARY:Dream Team vs The Flares
DESCRIPTION:5th - 6th Grade | Volleyball\nRogue Valley Family YMCA\n
URL;VALUE=URI:https://ygametime.com/branch/rv/sports/2026-spring-volleyball/10796/?utm_medium=calendar&utm_source=team_cal&utm_content=league_url#game-601664
LOCATION:Hedrick Middle School Gym (Court 1)
BEGIN:VALARM
TRIGGER:-P2H
ACTION:DISPLAY
DESCRIPTION:Dream Team vs The Flares
END:VALARM
END:VEVENT
BEGIN:VEVENT
UID:rv-601669@ygametime.com
DTSTAMP:20260502T164500Z
DTSTART;TZID=America/Los_Angeles:20260502T094500
DURATION:PT0H75M0S
SUMMARY:Mighty Eagles  vs The Flares
DESCRIPTION:5th - 6th Grade | Volleyball\nRogue Valley Family YMCA\n
URL;VALUE=URI:https://ygametime.com/branch/rv/sports/2026-spring-volleyball/10796/?utm_medium=calendar&utm_source=team_cal&utm_content=league_url#game-601669
LOCATION:Hedrick Middle School Gym (Court 2)
BEGIN:VALARM
TRIGGER:-P2H
ACTION:DISPLAY
DESCRIPTION:Mighty Eagles  vs The Flares
END:VALARM
END:VEVENT
BEGIN:VEVENT
UID:rv-601675@ygametime.com
DTSTAMP:20260509T180000Z
DTSTART;TZID=America/Los_Angeles:20260509T110000
DURATION:PT0H75M0S
SUMMARY:The Flares vs Fire Balls
DESCRIPTION:5th - 6th Grade | Volleyball\nRogue Valley Family YMCA\n
URL;VALUE=URI:https://ygametime.com/branch/rv/sports/2026-spring-volleyball/10796/?utm_medium=calendar&utm_source=team_cal&utm_content=league_url#game-601675
LOCATION:Hedrick Middle School Gym (Court 1)
BEGIN:VALARM
TRIGGER:-P2H
ACTION:DISPLAY
DESCRIPTION:The Flares vs Fire Balls
END:VALARM
END:VEVENT
BEGIN:VEVENT
UID:rv-601684@ygametime.com
DTSTAMP:20260516T203000Z
DTSTART;TZID=America/Los_Angeles:20260516T133000
DURATION:PT0H75M0S
SUMMARY:The Flares vs Pink Panthers
DESCRIPTION:5th - 6th Grade | Volleyball\nRogue Valley Family YMCA\n
URL;VALUE=URI:https://ygametime.com/branch/rv/sports/2026-spring-volleyball/10796/?utm_medium=calendar&utm_source=team_cal&utm_content=league_url#game-601684
LOCATION:Hedrick Middle School Gym (Court 1)
BEGIN:VALARM
TRIGGER:-P2H
ACTION:DISPLAY
DESCRIPTION:The Flares vs Pink Panthers
END:VALARM
END:VEVENT
END:VCALENDAR

