BEGIN:VCALENDAR
VERSION:2.0
PRODID:-//YGAMETIME.com//YGT iCal Creator//EN
METHOD:PUBLISH
X-PUBLISHED-TTL:PT6H
REFRESH-INTERVAL;VALUE=DURATION:PT6H
CALSCALE:GREGORIAN
X-WR-CALNAME:YGAMETIME CALENDAR
BEGIN:VEVENT
UID:rv-601656@ygametime.com
DTSTAMP:20260418T180000Z
DTSTART;TZID=America/Los_Angeles:20260418T110000
DURATION:PT0H75M0S
SUMMARY:Thomson Aces vs Fire Balls
DESCRIPTION:5th - 6th Grade | Volleyball\nRogue Valley Family YMCA\n
URL;VALUE=URI:https://ygametime.com/branch/rv/sports/2026-spring-volleyball/10796/?utm_medium=calendar&utm_source=team_cal&utm_content=league_url#game-601656
LOCATION:Hedrick Middle School Gym (Court 1)
BEGIN:VALARM
TRIGGER:-P2H
ACTION:DISPLAY
DESCRIPTION:Thomson Aces vs Fire Balls
END:VALARM
END:VEVENT
BEGIN:VEVENT
UID:rv-601663@ygametime.com
DTSTAMP:20260425T180000Z
DTSTART;TZID=America/Los_Angeles:20260425T110000
DURATION:PT0H75M0S
SUMMARY:Fire Balls vs Mighty Eagles 
DESCRIPTION:5th - 6th Grade | Volleyball\nRogue Valley Family YMCA\n
URL;VALUE=URI:https://ygametime.com/branch/rv/sports/2026-spring-volleyball/10796/?utm_medium=calendar&utm_source=team_cal&utm_content=league_url#game-601663
LOCATION:Hedrick Middle School Gym (Court 1)
BEGIN:VALARM
TRIGGER:-P2H
ACTION:DISPLAY
DESCRIPTION:Fire Balls vs Mighty Eagles 
END:VALARM
END:VEVENT
BEGIN:VEVENT
UID:rv-601668@ygametime.com
DTSTAMP:20260502T164500Z
DTSTART;TZID=America/Los_Angeles:20260502T094500
DURATION:PT0H75M0S
SUMMARY:Fire Balls vs Aces
DESCRIPTION:5th - 6th Grade | Volleyball\nRogue Valley Family YMCA\n
URL;VALUE=URI:https://ygametime.com/branch/rv/sports/2026-spring-volleyball/10796/?utm_medium=calendar&utm_source=team_cal&utm_content=league_url#game-601668
LOCATION:Hedrick Middle School Gym (Court 1)
BEGIN:VALARM
TRIGGER:-P2H
ACTION:DISPLAY
DESCRIPTION:Fire Balls vs Aces
END:VALARM
END:VEVENT
BEGIN:VEVENT
UID:rv-601675@ygametime.com
DTSTAMP:20260509T180000Z
DTSTART;TZID=America/Los_Angeles:20260509T110000
DURATION:PT0H75M0S
SUMMARY:The Flares vs Fire Balls
DESCRIPTION:5th - 6th Grade | Volleyball\nRogue Valley Family YMCA\n
URL;VALUE=URI:https://ygametime.com/branch/rv/sports/2026-spring-volleyball/10796/?utm_medium=calendar&utm_source=team_cal&utm_content=league_url#game-601675
LOCATION:Hedrick Middle School Gym (Court 1)
BEGIN:VALARM
TRIGGER:-P2H
ACTION:DISPLAY
DESCRIPTION:The Flares vs Fire Balls
END:VALARM
END:VEVENT
BEGIN:VEVENT
UID:rv-601682@ygametime.com
DTSTAMP:20260516T191500Z
DTSTART;TZID=America/Los_Angeles:20260516T121500
DURATION:PT0H75M0S
SUMMARY:Fire Balls vs Dream Team
DESCRIPTION:5th - 6th Grade | Volleyball\nRogue Valley Family YMCA\n
URL;VALUE=URI:https://ygametime.com/branch/rv/sports/2026-spring-volleyball/10796/?utm_medium=calendar&utm_source=team_cal&utm_content=league_url#game-601682
LOCATION:Hedrick Middle School Gym (Court 2)
BEGIN:VALARM
TRIGGER:-P2H
ACTION:DISPLAY
DESCRIPTION:Fire Balls vs Dream Team
END:VALARM
END:VEVENT
END:VCALENDAR

