BEGIN:VCALENDAR
VERSION:2.0
PRODID:-//YGAMETIME.com//YGT iCal Creator//EN
METHOD:PUBLISH
X-PUBLISHED-TTL:PT6H
REFRESH-INTERVAL;VALUE=DURATION:PT6H
CALSCALE:GREGORIAN
X-WR-CALNAME:YGAMETIME CALENDAR
BEGIN:VEVENT
UID:rv-601659@ygametime.com
DTSTAMP:20260418T203000Z
DTSTART;TZID=America/Los_Angeles:20260418T133000
DURATION:PT0H75M0S
SUMMARY:Court Queens  vs Pink Pups
DESCRIPTION:5th - 6th Grade | Volleyball\nRogue Valley Family YMCA\n
URL;VALUE=URI:https://ygametime.com/branch/rv/sports/2026-spring-volleyball/10796/?utm_medium=calendar&utm_source=team_cal&utm_content=league_url#game-601659
LOCATION:Hedrick Middle School Gym (Court 1)
BEGIN:VALARM
TRIGGER:-P2H
ACTION:DISPLAY
DESCRIPTION:Court Queens  vs Pink Pups
END:VALARM
END:VEVENT
BEGIN:VEVENT
UID:rv-601665@ygametime.com
DTSTAMP:20260425T203000Z
DTSTART;TZID=America/Los_Angeles:20260425T133000
DURATION:PT0H75M0S
SUMMARY:Pepper and Spice  vs Court Queens 
DESCRIPTION:5th - 6th Grade | Volleyball\nRogue Valley Family YMCA\n
URL;VALUE=URI:https://ygametime.com/branch/rv/sports/2026-spring-volleyball/10796/?utm_medium=calendar&utm_source=team_cal&utm_content=league_url#game-601665
LOCATION:Hedrick Middle School Gym (Court 1)
BEGIN:VALARM
TRIGGER:-P2H
ACTION:DISPLAY
DESCRIPTION:Pepper and Spice  vs Court Queens 
END:VALARM
END:VEVENT
BEGIN:VEVENT
UID:rv-601672@ygametime.com
DTSTAMP:20260502T203000Z
DTSTART;TZID=America/Los_Angeles:20260502T133000
DURATION:PT0H75M0S
SUMMARY:Court Queens  vs Pink Panthers
DESCRIPTION:5th - 6th Grade | Volleyball\nRogue Valley Family YMCA\n
URL;VALUE=URI:https://ygametime.com/branch/rv/sports/2026-spring-volleyball/10796/?utm_medium=calendar&utm_source=team_cal&utm_content=league_url#game-601672
LOCATION:Hedrick Middle School Gym (Court 1)
BEGIN:VALARM
TRIGGER:-P2H
ACTION:DISPLAY
DESCRIPTION:Court Queens  vs Pink Panthers
END:VALARM
END:VEVENT
BEGIN:VEVENT
UID:rv-601677@ygametime.com
DTSTAMP:20260509T191500Z
DTSTART;TZID=America/Los_Angeles:20260509T121500
DURATION:PT0H75M0S
SUMMARY:Court Queens  vs Mighty Eagles 
DESCRIPTION:5th - 6th Grade | Volleyball\nRogue Valley Family YMCA\n
URL;VALUE=URI:https://ygametime.com/branch/rv/sports/2026-spring-volleyball/10796/?utm_medium=calendar&utm_source=team_cal&utm_content=league_url#game-601677
LOCATION:Hedrick Middle School Gym (Court 1)
BEGIN:VALARM
TRIGGER:-P2H
ACTION:DISPLAY
DESCRIPTION:Court Queens  vs Mighty Eagles 
END:VALARM
END:VEVENT
BEGIN:VEVENT
UID:rv-601680@ygametime.com
DTSTAMP:20260516T180000Z
DTSTART;TZID=America/Los_Angeles:20260516T110000
DURATION:PT0H75M0S
SUMMARY:Aces vs Court Queens 
DESCRIPTION:5th - 6th Grade | Volleyball\nRogue Valley Family YMCA\n
URL;VALUE=URI:https://ygametime.com/branch/rv/sports/2026-spring-volleyball/10796/?utm_medium=calendar&utm_source=team_cal&utm_content=league_url#game-601680
LOCATION:Hedrick Middle School Gym (Court 1)
BEGIN:VALARM
TRIGGER:-P2H
ACTION:DISPLAY
DESCRIPTION:Aces vs Court Queens 
END:VALARM
END:VEVENT
END:VCALENDAR

