BEGIN:VCALENDAR
VERSION:2.0
PRODID:-//YGAMETIME.com//YGT iCal Creator//EN
METHOD:PUBLISH
X-PUBLISHED-TTL:PT6H
REFRESH-INTERVAL;VALUE=DURATION:PT6H
CALSCALE:GREGORIAN
X-WR-CALNAME:YGAMETIME CALENDAR
BEGIN:VEVENT
UID:rv-601660@ygametime.com
DTSTAMP:20260418T203000Z
DTSTART;TZID=America/Los_Angeles:20260418T133000
DURATION:PT0H75M0S
SUMMARY:Bumpin Baddies  vs Pink Panthers
DESCRIPTION:5th - 6th Grade | Volleyball\nRogue Valley Family YMCA\n
URL;VALUE=URI:https://ygametime.com/branch/rv/sports/2026-spring-volleyball/10796/?utm_medium=calendar&utm_source=team_cal&utm_content=league_url#game-601660
LOCATION:Hedrick Middle School Gym (Court 2)
BEGIN:VALARM
TRIGGER:-P2H
ACTION:DISPLAY
DESCRIPTION:Bumpin Baddies  vs Pink Panthers
END:VALARM
END:VEVENT
BEGIN:VEVENT
UID:rv-601666@ygametime.com
DTSTAMP:20260425T203000Z
DTSTART;TZID=America/Los_Angeles:20260425T133000
DURATION:PT0H75M0S
SUMMARY:Pink Panthers vs Pink Pups
DESCRIPTION:5th - 6th Grade | Volleyball\nRogue Valley Family YMCA\n
URL;VALUE=URI:https://ygametime.com/branch/rv/sports/2026-spring-volleyball/10796/?utm_medium=calendar&utm_source=team_cal&utm_content=league_url#game-601666
LOCATION:Hedrick Middle School Gym (Court 2)
BEGIN:VALARM
TRIGGER:-P2H
ACTION:DISPLAY
DESCRIPTION:Pink Panthers vs Pink Pups
END:VALARM
END:VEVENT
BEGIN:VEVENT
UID:rv-601672@ygametime.com
DTSTAMP:20260502T203000Z
DTSTART;TZID=America/Los_Angeles:20260502T133000
DURATION:PT0H75M0S
SUMMARY:Court Queens  vs Pink Panthers
DESCRIPTION:5th - 6th Grade | Volleyball\nRogue Valley Family YMCA\n
URL;VALUE=URI:https://ygametime.com/branch/rv/sports/2026-spring-volleyball/10796/?utm_medium=calendar&utm_source=team_cal&utm_content=league_url#game-601672
LOCATION:Hedrick Middle School Gym (Court 1)
BEGIN:VALARM
TRIGGER:-P2H
ACTION:DISPLAY
DESCRIPTION:Court Queens  vs Pink Panthers
END:VALARM
END:VEVENT
BEGIN:VEVENT
UID:rv-601678@ygametime.com
DTSTAMP:20260509T203000Z
DTSTART;TZID=America/Los_Angeles:20260509T133000
DURATION:PT0H75M0S
SUMMARY:Pink Panthers vs Pepper and Spice 
DESCRIPTION:5th - 6th Grade | Volleyball\nRogue Valley Family YMCA\n
URL;VALUE=URI:https://ygametime.com/branch/rv/sports/2026-spring-volleyball/10796/?utm_medium=calendar&utm_source=team_cal&utm_content=league_url#game-601678
LOCATION:Hedrick Middle School Gym (Court 1)
BEGIN:VALARM
TRIGGER:-P2H
ACTION:DISPLAY
DESCRIPTION:Pink Panthers vs Pepper and Spice 
END:VALARM
END:VEVENT
BEGIN:VEVENT
UID:rv-601684@ygametime.com
DTSTAMP:20260516T203000Z
DTSTART;TZID=America/Los_Angeles:20260516T133000
DURATION:PT0H75M0S
SUMMARY:The Flares vs Pink Panthers
DESCRIPTION:5th - 6th Grade | Volleyball\nRogue Valley Family YMCA\n
URL;VALUE=URI:https://ygametime.com/branch/rv/sports/2026-spring-volleyball/10796/?utm_medium=calendar&utm_source=team_cal&utm_content=league_url#game-601684
LOCATION:Hedrick Middle School Gym (Court 1)
BEGIN:VALARM
TRIGGER:-P2H
ACTION:DISPLAY
DESCRIPTION:The Flares vs Pink Panthers
END:VALARM
END:VEVENT
END:VCALENDAR

