BEGIN:VCALENDAR
VERSION:2.0
PRODID:-//YGAMETIME.com//YGT iCal Creator//EN
METHOD:PUBLISH
X-PUBLISHED-TTL:PT6H
REFRESH-INTERVAL;VALUE=DURATION:PT6H
CALSCALE:GREGORIAN
X-WR-CALNAME:YGAMETIME CALENDAR
BEGIN:VEVENT
UID:rv-464148@ygametime.com
DTSTAMP:20260418T164500Z
DTSTART;TZID=America/Los_Angeles:20260418T094500
DURATION:PT0H75M0S
SUMMARY:Sugar and Spikes  vs Spike Sisters
DESCRIPTION:3rd - 4th Grade | Volleyball\nRogue Valley Family YMCA\n
URL;VALUE=URI:https://ygametime.com/branch/rv/sports/2026-spring-volleyball/10797/?utm_medium=calendar&utm_source=team_cal&utm_content=league_url#game-464148
LOCATION:Hedrick Middle School Gym (Court 2)
BEGIN:VALARM
TRIGGER:-P2H
ACTION:DISPLAY
DESCRIPTION:Sugar and Spikes  vs Spike Sisters
END:VALARM
END:VEVENT
BEGIN:VEVENT
UID:rv-601605@ygametime.com
DTSTAMP:20260425T191500Z
DTSTART;TZID=America/Los_Angeles:20260425T121500
DURATION:PT0H75M0S
SUMMARY:Mission Unblockable vs Sugar and Spikes 
DESCRIPTION:3rd - 4th Grade | Volleyball\nRogue Valley Family YMCA\n
URL;VALUE=URI:https://ygametime.com/branch/rv/sports/2026-spring-volleyball/10797/?utm_medium=calendar&utm_source=team_cal&utm_content=league_url#game-601605
LOCATION:Hedrick Middle School Gym (Court 2)
BEGIN:VALARM
TRIGGER:-P2H
ACTION:DISPLAY
DESCRIPTION:Mission Unblockable vs Sugar and Spikes 
END:VALARM
END:VEVENT
BEGIN:VEVENT
UID:rv-464153@ygametime.com
DTSTAMP:20260502T191500Z
DTSTART;TZID=America/Los_Angeles:20260502T121500
DURATION:PT0H75M0S
SUMMARY:Lil Critters vs Sugar and Spikes 
DESCRIPTION:3rd - 4th Grade | Volleyball\nRogue Valley Family YMCA\n
URL;VALUE=URI:https://ygametime.com/branch/rv/sports/2026-spring-volleyball/10797/?utm_medium=calendar&utm_source=team_cal&utm_content=league_url#game-464153
LOCATION:Hedrick Middle School Gym (Court 2)
BEGIN:VALARM
TRIGGER:-P2H
ACTION:DISPLAY
DESCRIPTION:Lil Critters vs Sugar and Spikes 
END:VALARM
END:VEVENT
BEGIN:VEVENT
UID:rv-464154@ygametime.com
DTSTAMP:20260509T164500Z
DTSTART;TZID=America/Los_Angeles:20260509T094500
DURATION:PT0H75M0S
SUMMARY:Sugar and Spikes  vs The Stars
DESCRIPTION:3rd - 4th Grade | Volleyball\nRogue Valley Family YMCA\n
URL;VALUE=URI:https://ygametime.com/branch/rv/sports/2026-spring-volleyball/10797/?utm_medium=calendar&utm_source=team_cal&utm_content=league_url#game-464154
LOCATION:Hedrick Middle School Gym (Court 2)
BEGIN:VALARM
TRIGGER:-P2H
ACTION:DISPLAY
DESCRIPTION:Sugar and Spikes  vs The Stars
END:VALARM
END:VEVENT
BEGIN:VEVENT
UID:rv-464156@ygametime.com
DTSTAMP:20260516T180000Z
DTSTART;TZID=America/Los_Angeles:20260516T110000
DURATION:PT0H75M0S
SUMMARY:Thunder Spikes vs Sugar and Spikes 
DESCRIPTION:3rd - 4th Grade | Volleyball\nRogue Valley Family YMCA\n
URL;VALUE=URI:https://ygametime.com/branch/rv/sports/2026-spring-volleyball/10797/?utm_medium=calendar&utm_source=team_cal&utm_content=league_url#game-464156
LOCATION:Hedrick Middle School Gym (Court 2)
BEGIN:VALARM
TRIGGER:-P2H
ACTION:DISPLAY
DESCRIPTION:Thunder Spikes vs Sugar and Spikes 
END:VALARM
END:VEVENT
END:VCALENDAR

