BEGIN:VCALENDAR
VERSION:2.0
PRODID:-//YGAMETIME.com//YGT iCal Creator//EN
METHOD:PUBLISH
X-PUBLISHED-TTL:PT6H
REFRESH-INTERVAL;VALUE=DURATION:PT6H
CALSCALE:GREGORIAN
X-WR-CALNAME:YGAMETIME CALENDAR
BEGIN:VEVENT
UID:rv-464149@ygametime.com
DTSTAMP:20260418T191500Z
DTSTART;TZID=America/Los_Angeles:20260418T121500
DURATION:PT0H75M0S
SUMMARY:The Stars vs Mission Unblockable
DESCRIPTION:3rd - 4th Grade | Volleyball\nRogue Valley Family YMCA\n
URL;VALUE=URI:https://ygametime.com/branch/rv/sports/2026-spring-volleyball/10797/?utm_medium=calendar&utm_source=team_cal&utm_content=league_url#game-464149
LOCATION:Hedrick Middle School Gym (Court 2)
BEGIN:VALARM
TRIGGER:-P2H
ACTION:DISPLAY
DESCRIPTION:The Stars vs Mission Unblockable
END:VALARM
END:VEVENT
BEGIN:VEVENT
UID:rv-601605@ygametime.com
DTSTAMP:20260425T191500Z
DTSTART;TZID=America/Los_Angeles:20260425T121500
DURATION:PT0H75M0S
SUMMARY:Mission Unblockable vs Sugar and Spikes 
DESCRIPTION:3rd - 4th Grade | Volleyball\nRogue Valley Family YMCA\n
URL;VALUE=URI:https://ygametime.com/branch/rv/sports/2026-spring-volleyball/10797/?utm_medium=calendar&utm_source=team_cal&utm_content=league_url#game-601605
LOCATION:Hedrick Middle School Gym (Court 2)
BEGIN:VALARM
TRIGGER:-P2H
ACTION:DISPLAY
DESCRIPTION:Mission Unblockable vs Sugar and Spikes 
END:VALARM
END:VEVENT
BEGIN:VEVENT
UID:rv-464152@ygametime.com
DTSTAMP:20260502T203000Z
DTSTART;TZID=America/Los_Angeles:20260502T133000
DURATION:PT0H75M0S
SUMMARY:Thunder Spikes vs Mission Unblockable
DESCRIPTION:3rd - 4th Grade | Volleyball\nRogue Valley Family YMCA\n
URL;VALUE=URI:https://ygametime.com/branch/rv/sports/2026-spring-volleyball/10797/?utm_medium=calendar&utm_source=team_cal&utm_content=league_url#game-464152
LOCATION:Hedrick Middle School Gym (Court 2)
BEGIN:VALARM
TRIGGER:-P2H
ACTION:DISPLAY
DESCRIPTION:Thunder Spikes vs Mission Unblockable
END:VALARM
END:VEVENT
BEGIN:VEVENT
UID:rv-464155@ygametime.com
DTSTAMP:20260509T203000Z
DTSTART;TZID=America/Los_Angeles:20260509T133000
DURATION:PT0H75M0S
SUMMARY:Mission Unblockable vs Lil Critters
DESCRIPTION:3rd - 4th Grade | Volleyball\nRogue Valley Family YMCA\n
URL;VALUE=URI:https://ygametime.com/branch/rv/sports/2026-spring-volleyball/10797/?utm_medium=calendar&utm_source=team_cal&utm_content=league_url#game-464155
LOCATION:Hedrick Middle School Gym (Court 2)
BEGIN:VALARM
TRIGGER:-P2H
ACTION:DISPLAY
DESCRIPTION:Mission Unblockable vs Lil Critters
END:VALARM
END:VEVENT
BEGIN:VEVENT
UID:rv-464157@ygametime.com
DTSTAMP:20260516T153000Z
DTSTART;TZID=America/Los_Angeles:20260516T083000
DURATION:PT0H75M0S
SUMMARY:Spike Sisters vs Mission Unblockable
DESCRIPTION:3rd - 4th Grade | Volleyball\nRogue Valley Family YMCA\n
URL;VALUE=URI:https://ygametime.com/branch/rv/sports/2026-spring-volleyball/10797/?utm_medium=calendar&utm_source=team_cal&utm_content=league_url#game-464157
LOCATION:Hedrick Middle School Gym (Court 1)
BEGIN:VALARM
TRIGGER:-P2H
ACTION:DISPLAY
DESCRIPTION:Spike Sisters vs Mission Unblockable
END:VALARM
END:VEVENT
END:VCALENDAR

