BEGIN:VCALENDAR
VERSION:2.0
PRODID:-//YGAMETIME.com//YGT iCal Creator//EN
METHOD:PUBLISH
X-PUBLISHED-TTL:PT6H
REFRESH-INTERVAL;VALUE=DURATION:PT6H
CALSCALE:GREGORIAN
X-WR-CALNAME:YGAMETIME CALENDAR
BEGIN:VEVENT
UID:rv-464148@ygametime.com
DTSTAMP:20260418T164500Z
DTSTART;TZID=America/Los_Angeles:20260418T094500
DURATION:PT0H75M0S
SUMMARY:Sugar and Spikes  vs Spike Sisters
DESCRIPTION:3rd - 4th Grade | Volleyball\nRogue Valley Family YMCA\n
URL;VALUE=URI:https://ygametime.com/branch/rv/sports/2026-spring-volleyball/10797/?utm_medium=calendar&utm_source=team_cal&utm_content=league_url#game-464148
LOCATION:Hedrick Middle School Gym (Court 2)
BEGIN:VALARM
TRIGGER:-P2H
ACTION:DISPLAY
DESCRIPTION:Sugar and Spikes  vs Spike Sisters
END:VALARM
END:VEVENT
BEGIN:VEVENT
UID:rv-464150@ygametime.com
DTSTAMP:20260425T180000Z
DTSTART;TZID=America/Los_Angeles:20260425T110000
DURATION:PT0H75M0S
SUMMARY:Spike Sisters vs Lil Critters
DESCRIPTION:3rd - 4th Grade | Volleyball\nRogue Valley Family YMCA\n
URL;VALUE=URI:https://ygametime.com/branch/rv/sports/2026-spring-volleyball/10797/?utm_medium=calendar&utm_source=team_cal&utm_content=league_url#game-464150
LOCATION:Hedrick Middle School Gym (Court 2)
BEGIN:VALARM
TRIGGER:-P2H
ACTION:DISPLAY
DESCRIPTION:Spike Sisters vs Lil Critters
END:VALARM
END:VEVENT
BEGIN:VEVENT
UID:rv-601606@ygametime.com
DTSTAMP:20260502T180000Z
DTSTART;TZID=America/Los_Angeles:20260502T110000
DURATION:PT0H75M0S
SUMMARY:The Stars vs Spike Sisters
DESCRIPTION:3rd - 4th Grade | Volleyball\nRogue Valley Family YMCA\n
URL;VALUE=URI:https://ygametime.com/branch/rv/sports/2026-spring-volleyball/10797/?utm_medium=calendar&utm_source=team_cal&utm_content=league_url#game-601606
LOCATION:Hedrick Middle School Gym (Court 2)
BEGIN:VALARM
TRIGGER:-P2H
ACTION:DISPLAY
DESCRIPTION:The Stars vs Spike Sisters
END:VALARM
END:VEVENT
BEGIN:VEVENT
UID:rv-601607@ygametime.com
DTSTAMP:20260509T191500Z
DTSTART;TZID=America/Los_Angeles:20260509T121500
DURATION:PT0H75M0S
SUMMARY:Spike Sisters vs Thunder Spikes
DESCRIPTION:3rd - 4th Grade | Volleyball\nRogue Valley Family YMCA\n
URL;VALUE=URI:https://ygametime.com/branch/rv/sports/2026-spring-volleyball/10797/?utm_medium=calendar&utm_source=team_cal&utm_content=league_url#game-601607
LOCATION:Hedrick Middle School Gym (Court 2)
BEGIN:VALARM
TRIGGER:-P2H
ACTION:DISPLAY
DESCRIPTION:Spike Sisters vs Thunder Spikes
END:VALARM
END:VEVENT
BEGIN:VEVENT
UID:rv-464157@ygametime.com
DTSTAMP:20260516T153000Z
DTSTART;TZID=America/Los_Angeles:20260516T083000
DURATION:PT0H75M0S
SUMMARY:Spike Sisters vs Mission Unblockable
DESCRIPTION:3rd - 4th Grade | Volleyball\nRogue Valley Family YMCA\n
URL;VALUE=URI:https://ygametime.com/branch/rv/sports/2026-spring-volleyball/10797/?utm_medium=calendar&utm_source=team_cal&utm_content=league_url#game-464157
LOCATION:Hedrick Middle School Gym (Court 1)
BEGIN:VALARM
TRIGGER:-P2H
ACTION:DISPLAY
DESCRIPTION:Spike Sisters vs Mission Unblockable
END:VALARM
END:VEVENT
END:VCALENDAR

