BEGIN:VCALENDAR
VERSION:2.0
PRODID:-//YGAMETIME.com//YGT iCal Creator//EN
METHOD:PUBLISH
X-PUBLISHED-TTL:PT6H
REFRESH-INTERVAL;VALUE=DURATION:PT6H
CALSCALE:GREGORIAN
X-WR-CALNAME:YGAMETIME CALENDAR
BEGIN:VEVENT
UID:rv-599371@ygametime.com
DTSTAMP:20260418T170000Z
DTSTART;TZID=America/Los_Angeles:20260418T100000
DURATION:PT0H120M0S
SUMMARY:Ashland YMCA Track vs Medford YMCA Track
DESCRIPTION:K-6th - Coed | Track & Field\nRogue Valley Family YMCA\n
URL;VALUE=URI:https://ygametime.com/branch/rv/sports/2026-spring-track-field/19526/?utm_medium=calendar&utm_source=team_cal&utm_content=league_url#game-599371
LOCATION:Hedrick Middle School Track 
BEGIN:VALARM
TRIGGER:-P2H
ACTION:DISPLAY
DESCRIPTION:Ashland YMCA Track vs Medford YMCA Track
END:VALARM
END:VEVENT
BEGIN:VEVENT
UID:rv-599372@ygametime.com
DTSTAMP:20260425T170000Z
DTSTART;TZID=America/Los_Angeles:20260425T100000
DURATION:PT0H120M0S
SUMMARY:Ashland YMCA Track vs Medford YMCA Track
DESCRIPTION:K-6th - Coed | Track & Field\nRogue Valley Family YMCA\n
URL;VALUE=URI:https://ygametime.com/branch/rv/sports/2026-spring-track-field/19526/?utm_medium=calendar&utm_source=team_cal&utm_content=league_url#game-599372
LOCATION:Hedrick Middle School Track 
BEGIN:VALARM
TRIGGER:-P2H
ACTION:DISPLAY
DESCRIPTION:Ashland YMCA Track vs Medford YMCA Track
END:VALARM
END:VEVENT
BEGIN:VEVENT
UID:rv-599373@ygametime.com
DTSTAMP:20260502T170000Z
DTSTART;TZID=America/Los_Angeles:20260502T100000
DURATION:PT0H120M0S
SUMMARY:Ashland YMCA Track vs Medford YMCA Track
DESCRIPTION:K-6th - Coed | Track & Field\nRogue Valley Family YMCA\n
URL;VALUE=URI:https://ygametime.com/branch/rv/sports/2026-spring-track-field/19526/?utm_medium=calendar&utm_source=team_cal&utm_content=league_url#game-599373
LOCATION:McLoughlin Middle School Track
BEGIN:VALARM
TRIGGER:-P2H
ACTION:DISPLAY
DESCRIPTION:Ashland YMCA Track vs Medford YMCA Track
END:VALARM
END:VEVENT
BEGIN:VEVENT
UID:rv-599374@ygametime.com
DTSTAMP:20260509T170000Z
DTSTART;TZID=America/Los_Angeles:20260509T100000
DURATION:PT0H120M0S
SUMMARY:Ashland YMCA Track vs Medford YMCA Track
DESCRIPTION:K-6th - Coed | Track & Field\nRogue Valley Family YMCA\n
URL;VALUE=URI:https://ygametime.com/branch/rv/sports/2026-spring-track-field/19526/?utm_medium=calendar&utm_source=team_cal&utm_content=league_url#game-599374
LOCATION:McLoughlin Middle School Track
BEGIN:VALARM
TRIGGER:-P2H
ACTION:DISPLAY
DESCRIPTION:Ashland YMCA Track vs Medford YMCA Track
END:VALARM
END:VEVENT
BEGIN:VEVENT
UID:rv-599375@ygametime.com
DTSTAMP:20260516T170000Z
DTSTART;TZID=America/Los_Angeles:20260516T100000
DURATION:PT0H120M0S
SUMMARY:Ashland YMCA Track vs Medford YMCA Track
DESCRIPTION:K-6th - Coed | Track & Field\nRogue Valley Family YMCA\n
URL;VALUE=URI:https://ygametime.com/branch/rv/sports/2026-spring-track-field/19526/?utm_medium=calendar&utm_source=team_cal&utm_content=league_url#game-599375
LOCATION:McLoughlin Middle School Track
BEGIN:VALARM
TRIGGER:-P2H
ACTION:DISPLAY
DESCRIPTION:Ashland YMCA Track vs Medford YMCA Track
END:VALARM
END:VEVENT
END:VCALENDAR

