BEGIN:VCALENDAR
VERSION:2.0
PRODID:-//YGAMETIME.com//YGT iCal Creator//EN
METHOD:PUBLISH
X-PUBLISHED-TTL:PT6H
REFRESH-INTERVAL;VALUE=DURATION:PT6H
CALSCALE:GREGORIAN
X-WR-CALNAME:YGAMETIME CALENDAR
BEGIN:VTIMEZONE
TZID:America/Chicago
X-LIC-LOCATION:America/Chicago
BEGIN:DAYLIGHT
TZOFFSETFROM:-0600
TZOFFSETTO:-0500
TZNAME:CDT
DTSTART:19700308T020000
RRULE:FREQ=YEARLY;BYMONTH=3;BYDAY=2SU
END:DAYLIGHT
BEGIN:STANDARD
TZOFFSETFROM:-0500
TZOFFSETTO:-0600
TZNAME:CST
DTSTART:19701101T020000
RRULE:FREQ=YEARLY;BYMONTH=11;BYDAY=1SU
END:STANDARD
END:VTIMEZONE
BEGIN:VEVENT
UID:semones-263055@ygametime.com
DTSTAMP:20211211T150000Z
DTSTART;TZID=America/Chicago:20211211T090000
DURATION:PT0H60M0S
SUMMARY:Spartan Sparklers - White ( J. Johnson) vs CKS Crusaders 1 ( C. Fayen)
DESCRIPTION:Kinder Girls | Basketball\nSemones Family YMCA\n
URL;VALUE=URI:https://ygametime.com/branch/semones/sports/2021-winter-basketball/11394/?utm_medium=calendar&utm_source=team_cal&utm_content=league_url#game-263055
LOCATION:Semones Family YMCA - Court 1
BEGIN:VALARM
TRIGGER:-P2H
ACTION:DISPLAY
DESCRIPTION:Spartan Sparklers - White ( J. Johnson) vs CKS Crusaders 1 ( C. Fayen)
END:VALARM
END:VEVENT
BEGIN:VEVENT
UID:semones-263066@ygametime.com
DTSTAMP:20211218T160000Z
DTSTART;TZID=America/Chicago:20211218T100000
DURATION:PT0H60M0S
SUMMARY:CKS Crusaders 1 ( C. Fayen) vs Flower Power ( S. Wibom)
DESCRIPTION:Kinder Girls | Basketball\nSemones Family YMCA\n
URL;VALUE=URI:https://ygametime.com/branch/semones/sports/2021-winter-basketball/11394/?utm_medium=calendar&utm_source=team_cal&utm_content=league_url#game-263066
LOCATION:Semones Family YMCA - Court 1
BEGIN:VALARM
TRIGGER:-P2H
ACTION:DISPLAY
DESCRIPTION:CKS Crusaders 1 ( C. Fayen) vs Flower Power ( S. Wibom)
END:VALARM
END:VEVENT
BEGIN:VEVENT
UID:semones-263071@ygametime.com
DTSTAMP:20220108T140000Z
DTSTART;TZID=America/Chicago:20220108T080000
DURATION:PT0H60M0S
SUMMARY:Lamplighter Lightning (B. Haverhals) vs CKS Crusaders 1 ( C. Fayen)
DESCRIPTION:Kinder Girls | Basketball\nSemones Family YMCA\n
URL;VALUE=URI:https://ygametime.com/branch/semones/sports/2021-winter-basketball/11394/?utm_medium=calendar&utm_source=team_cal&utm_content=league_url#game-263071
LOCATION:Semones Family YMCA - Court 1
BEGIN:VALARM
TRIGGER:-P2H
ACTION:DISPLAY
DESCRIPTION:Lamplighter Lightning (B. Haverhals) vs CKS Crusaders 1 ( C. Fayen)
END:VALARM
END:VEVENT
BEGIN:VEVENT
UID:semones-263076@ygametime.com
DTSTAMP:20220115T160000Z
DTSTART;TZID=America/Chicago:20220115T100000
DURATION:PT0H60M0S
SUMMARY:CKS Crusaders 1 ( C. Fayen) vs DIS- Kinder Girls (Coach Mitchell)
DESCRIPTION:Kinder Girls | Basketball\nSemones Family YMCA\n
URL;VALUE=URI:https://ygametime.com/branch/semones/sports/2021-winter-basketball/11394/?utm_medium=calendar&utm_source=team_cal&utm_content=league_url#game-263076
LOCATION:Semones Family YMCA - Court 1
BEGIN:VALARM
TRIGGER:-P2H
ACTION:DISPLAY
DESCRIPTION:CKS Crusaders 1 ( C. Fayen) vs DIS- Kinder Girls (Coach Mitchell)
END:VALARM
END:VEVENT
BEGIN:VEVENT
UID:semones-263086@ygametime.com
DTSTAMP:20220129T150000Z
DTSTART;TZID=America/Chicago:20220129T090000
DURATION:PT0H60M0S
SUMMARY:CKS Crusaders 1 ( C. Fayen) vs Zombies (C. Vivero)
DESCRIPTION:Kinder Girls | Basketball\nSemones Family YMCA\n
URL;VALUE=URI:https://ygametime.com/branch/semones/sports/2021-winter-basketball/11394/?utm_medium=calendar&utm_source=team_cal&utm_content=league_url#game-263086
LOCATION:Semones Family YMCA - Court 1
BEGIN:VALARM
TRIGGER:-P2H
ACTION:DISPLAY
DESCRIPTION:CKS Crusaders 1 ( C. Fayen) vs Zombies (C. Vivero)
END:VALARM
END:VEVENT
BEGIN:VEVENT
UID:semones-263091@ygametime.com
DTSTAMP:20220212T140000Z
DTSTART;TZID=America/Chicago:20220212T080000
DURATION:PT0H60M0S
SUMMARY:Spartan Sparklers (D. Smelser) vs CKS Crusaders 1 ( C. Fayen)
DESCRIPTION:Kinder Girls | Basketball\nSemones Family YMCA\n
URL;VALUE=URI:https://ygametime.com/branch/semones/sports/2021-winter-basketball/11394/?utm_medium=calendar&utm_source=team_cal&utm_content=league_url#game-263091
LOCATION:Semones Family YMCA - Court 1
BEGIN:VALARM
TRIGGER:-P2H
ACTION:DISPLAY
DESCRIPTION:Spartan Sparklers (D. Smelser) vs CKS Crusaders 1 ( C. Fayen)
END:VALARM
END:VEVENT
BEGIN:VEVENT
UID:semones-263102@ygametime.com
DTSTAMP:20220213T180000Z
DTSTART;TZID=America/Chicago:20220213T120000
DURATION:PT0H60M0S
SUMMARY:CKS Crusaders 1 ( C. Fayen) vs JCC Kinder Girls (K. Koshkin)
DESCRIPTION:Kinder Girls | Basketball\nSemones Family YMCA\n
URL;VALUE=URI:https://ygametime.com/branch/semones/sports/2021-winter-basketball/11394/?utm_medium=calendar&utm_source=team_cal&utm_content=league_url#game-263102
LOCATION:JCC of Dallas - Court 1
BEGIN:VALARM
TRIGGER:-P2H
ACTION:DISPLAY
DESCRIPTION:CKS Crusaders 1 ( C. Fayen) vs JCC Kinder Girls (K. Koshkin)
END:VALARM
END:VEVENT
END:VCALENDAR

