BEGIN:VCALENDAR
VERSION:2.0
PRODID:-//YGAMETIME.com//YGT iCal Creator//EN
METHOD:PUBLISH
X-PUBLISHED-TTL:PT6H
REFRESH-INTERVAL;VALUE=DURATION:PT6H
CALSCALE:GREGORIAN
X-WR-CALNAME:YGAMETIME CALENDAR
BEGIN:VTIMEZONE
TZID:America/Chicago
X-LIC-LOCATION:America/Chicago
BEGIN:DAYLIGHT
TZOFFSETFROM:-0600
TZOFFSETTO:-0500
TZNAME:CDT
DTSTART:19700308T020000
RRULE:FREQ=YEARLY;BYMONTH=3;BYDAY=2SU
END:DAYLIGHT
BEGIN:STANDARD
TZOFFSETFROM:-0500
TZOFFSETTO:-0600
TZNAME:CST
DTSTART:19701101T020000
RRULE:FREQ=YEARLY;BYMONTH=11;BYDAY=1SU
END:STANDARD
END:VTIMEZONE
BEGIN:VEVENT
UID:semones-263057@ygametime.com
DTSTAMP:20211211T140000Z
DTSTART;TZID=America/Chicago:20211211T080000
DURATION:PT0H60M0S
SUMMARY:GSES Shooting Stars (C. Flume) vs Lamplighter Lightning (B. Haverhals)
DESCRIPTION:Kinder Girls | Basketball\nSemones Family YMCA\n
URL;VALUE=URI:https://ygametime.com/branch/semones/sports/2021-winter-basketball/11394/?utm_medium=calendar&utm_source=team_cal&utm_content=league_url#game-263057
LOCATION:Semones Family YMCA - Court 1
BEGIN:VALARM
TRIGGER:-P2H
ACTION:DISPLAY
DESCRIPTION:GSES Shooting Stars (C. Flume) vs Lamplighter Lightning (B. Haverhals)
END:VALARM
END:VEVENT
BEGIN:VEVENT
UID:semones-263062@ygametime.com
DTSTAMP:20211218T140000Z
DTSTART;TZID=America/Chicago:20211218T080000
DURATION:PT0H60M0S
SUMMARY:CKS Crusaders 2 ( B. Walton) vs GSES Shooting Stars (C. Flume)
DESCRIPTION:Kinder Girls | Basketball\nSemones Family YMCA\n
URL;VALUE=URI:https://ygametime.com/branch/semones/sports/2021-winter-basketball/11394/?utm_medium=calendar&utm_source=team_cal&utm_content=league_url#game-263062
LOCATION:Semones Family YMCA - Court 1
BEGIN:VALARM
TRIGGER:-P2H
ACTION:DISPLAY
DESCRIPTION:CKS Crusaders 2 ( B. Walton) vs GSES Shooting Stars (C. Flume)
END:VALARM
END:VEVENT
BEGIN:VEVENT
UID:semones-263098@ygametime.com
DTSTAMP:20220109T180000Z
DTSTART;TZID=America/Chicago:20220109T120000
DURATION:PT0H60M0S
SUMMARY:JCC Kinder Girls (K. Koshkin) vs GSES Shooting Stars (C. Flume)
DESCRIPTION:Kinder Girls | Basketball\nSemones Family YMCA\n
URL;VALUE=URI:https://ygametime.com/branch/semones/sports/2021-winter-basketball/11394/?utm_medium=calendar&utm_source=team_cal&utm_content=league_url#game-263098
LOCATION:JCC of Dallas - Court 1
BEGIN:VALARM
TRIGGER:-P2H
ACTION:DISPLAY
DESCRIPTION:JCC Kinder Girls (K. Koshkin) vs GSES Shooting Stars (C. Flume)
END:VALARM
END:VEVENT
BEGIN:VEVENT
UID:semones-263080@ygametime.com
DTSTAMP:20220122T160000Z
DTSTART;TZID=America/Chicago:20220122T100000
DURATION:PT0H60M0S
SUMMARY:GSES Shooting Stars (C. Flume) vs CKS Crusaders 2 ( B. Walton)
DESCRIPTION:Kinder Girls | Basketball\nSemones Family YMCA\n
URL;VALUE=URI:https://ygametime.com/branch/semones/sports/2021-winter-basketball/11394/?utm_medium=calendar&utm_source=team_cal&utm_content=league_url#game-263080
LOCATION:Semones Family YMCA - Court 1
BEGIN:VALARM
TRIGGER:-P2H
ACTION:DISPLAY
DESCRIPTION:GSES Shooting Stars (C. Flume) vs CKS Crusaders 2 ( B. Walton)
END:VALARM
END:VEVENT
BEGIN:VEVENT
UID:semones-263090@ygametime.com
DTSTAMP:20220129T160000Z
DTSTART;TZID=America/Chicago:20220129T100000
DURATION:PT0H60M0S
SUMMARY:Flower Power ( S. Wibom) vs GSES Shooting Stars (C. Flume)
DESCRIPTION:Kinder Girls | Basketball\nSemones Family YMCA\n
URL;VALUE=URI:https://ygametime.com/branch/semones/sports/2021-winter-basketball/11394/?utm_medium=calendar&utm_source=team_cal&utm_content=league_url#game-263090
LOCATION:Semones Family YMCA - Court 1
BEGIN:VALARM
TRIGGER:-P2H
ACTION:DISPLAY
DESCRIPTION:Flower Power ( S. Wibom) vs GSES Shooting Stars (C. Flume)
END:VALARM
END:VEVENT
BEGIN:VEVENT
UID:semones-263075@ygametime.com
DTSTAMP:20220207T230000Z
DTSTART;TZID=America/Chicago:20220207T170000
DURATION:PT0H60M0S
SUMMARY:ESD Kinder Girls (A. Mountain) vs GSES Shooting Stars (C. Flume)
DESCRIPTION:Kinder Girls | Basketball\nSemones Family YMCA\n
URL;VALUE=URI:https://ygametime.com/branch/semones/sports/2021-winter-basketball/11394/?utm_medium=calendar&utm_source=team_cal&utm_content=league_url#game-263075
LOCATION:Semones Family YMCA - Court 2
BEGIN:VALARM
TRIGGER:-P2H
ACTION:DISPLAY
DESCRIPTION:ESD Kinder Girls (A. Mountain) vs GSES Shooting Stars (C. Flume)
END:VALARM
END:VEVENT
BEGIN:VEVENT
UID:semones-263094@ygametime.com
DTSTAMP:20220212T150000Z
DTSTART;TZID=America/Chicago:20220212T090000
DURATION:PT0H60M0S
SUMMARY:GSES Shooting Stars (C. Flume) vs DIS- Kinder Girls (Coach Mitchell)
DESCRIPTION:Kinder Girls | Basketball\nSemones Family YMCA\n
URL;VALUE=URI:https://ygametime.com/branch/semones/sports/2021-winter-basketball/11394/?utm_medium=calendar&utm_source=team_cal&utm_content=league_url#game-263094
LOCATION:Semones Family YMCA - Court 1
BEGIN:VALARM
TRIGGER:-P2H
ACTION:DISPLAY
DESCRIPTION:GSES Shooting Stars (C. Flume) vs DIS- Kinder Girls (Coach Mitchell)
END:VALARM
END:VEVENT
END:VCALENDAR

