BEGIN:VCALENDAR
VERSION:2.0
PRODID:-//YGAMETIME.com//YGT iCal Creator//EN
METHOD:PUBLISH
X-PUBLISHED-TTL:PT6H
REFRESH-INTERVAL;VALUE=DURATION:PT6H
CALSCALE:GREGORIAN
X-WR-CALNAME:YGAMETIME CALENDAR
BEGIN:VTIMEZONE
TZID:America/Chicago
X-LIC-LOCATION:America/Chicago
BEGIN:DAYLIGHT
TZOFFSETFROM:-0600
TZOFFSETTO:-0500
TZNAME:CDT
DTSTART:19700308T020000
RRULE:FREQ=YEARLY;BYMONTH=3;BYDAY=2SU
END:DAYLIGHT
BEGIN:STANDARD
TZOFFSETFROM:-0500
TZOFFSETTO:-0600
TZNAME:CST
DTSTART:19701101T020000
RRULE:FREQ=YEARLY;BYMONTH=11;BYDAY=1SU
END:STANDARD
END:VTIMEZONE
BEGIN:VEVENT
UID:semones-263058@ygametime.com
DTSTAMP:20211211T170000Z
DTSTART;TZID=America/Chicago:20211211T110000
DURATION:PT0H60M0S
SUMMARY:DIS- Kinder Girls (Coach Mitchell) vs ESD Kinder Girls (A. Mountain)
DESCRIPTION:Kinder Girls | Basketball\nSemones Family YMCA\n
URL;VALUE=URI:https://ygametime.com/branch/semones/sports/2021-winter-basketball/11394/?utm_medium=calendar&utm_source=team_cal&utm_content=league_url#game-263058
LOCATION:Semones Family YMCA - Court 1
BEGIN:VALARM
TRIGGER:-P2H
ACTION:DISPLAY
DESCRIPTION:DIS- Kinder Girls (Coach Mitchell) vs ESD Kinder Girls (A. Mountain)
END:VALARM
END:VEVENT
BEGIN:VEVENT
UID:semones-263064@ygametime.com
DTSTAMP:20211218T170000Z
DTSTART;TZID=America/Chicago:20211218T110000
DURATION:PT0H60M0S
SUMMARY:ESD Kinder Girls (A. Mountain) vs Zombies (C. Vivero)
DESCRIPTION:Kinder Girls | Basketball\nSemones Family YMCA\n
URL;VALUE=URI:https://ygametime.com/branch/semones/sports/2021-winter-basketball/11394/?utm_medium=calendar&utm_source=team_cal&utm_content=league_url#game-263064
LOCATION:Semones Family YMCA - Court 1
BEGIN:VALARM
TRIGGER:-P2H
ACTION:DISPLAY
DESCRIPTION:ESD Kinder Girls (A. Mountain) vs Zombies (C. Vivero)
END:VALARM
END:VEVENT
BEGIN:VEVENT
UID:semones-263070@ygametime.com
DTSTAMP:20220108T170000Z
DTSTART;TZID=America/Chicago:20220108T110000
DURATION:PT0H60M0S
SUMMARY:Withers Wildcats (J. Terry) vs ESD Kinder Girls (A. Mountain)
DESCRIPTION:Kinder Girls | Basketball\nSemones Family YMCA\n
URL;VALUE=URI:https://ygametime.com/branch/semones/sports/2021-winter-basketball/11394/?utm_medium=calendar&utm_source=team_cal&utm_content=league_url#game-263070
LOCATION:Semones Family YMCA - Court 1
BEGIN:VALARM
TRIGGER:-P2H
ACTION:DISPLAY
DESCRIPTION:Withers Wildcats (J. Terry) vs ESD Kinder Girls (A. Mountain)
END:VALARM
END:VEVENT
BEGIN:VEVENT
UID:semones-263079@ygametime.com
DTSTAMP:20220122T180000Z
DTSTART;TZID=America/Chicago:20220122T120000
DURATION:PT0H60M0S
SUMMARY:Spartan Sparklers - White ( J. Johnson) vs ESD Kinder Girls (A. Mountain)
DESCRIPTION:Kinder Girls | Basketball\nSemones Family YMCA\n
URL;VALUE=URI:https://ygametime.com/branch/semones/sports/2021-winter-basketball/11394/?utm_medium=calendar&utm_source=team_cal&utm_content=league_url#game-263079
LOCATION:Semones Family YMCA - Court 1
BEGIN:VALARM
TRIGGER:-P2H
ACTION:DISPLAY
DESCRIPTION:Spartan Sparklers - White ( J. Johnson) vs ESD Kinder Girls (A. Mountain)
END:VALARM
END:VEVENT
BEGIN:VEVENT
UID:semones-263089@ygametime.com
DTSTAMP:20220129T140000Z
DTSTART;TZID=America/Chicago:20220129T080000
DURATION:PT0H60M0S
SUMMARY:ESD Kinder Girls (A. Mountain) vs Lamplighter Lightning (B. Haverhals)
DESCRIPTION:Kinder Girls | Basketball\nSemones Family YMCA\n
URL;VALUE=URI:https://ygametime.com/branch/semones/sports/2021-winter-basketball/11394/?utm_medium=calendar&utm_source=team_cal&utm_content=league_url#game-263089
LOCATION:Semones Family YMCA - Court 1
BEGIN:VALARM
TRIGGER:-P2H
ACTION:DISPLAY
DESCRIPTION:ESD Kinder Girls (A. Mountain) vs Lamplighter Lightning (B. Haverhals)
END:VALARM
END:VEVENT
BEGIN:VEVENT
UID:semones-263101@ygametime.com
DTSTAMP:20220130T180000Z
DTSTART;TZID=America/Chicago:20220130T120000
DURATION:PT0H60M0S
SUMMARY:ESD Kinder Girls (A. Mountain) vs JCC Kinder Girls (K. Koshkin)
DESCRIPTION:Kinder Girls | Basketball\nSemones Family YMCA\n
URL;VALUE=URI:https://ygametime.com/branch/semones/sports/2021-winter-basketball/11394/?utm_medium=calendar&utm_source=team_cal&utm_content=league_url#game-263101
LOCATION:JCC of Dallas - Court 1
BEGIN:VALARM
TRIGGER:-P2H
ACTION:DISPLAY
DESCRIPTION:ESD Kinder Girls (A. Mountain) vs JCC Kinder Girls (K. Koshkin)
END:VALARM
END:VEVENT
BEGIN:VEVENT
UID:semones-263075@ygametime.com
DTSTAMP:20220207T230000Z
DTSTART;TZID=America/Chicago:20220207T170000
DURATION:PT0H60M0S
SUMMARY:ESD Kinder Girls (A. Mountain) vs GSES Shooting Stars (C. Flume)
DESCRIPTION:Kinder Girls | Basketball\nSemones Family YMCA\n
URL;VALUE=URI:https://ygametime.com/branch/semones/sports/2021-winter-basketball/11394/?utm_medium=calendar&utm_source=team_cal&utm_content=league_url#game-263075
LOCATION:Semones Family YMCA - Court 2
BEGIN:VALARM
TRIGGER:-P2H
ACTION:DISPLAY
DESCRIPTION:ESD Kinder Girls (A. Mountain) vs GSES Shooting Stars (C. Flume)
END:VALARM
END:VEVENT
END:VCALENDAR

