BEGIN:VCALENDAR
VERSION:2.0
PRODID:-//YGAMETIME.com//YGT iCal Creator//EN
METHOD:PUBLISH
X-PUBLISHED-TTL:PT6H
REFRESH-INTERVAL;VALUE=DURATION:PT6H
CALSCALE:GREGORIAN
X-WR-CALNAME:YGAMETIME CALENDAR
BEGIN:VTIMEZONE
TZID:America/Chicago
X-LIC-LOCATION:America/Chicago
BEGIN:DAYLIGHT
TZOFFSETFROM:-0600
TZOFFSETTO:-0500
TZNAME:CDT
DTSTART:19700308T020000
RRULE:FREQ=YEARLY;BYMONTH=3;BYDAY=2SU
END:DAYLIGHT
BEGIN:STANDARD
TZOFFSETFROM:-0500
TZOFFSETTO:-0600
TZNAME:CST
DTSTART:19701101T020000
RRULE:FREQ=YEARLY;BYMONTH=11;BYDAY=1SU
END:STANDARD
END:VTIMEZONE
BEGIN:VEVENT
UID:semones-263058@ygametime.com
DTSTAMP:20211211T170000Z
DTSTART;TZID=America/Chicago:20211211T110000
DURATION:PT0H60M0S
SUMMARY:DIS- Kinder Girls (Coach Mitchell) vs ESD Kinder Girls (A. Mountain)
DESCRIPTION:Kinder Girls | Basketball\nSemones Family YMCA\n
URL;VALUE=URI:https://ygametime.com/branch/semones/sports/2021-winter-basketball/11394/?utm_medium=calendar&utm_source=team_cal&utm_content=league_url#game-263058
LOCATION:Semones Family YMCA - Court 1
BEGIN:VALARM
TRIGGER:-P2H
ACTION:DISPLAY
DESCRIPTION:DIS- Kinder Girls (Coach Mitchell) vs ESD Kinder Girls (A. Mountain)
END:VALARM
END:VEVENT
BEGIN:VEVENT
UID:semones-263069@ygametime.com
DTSTAMP:20220108T150000Z
DTSTART;TZID=America/Chicago:20220108T090000
DURATION:PT0H60M0S
SUMMARY:DIS- Kinder Girls (Coach Mitchell) vs Spartan Sparklers (D. Smelser)
DESCRIPTION:Kinder Girls | Basketball\nSemones Family YMCA\n
URL;VALUE=URI:https://ygametime.com/branch/semones/sports/2021-winter-basketball/11394/?utm_medium=calendar&utm_source=team_cal&utm_content=league_url#game-263069
LOCATION:Semones Family YMCA - Court 1
BEGIN:VALARM
TRIGGER:-P2H
ACTION:DISPLAY
DESCRIPTION:DIS- Kinder Girls (Coach Mitchell) vs Spartan Sparklers (D. Smelser)
END:VALARM
END:VEVENT
BEGIN:VEVENT
UID:semones-263076@ygametime.com
DTSTAMP:20220115T160000Z
DTSTART;TZID=America/Chicago:20220115T100000
DURATION:PT0H60M0S
SUMMARY:CKS Crusaders 1 ( C. Fayen) vs DIS- Kinder Girls (Coach Mitchell)
DESCRIPTION:Kinder Girls | Basketball\nSemones Family YMCA\n
URL;VALUE=URI:https://ygametime.com/branch/semones/sports/2021-winter-basketball/11394/?utm_medium=calendar&utm_source=team_cal&utm_content=league_url#game-263076
LOCATION:Semones Family YMCA - Court 1
BEGIN:VALARM
TRIGGER:-P2H
ACTION:DISPLAY
DESCRIPTION:CKS Crusaders 1 ( C. Fayen) vs DIS- Kinder Girls (Coach Mitchell)
END:VALARM
END:VEVENT
BEGIN:VEVENT
UID:semones-263072@ygametime.com
DTSTAMP:20220115T180000Z
DTSTART;TZID=America/Chicago:20220115T120000
DURATION:PT0H60M0S
SUMMARY:DIS- Kinder Girls (Coach Mitchell) vs Flower Power ( S. Wibom)
DESCRIPTION:Kinder Girls | Basketball\nSemones Family YMCA\n
URL;VALUE=URI:https://ygametime.com/branch/semones/sports/2021-winter-basketball/11394/?utm_medium=calendar&utm_source=team_cal&utm_content=league_url#game-263072
LOCATION:Semones Family YMCA - Court 1
BEGIN:VALARM
TRIGGER:-P2H
ACTION:DISPLAY
DESCRIPTION:DIS- Kinder Girls (Coach Mitchell) vs Flower Power ( S. Wibom)
END:VALARM
END:VEVENT
BEGIN:VEVENT
UID:semones-263084@ygametime.com
DTSTAMP:20220122T140000Z
DTSTART;TZID=America/Chicago:20220122T080000
DURATION:PT0H60M0S
SUMMARY:DIS- Kinder Girls (Coach Mitchell) vs Flower Power ( S. Wibom)
DESCRIPTION:Kinder Girls | Basketball\nSemones Family YMCA\n
URL;VALUE=URI:https://ygametime.com/branch/semones/sports/2021-winter-basketball/11394/?utm_medium=calendar&utm_source=team_cal&utm_content=league_url#game-263084
LOCATION:Semones Family YMCA - Court 1
BEGIN:VALARM
TRIGGER:-P2H
ACTION:DISPLAY
DESCRIPTION:DIS- Kinder Girls (Coach Mitchell) vs Flower Power ( S. Wibom)
END:VALARM
END:VEVENT
BEGIN:VEVENT
UID:semones-263088@ygametime.com
DTSTAMP:20220129T170000Z
DTSTART;TZID=America/Chicago:20220129T110000
DURATION:PT0H60M0S
SUMMARY:DIS- Kinder Girls (Coach Mitchell) vs Withers Wildcats (J. Terry)
DESCRIPTION:Kinder Girls | Basketball\nSemones Family YMCA\n
URL;VALUE=URI:https://ygametime.com/branch/semones/sports/2021-winter-basketball/11394/?utm_medium=calendar&utm_source=team_cal&utm_content=league_url#game-263088
LOCATION:Semones Family YMCA - Court 1
BEGIN:VALARM
TRIGGER:-P2H
ACTION:DISPLAY
DESCRIPTION:DIS- Kinder Girls (Coach Mitchell) vs Withers Wildcats (J. Terry)
END:VALARM
END:VEVENT
BEGIN:VEVENT
UID:semones-263094@ygametime.com
DTSTAMP:20220212T150000Z
DTSTART;TZID=America/Chicago:20220212T090000
DURATION:PT0H60M0S
SUMMARY:GSES Shooting Stars (C. Flume) vs DIS- Kinder Girls (Coach Mitchell)
DESCRIPTION:Kinder Girls | Basketball\nSemones Family YMCA\n
URL;VALUE=URI:https://ygametime.com/branch/semones/sports/2021-winter-basketball/11394/?utm_medium=calendar&utm_source=team_cal&utm_content=league_url#game-263094
LOCATION:Semones Family YMCA - Court 1
BEGIN:VALARM
TRIGGER:-P2H
ACTION:DISPLAY
DESCRIPTION:GSES Shooting Stars (C. Flume) vs DIS- Kinder Girls (Coach Mitchell)
END:VALARM
END:VEVENT
END:VCALENDAR

