BEGIN:VCALENDAR
VERSION:2.0
PRODID:-//YGAMETIME.com//YGT iCal Creator//EN
METHOD:PUBLISH
X-PUBLISHED-TTL:PT6H
REFRESH-INTERVAL;VALUE=DURATION:PT6H
CALSCALE:GREGORIAN
X-WR-CALNAME:YGAMETIME CALENDAR
BEGIN:VTIMEZONE
TZID:America/Chicago
X-LIC-LOCATION:America/Chicago
BEGIN:DAYLIGHT
TZOFFSETFROM:-0600
TZOFFSETTO:-0500
TZNAME:CDT
DTSTART:19700308T020000
RRULE:FREQ=YEARLY;BYMONTH=3;BYDAY=2SU
END:DAYLIGHT
BEGIN:STANDARD
TZOFFSETFROM:-0500
TZOFFSETTO:-0600
TZNAME:CST
DTSTART:19701101T020000
RRULE:FREQ=YEARLY;BYMONTH=11;BYDAY=1SU
END:STANDARD
END:VTIMEZONE
BEGIN:VEVENT
UID:semones-263060@ygametime.com
DTSTAMP:20211211T180000Z
DTSTART;TZID=America/Chicago:20211211T120000
DURATION:PT0H60M0S
SUMMARY:Zombies (C. Vivero) vs Spartan Sparklers (D. Smelser)
DESCRIPTION:Kinder Girls | Basketball\nSemones Family YMCA\n
URL;VALUE=URI:https://ygametime.com/branch/semones/sports/2021-winter-basketball/11394/?utm_medium=calendar&utm_source=team_cal&utm_content=league_url#game-263060
LOCATION:Semones Family YMCA - Court 1
BEGIN:VALARM
TRIGGER:-P2H
ACTION:DISPLAY
DESCRIPTION:Zombies (C. Vivero) vs Spartan Sparklers (D. Smelser)
END:VALARM
END:VEVENT
BEGIN:VEVENT
UID:semones-263064@ygametime.com
DTSTAMP:20211218T170000Z
DTSTART;TZID=America/Chicago:20211218T110000
DURATION:PT0H60M0S
SUMMARY:ESD Kinder Girls (A. Mountain) vs Zombies (C. Vivero)
DESCRIPTION:Kinder Girls | Basketball\nSemones Family YMCA\n
URL;VALUE=URI:https://ygametime.com/branch/semones/sports/2021-winter-basketball/11394/?utm_medium=calendar&utm_source=team_cal&utm_content=league_url#game-263064
LOCATION:Semones Family YMCA - Court 1
BEGIN:VALARM
TRIGGER:-P2H
ACTION:DISPLAY
DESCRIPTION:ESD Kinder Girls (A. Mountain) vs Zombies (C. Vivero)
END:VALARM
END:VEVENT
BEGIN:VEVENT
UID:semones-263068@ygametime.com
DTSTAMP:20220108T160000Z
DTSTART;TZID=America/Chicago:20220108T100000
DURATION:PT0H60M0S
SUMMARY:Zombies (C. Vivero) vs CKS Crusaders 2 ( B. Walton)
DESCRIPTION:Kinder Girls | Basketball\nSemones Family YMCA\n
URL;VALUE=URI:https://ygametime.com/branch/semones/sports/2021-winter-basketball/11394/?utm_medium=calendar&utm_source=team_cal&utm_content=league_url#game-263068
LOCATION:Semones Family YMCA - Court 1
BEGIN:VALARM
TRIGGER:-P2H
ACTION:DISPLAY
DESCRIPTION:Zombies (C. Vivero) vs CKS Crusaders 2 ( B. Walton)
END:VALARM
END:VEVENT
BEGIN:VEVENT
UID:semones-263078@ygametime.com
DTSTAMP:20220115T140000Z
DTSTART;TZID=America/Chicago:20220115T080000
DURATION:PT0H60M0S
SUMMARY:Flower Power ( S. Wibom) vs Zombies (C. Vivero)
DESCRIPTION:Kinder Girls | Basketball\nSemones Family YMCA\n
URL;VALUE=URI:https://ygametime.com/branch/semones/sports/2021-winter-basketball/11394/?utm_medium=calendar&utm_source=team_cal&utm_content=league_url#game-263078
LOCATION:Semones Family YMCA - Court 1
BEGIN:VALARM
TRIGGER:-P2H
ACTION:DISPLAY
DESCRIPTION:Flower Power ( S. Wibom) vs Zombies (C. Vivero)
END:VALARM
END:VEVENT
BEGIN:VEVENT
UID:semones-263082@ygametime.com
DTSTAMP:20220122T150000Z
DTSTART;TZID=America/Chicago:20220122T090000
DURATION:PT0H60M0S
SUMMARY:Zombies (C. Vivero) vs Withers Wildcats (J. Terry)
DESCRIPTION:Kinder Girls | Basketball\nSemones Family YMCA\n
URL;VALUE=URI:https://ygametime.com/branch/semones/sports/2021-winter-basketball/11394/?utm_medium=calendar&utm_source=team_cal&utm_content=league_url#game-263082
LOCATION:Semones Family YMCA - Court 1
BEGIN:VALARM
TRIGGER:-P2H
ACTION:DISPLAY
DESCRIPTION:Zombies (C. Vivero) vs Withers Wildcats (J. Terry)
END:VALARM
END:VEVENT
BEGIN:VEVENT
UID:semones-263086@ygametime.com
DTSTAMP:20220129T150000Z
DTSTART;TZID=America/Chicago:20220129T090000
DURATION:PT0H60M0S
SUMMARY:CKS Crusaders 1 ( C. Fayen) vs Zombies (C. Vivero)
DESCRIPTION:Kinder Girls | Basketball\nSemones Family YMCA\n
URL;VALUE=URI:https://ygametime.com/branch/semones/sports/2021-winter-basketball/11394/?utm_medium=calendar&utm_source=team_cal&utm_content=league_url#game-263086
LOCATION:Semones Family YMCA - Court 1
BEGIN:VALARM
TRIGGER:-P2H
ACTION:DISPLAY
DESCRIPTION:CKS Crusaders 1 ( C. Fayen) vs Zombies (C. Vivero)
END:VALARM
END:VEVENT
BEGIN:VEVENT
UID:semones-263092@ygametime.com
DTSTAMP:20220212T170000Z
DTSTART;TZID=America/Chicago:20220212T110000
DURATION:PT0H60M0S
SUMMARY:Withers Wildcats (J. Terry) vs Zombies (C. Vivero)
DESCRIPTION:Kinder Girls | Basketball\nSemones Family YMCA\n
URL;VALUE=URI:https://ygametime.com/branch/semones/sports/2021-winter-basketball/11394/?utm_medium=calendar&utm_source=team_cal&utm_content=league_url#game-263092
LOCATION:Semones Family YMCA - Court 1
BEGIN:VALARM
TRIGGER:-P2H
ACTION:DISPLAY
DESCRIPTION:Withers Wildcats (J. Terry) vs Zombies (C. Vivero)
END:VALARM
END:VEVENT
END:VCALENDAR

