BEGIN:VCALENDAR
VERSION:2.0
PRODID:-//YGAMETIME.com//YGT iCal Creator//EN
METHOD:PUBLISH
X-PUBLISHED-TTL:PT6H
REFRESH-INTERVAL;VALUE=DURATION:PT6H
CALSCALE:GREGORIAN
X-WR-CALNAME:YGAMETIME CALENDAR
BEGIN:VTIMEZONE
TZID:America/Chicago
X-LIC-LOCATION:America/Chicago
BEGIN:DAYLIGHT
TZOFFSETFROM:-0600
TZOFFSETTO:-0500
TZNAME:CDT
DTSTART:19700308T020000
RRULE:FREQ=YEARLY;BYMONTH=3;BYDAY=2SU
END:DAYLIGHT
BEGIN:STANDARD
TZOFFSETFROM:-0500
TZOFFSETTO:-0600
TZNAME:CST
DTSTART:19701101T020000
RRULE:FREQ=YEARLY;BYMONTH=11;BYDAY=1SU
END:STANDARD
END:VTIMEZONE
BEGIN:VEVENT
UID:semones-268216@ygametime.com
DTSTAMP:20211211T170000Z
DTSTART;TZID=America/Chicago:20211211T110000
DURATION:PT0H60M0S
SUMMARY:GSES Cougar BITE (G. Carrico) vs St. Rita Shields (R. Moench)
DESCRIPTION:Kinder Boys | Basketball\nSemones Family YMCA\n
URL;VALUE=URI:https://ygametime.com/branch/semones/sports/2021-winter-basketball/11492/?utm_medium=calendar&utm_source=team_cal&utm_content=league_url#game-268216
LOCATION:Semones Family YMCA - Court 2
BEGIN:VALARM
TRIGGER:-P2H
ACTION:DISPLAY
DESCRIPTION:GSES Cougar BITE (G. Carrico) vs St. Rita Shields (R. Moench)
END:VALARM
END:VEVENT
BEGIN:VEVENT
UID:semones-268232@ygametime.com
DTSTAMP:20211218T160000Z
DTSTART;TZID=America/Chicago:20211218T100000
DURATION:PT0H60M0S
SUMMARY:Temple Tigers (J. Pagnam) vs GSES Cougar BITE (G. Carrico)
DESCRIPTION:Kinder Boys | Basketball\nSemones Family YMCA\n
URL;VALUE=URI:https://ygametime.com/branch/semones/sports/2021-winter-basketball/11492/?utm_medium=calendar&utm_source=team_cal&utm_content=league_url#game-268232
LOCATION:Semones Family YMCA - Court 2
BEGIN:VALARM
TRIGGER:-P2H
ACTION:DISPLAY
DESCRIPTION:Temple Tigers (J. Pagnam) vs GSES Cougar BITE (G. Carrico)
END:VALARM
END:VEVENT
BEGIN:VEVENT
UID:semones-268248@ygametime.com
DTSTAMP:20220108T160000Z
DTSTART;TZID=America/Chicago:20220108T100000
DURATION:PT0H60M0S
SUMMARY:GSES Cougar BITE (G. Carrico) vs Kramer (V. Rodriguez)
DESCRIPTION:Kinder Boys | Basketball\nSemones Family YMCA\n
URL;VALUE=URI:https://ygametime.com/branch/semones/sports/2021-winter-basketball/11492/?utm_medium=calendar&utm_source=team_cal&utm_content=league_url#game-268248
LOCATION:Semones Family YMCA - Court 2
BEGIN:VALARM
TRIGGER:-P2H
ACTION:DISPLAY
DESCRIPTION:GSES Cougar BITE (G. Carrico) vs Kramer (V. Rodriguez)
END:VALARM
END:VEVENT
BEGIN:VEVENT
UID:semones-268264@ygametime.com
DTSTAMP:20220115T160000Z
DTSTART;TZID=America/Chicago:20220115T100000
DURATION:PT0H60M0S
SUMMARY:Grace Stallions 2 (M. McKendrick) vs GSES Cougar BITE (G. Carrico)
DESCRIPTION:Kinder Boys | Basketball\nSemones Family YMCA\n
URL;VALUE=URI:https://ygametime.com/branch/semones/sports/2021-winter-basketball/11492/?utm_medium=calendar&utm_source=team_cal&utm_content=league_url#game-268264
LOCATION:Semones Family YMCA - Court 2
BEGIN:VALARM
TRIGGER:-P2H
ACTION:DISPLAY
DESCRIPTION:Grace Stallions 2 (M. McKendrick) vs GSES Cougar BITE (G. Carrico)
END:VALARM
END:VEVENT
BEGIN:VEVENT
UID:semones-268290@ygametime.com
DTSTAMP:20220122T210000Z
DTSTART;TZID=America/Chicago:20220122T150000
DURATION:PT0H60M0S
SUMMARY:Temple Tigers (J. Pagnam) vs GSES Cougar BITE (G. Carrico)
DESCRIPTION:Kinder Boys | Basketball\nSemones Family YMCA\n
URL;VALUE=URI:https://ygametime.com/branch/semones/sports/2021-winter-basketball/11492/?utm_medium=calendar&utm_source=team_cal&utm_content=league_url#game-268290
LOCATION:Semones Family YMCA - Court 2
BEGIN:VALARM
TRIGGER:-P2H
ACTION:DISPLAY
DESCRIPTION:Temple Tigers (J. Pagnam) vs GSES Cougar BITE (G. Carrico)
END:VALARM
END:VEVENT
BEGIN:VEVENT
UID:semones-268296@ygametime.com
DTSTAMP:20220129T160000Z
DTSTART;TZID=America/Chicago:20220129T100000
DURATION:PT0H60M0S
SUMMARY:DeGolyer Dolphins (C. Felch) vs GSES Cougar BITE (G. Carrico)
DESCRIPTION:Kinder Boys | Basketball\nSemones Family YMCA\n
URL;VALUE=URI:https://ygametime.com/branch/semones/sports/2021-winter-basketball/11492/?utm_medium=calendar&utm_source=team_cal&utm_content=league_url#game-268296
LOCATION:Semones Family YMCA - Court 2
BEGIN:VALARM
TRIGGER:-P2H
ACTION:DISPLAY
DESCRIPTION:DeGolyer Dolphins (C. Felch) vs GSES Cougar BITE (G. Carrico)
END:VALARM
END:VEVENT
BEGIN:VEVENT
UID:semones-268312@ygametime.com
DTSTAMP:20220212T210000Z
DTSTART;TZID=America/Chicago:20220212T150000
DURATION:PT0H60M0S
SUMMARY:GSES Cougar BITE (G. Carrico) vs St. Rita White (L. Bartolomei)
DESCRIPTION:Kinder Boys | Basketball\nSemones Family YMCA\n
URL;VALUE=URI:https://ygametime.com/branch/semones/sports/2021-winter-basketball/11492/?utm_medium=calendar&utm_source=team_cal&utm_content=league_url#game-268312
LOCATION:Semones Family YMCA - Court 2
BEGIN:VALARM
TRIGGER:-P2H
ACTION:DISPLAY
DESCRIPTION:GSES Cougar BITE (G. Carrico) vs St. Rita White (L. Bartolomei)
END:VALARM
END:VEVENT
END:VCALENDAR

