BEGIN:VCALENDAR
VERSION:2.0
PRODID:-//YGAMETIME.com//YGT iCal Creator//EN
METHOD:PUBLISH
X-PUBLISHED-TTL:PT6H
REFRESH-INTERVAL;VALUE=DURATION:PT6H
CALSCALE:GREGORIAN
X-WR-CALNAME:YGAMETIME CALENDAR
BEGIN:VTIMEZONE
TZID:America/Chicago
X-LIC-LOCATION:America/Chicago
BEGIN:DAYLIGHT
TZOFFSETFROM:-0600
TZOFFSETTO:-0500
TZNAME:CDT
DTSTART:19700308T020000
RRULE:FREQ=YEARLY;BYMONTH=3;BYDAY=2SU
END:DAYLIGHT
BEGIN:STANDARD
TZOFFSETFROM:-0500
TZOFFSETTO:-0600
TZNAME:CST
DTSTART:19701101T020000
RRULE:FREQ=YEARLY;BYMONTH=11;BYDAY=1SU
END:STANDARD
END:VTIMEZONE
BEGIN:VEVENT
UID:semones-268219@ygametime.com
DTSTAMP:20211211T190000Z
DTSTART;TZID=America/Chicago:20211211T130000
DURATION:PT0H60M0S
SUMMARY:Lamplighter Globetrotters (T. Kuppin) vs St. Rita White (L. Bartolomei)
DESCRIPTION:Kinder Boys | Basketball\nSemones Family YMCA\n
URL;VALUE=URI:https://ygametime.com/branch/semones/sports/2021-winter-basketball/11492/?utm_medium=calendar&utm_source=team_cal&utm_content=league_url#game-268219
LOCATION:Semones Family YMCA - Court 1
BEGIN:VALARM
TRIGGER:-P2H
ACTION:DISPLAY
DESCRIPTION:Lamplighter Globetrotters (T. Kuppin) vs St. Rita White (L. Bartolomei)
END:VALARM
END:VEVENT
BEGIN:VEVENT
UID:semones-268267@ygametime.com
DTSTAMP:20220115T170000Z
DTSTART;TZID=America/Chicago:20220115T110000
DURATION:PT0H60M0S
SUMMARY:St. Rita White (L. Bartolomei) vs Monsters (T. Haffar)
DESCRIPTION:Kinder Boys | Basketball\nSemones Family YMCA\n
URL;VALUE=URI:https://ygametime.com/branch/semones/sports/2021-winter-basketball/11492/?utm_medium=calendar&utm_source=team_cal&utm_content=league_url#game-268267
LOCATION:Semones Family YMCA - Court 2
BEGIN:VALARM
TRIGGER:-P2H
ACTION:DISPLAY
DESCRIPTION:St. Rita White (L. Bartolomei) vs Monsters (T. Haffar)
END:VALARM
END:VEVENT
BEGIN:VEVENT
UID:semones-268251@ygametime.com
DTSTAMP:20220116T170000Z
DTSTART;TZID=America/Chicago:20220116T110000
DURATION:PT0H60M0S
SUMMARY:JCC Kinder B1 (B. Diamond) vs St. Rita White (L. Bartolomei)
DESCRIPTION:Kinder Boys | Basketball\nSemones Family YMCA\n
URL;VALUE=URI:https://ygametime.com/branch/semones/sports/2021-winter-basketball/11492/?utm_medium=calendar&utm_source=team_cal&utm_content=league_url#game-268251
LOCATION:JCC of Dallas - Court 1
BEGIN:VALARM
TRIGGER:-P2H
ACTION:DISPLAY
DESCRIPTION:JCC Kinder B1 (B. Diamond) vs St. Rita White (L. Bartolomei)
END:VALARM
END:VEVENT
BEGIN:VEVENT
UID:semones-268283@ygametime.com
DTSTAMP:20220122T170000Z
DTSTART;TZID=America/Chicago:20220122T110000
DURATION:PT0H60M0S
SUMMARY:Greenhill Hornets ( J. Razo) vs St. Rita White (L. Bartolomei)
DESCRIPTION:Kinder Boys | Basketball\nSemones Family YMCA\n
URL;VALUE=URI:https://ygametime.com/branch/semones/sports/2021-winter-basketball/11492/?utm_medium=calendar&utm_source=team_cal&utm_content=league_url#game-268283
LOCATION:Semones Family YMCA - Court 2
BEGIN:VALARM
TRIGGER:-P2H
ACTION:DISPLAY
DESCRIPTION:Greenhill Hornets ( J. Razo) vs St. Rita White (L. Bartolomei)
END:VALARM
END:VEVENT
BEGIN:VEVENT
UID:semones-268235@ygametime.com
DTSTAMP:20220122T230000Z
DTSTART;TZID=America/Chicago:20220122T170000
DURATION:PT0H60M0S
SUMMARY:St. Rita White (L. Bartolomei) vs Grace Stallions 1 (S. Thieme)
DESCRIPTION:Kinder Boys | Basketball\nSemones Family YMCA\n
URL;VALUE=URI:https://ygametime.com/branch/semones/sports/2021-winter-basketball/11492/?utm_medium=calendar&utm_source=team_cal&utm_content=league_url#game-268235
LOCATION:Semones Family YMCA - Court 2
BEGIN:VALARM
TRIGGER:-P2H
ACTION:DISPLAY
DESCRIPTION:St. Rita White (L. Bartolomei) vs Grace Stallions 1 (S. Thieme)
END:VALARM
END:VEVENT
BEGIN:VEVENT
UID:semones-268299@ygametime.com
DTSTAMP:20220129T190000Z
DTSTART;TZID=America/Chicago:20220129T130000
DURATION:PT0H60M0S
SUMMARY:St. Rita White (L. Bartolomei) vs Da Vinci Stars (Story)
DESCRIPTION:Kinder Boys | Basketball\nSemones Family YMCA\n
URL;VALUE=URI:https://ygametime.com/branch/semones/sports/2021-winter-basketball/11492/?utm_medium=calendar&utm_source=team_cal&utm_content=league_url#game-268299
LOCATION:Semones Family YMCA - Court 1
BEGIN:VALARM
TRIGGER:-P2H
ACTION:DISPLAY
DESCRIPTION:St. Rita White (L. Bartolomei) vs Da Vinci Stars (Story)
END:VALARM
END:VEVENT
BEGIN:VEVENT
UID:semones-268312@ygametime.com
DTSTAMP:20220212T210000Z
DTSTART;TZID=America/Chicago:20220212T150000
DURATION:PT0H60M0S
SUMMARY:GSES Cougar BITE (G. Carrico) vs St. Rita White (L. Bartolomei)
DESCRIPTION:Kinder Boys | Basketball\nSemones Family YMCA\n
URL;VALUE=URI:https://ygametime.com/branch/semones/sports/2021-winter-basketball/11492/?utm_medium=calendar&utm_source=team_cal&utm_content=league_url#game-268312
LOCATION:Semones Family YMCA - Court 2
BEGIN:VALARM
TRIGGER:-P2H
ACTION:DISPLAY
DESCRIPTION:GSES Cougar BITE (G. Carrico) vs St. Rita White (L. Bartolomei)
END:VALARM
END:VEVENT
BEGIN:VEVENT
UID:semones-268315@ygametime.com
DTSTAMP:20220212T220000Z
DTSTART;TZID=America/Chicago:20220212T160000
DURATION:PT0H60M0S
SUMMARY:Wesley Prep (S. Kirkham) vs St. Rita White (L. Bartolomei)
DESCRIPTION:Kinder Boys | Basketball\nSemones Family YMCA\n
URL;VALUE=URI:https://ygametime.com/branch/semones/sports/2021-winter-basketball/11492/?utm_medium=calendar&utm_source=team_cal&utm_content=league_url#game-268315
LOCATION:Semones Family YMCA - Court 1
BEGIN:VALARM
TRIGGER:-P2H
ACTION:DISPLAY
DESCRIPTION:Wesley Prep (S. Kirkham) vs St. Rita White (L. Bartolomei)
END:VALARM
END:VEVENT
END:VCALENDAR

