BEGIN:VCALENDAR
VERSION:2.0
PRODID:-//YGAMETIME.com//YGT iCal Creator//EN
METHOD:PUBLISH
X-PUBLISHED-TTL:PT6H
REFRESH-INTERVAL;VALUE=DURATION:PT6H
CALSCALE:GREGORIAN
X-WR-CALNAME:YGAMETIME CALENDAR
BEGIN:VTIMEZONE
TZID:America/Chicago
X-LIC-LOCATION:America/Chicago
BEGIN:DAYLIGHT
TZOFFSETFROM:-0600
TZOFFSETTO:-0500
TZNAME:CDT
DTSTART:19700308T020000
RRULE:FREQ=YEARLY;BYMONTH=3;BYDAY=2SU
END:DAYLIGHT
BEGIN:STANDARD
TZOFFSETFROM:-0500
TZOFFSETTO:-0600
TZNAME:CST
DTSTART:19701101T020000
RRULE:FREQ=YEARLY;BYMONTH=11;BYDAY=1SU
END:STANDARD
END:VTIMEZONE
BEGIN:VEVENT
UID:semones-268254@ygametime.com
DTSTAMP:20220108T190000Z
DTSTART;TZID=America/Chicago:20220108T130000
DURATION:PT0H60M0S
SUMMARY:Lamplighter Ninjas (T. Glendenning) vs DeGolyer Dolphins (C. Felch)
DESCRIPTION:Kinder Boys | Basketball\nSemones Family YMCA\n
URL;VALUE=URI:https://ygametime.com/branch/semones/sports/2021-winter-basketball/11492/?utm_medium=calendar&utm_source=team_cal&utm_content=league_url#game-268254
LOCATION:Semones Family YMCA - Court 1
BEGIN:VALARM
TRIGGER:-P2H
ACTION:DISPLAY
DESCRIPTION:Lamplighter Ninjas (T. Glendenning) vs DeGolyer Dolphins (C. Felch)
END:VALARM
END:VEVENT
BEGIN:VEVENT
UID:semones-268238@ygametime.com
DTSTAMP:20220109T190000Z
DTSTART;TZID=America/Chicago:20220109T130000
DURATION:PT0H60M0S
SUMMARY:JCC Kinder B2 (L. Staub) vs Lamplighter Ninjas (T. Glendenning)
DESCRIPTION:Kinder Boys | Basketball\nSemones Family YMCA\n
URL;VALUE=URI:https://ygametime.com/branch/semones/sports/2021-winter-basketball/11492/?utm_medium=calendar&utm_source=team_cal&utm_content=league_url#game-268238
LOCATION:JCC of Dallas - Court 1
BEGIN:VALARM
TRIGGER:-P2H
ACTION:DISPLAY
DESCRIPTION:JCC Kinder B2 (L. Staub) vs Lamplighter Ninjas (T. Glendenning)
END:VALARM
END:VEVENT
BEGIN:VEVENT
UID:semones-268270@ygametime.com
DTSTAMP:20220115T200000Z
DTSTART;TZID=America/Chicago:20220115T140000
DURATION:PT0H60M0S
SUMMARY:DIS Kinder B (Coach Mithcell) vs Lamplighter Ninjas (T. Glendenning)
DESCRIPTION:Kinder Boys | Basketball\nSemones Family YMCA\n
URL;VALUE=URI:https://ygametime.com/branch/semones/sports/2021-winter-basketball/11492/?utm_medium=calendar&utm_source=team_cal&utm_content=league_url#game-268270
LOCATION:Semones Family YMCA - Court 1
BEGIN:VALARM
TRIGGER:-P2H
ACTION:DISPLAY
DESCRIPTION:DIS Kinder B (Coach Mithcell) vs Lamplighter Ninjas (T. Glendenning)
END:VALARM
END:VEVENT
BEGIN:VEVENT
UID:semones-268286@ygametime.com
DTSTAMP:20220122T190000Z
DTSTART;TZID=America/Chicago:20220122T130000
DURATION:PT0H60M0S
SUMMARY:Lamplighter Ninjas (T. Glendenning) vs St. Rita Armor Grey (Coach Tidrick)
DESCRIPTION:Kinder Boys | Basketball\nSemones Family YMCA\n
URL;VALUE=URI:https://ygametime.com/branch/semones/sports/2021-winter-basketball/11492/?utm_medium=calendar&utm_source=team_cal&utm_content=league_url#game-268286
LOCATION:Semones Family YMCA - Court 2
BEGIN:VALARM
TRIGGER:-P2H
ACTION:DISPLAY
DESCRIPTION:Lamplighter Ninjas (T. Glendenning) vs St. Rita Armor Grey (Coach Tidrick)
END:VALARM
END:VEVENT
BEGIN:VEVENT
UID:semones-268302@ygametime.com
DTSTAMP:20220129T200000Z
DTSTART;TZID=America/Chicago:20220129T140000
DURATION:PT0H60M0S
SUMMARY:GSES Ballers (H. Heil) vs Lamplighter Ninjas (T. Glendenning)
DESCRIPTION:Kinder Boys | Basketball\nSemones Family YMCA\n
URL;VALUE=URI:https://ygametime.com/branch/semones/sports/2021-winter-basketball/11492/?utm_medium=calendar&utm_source=team_cal&utm_content=league_url#game-268302
LOCATION:Semones Family YMCA - Court 2
BEGIN:VALARM
TRIGGER:-P2H
ACTION:DISPLAY
DESCRIPTION:GSES Ballers (H. Heil) vs Lamplighter Ninjas (T. Glendenning)
END:VALARM
END:VEVENT
BEGIN:VEVENT
UID:semones-268222@ygametime.com
DTSTAMP:20220201T000000Z
DTSTART;TZID=America/Chicago:20220131T180000
DURATION:PT0H60M0S
SUMMARY:Lamplighter Ninjas (T. Glendenning) vs Grace Stallions 1 (S. Thieme)
DESCRIPTION:Kinder Boys | Basketball\nSemones Family YMCA\n
URL;VALUE=URI:https://ygametime.com/branch/semones/sports/2021-winter-basketball/11492/?utm_medium=calendar&utm_source=team_cal&utm_content=league_url#game-268222
LOCATION:Semones Family YMCA - Court 1
BEGIN:VALARM
TRIGGER:-P2H
ACTION:DISPLAY
DESCRIPTION:Lamplighter Ninjas (T. Glendenning) vs Grace Stallions 1 (S. Thieme)
END:VALARM
END:VEVENT
BEGIN:VEVENT
UID:semones-268318@ygametime.com
DTSTAMP:20220212T200000Z
DTSTART;TZID=America/Chicago:20220212T140000
DURATION:PT0H60M0S
SUMMARY:Lamplighter Ninjas (T. Glendenning) vs Bearcats 1 (B. Lomont)
DESCRIPTION:Kinder Boys | Basketball\nSemones Family YMCA\n
URL;VALUE=URI:https://ygametime.com/branch/semones/sports/2021-winter-basketball/11492/?utm_medium=calendar&utm_source=team_cal&utm_content=league_url#game-268318
LOCATION:Semones Family YMCA - Court 2
BEGIN:VALARM
TRIGGER:-P2H
ACTION:DISPLAY
DESCRIPTION:Lamplighter Ninjas (T. Glendenning) vs Bearcats 1 (B. Lomont)
END:VALARM
END:VEVENT
END:VCALENDAR

