BEGIN:VCALENDAR
VERSION:2.0
PRODID:-//YGAMETIME.com//YGT iCal Creator//EN
METHOD:PUBLISH
X-PUBLISHED-TTL:PT6H
REFRESH-INTERVAL;VALUE=DURATION:PT6H
CALSCALE:GREGORIAN
X-WR-CALNAME:YGAMETIME CALENDAR
BEGIN:VTIMEZONE
TZID:America/Chicago
X-LIC-LOCATION:America/Chicago
BEGIN:DAYLIGHT
TZOFFSETFROM:-0600
TZOFFSETTO:-0500
TZNAME:CDT
DTSTART:19700308T020000
RRULE:FREQ=YEARLY;BYMONTH=3;BYDAY=2SU
END:DAYLIGHT
BEGIN:STANDARD
TZOFFSETFROM:-0500
TZOFFSETTO:-0600
TZNAME:CST
DTSTART:19701101T020000
RRULE:FREQ=YEARLY;BYMONTH=11;BYDAY=1SU
END:STANDARD
END:VTIMEZONE
BEGIN:VEVENT
UID:semones-268214@ygametime.com
DTSTAMP:20211211T140000Z
DTSTART;TZID=America/Chicago:20211211T080000
DURATION:PT0H60M0S
SUMMARY:St. Rita Armor Green (S. Pondrom) vs Showtime 1 (B. Calver)
DESCRIPTION:Kinder Boys | Basketball\nSemones Family YMCA\n
URL;VALUE=URI:https://ygametime.com/branch/semones/sports/2021-winter-basketball/11492/?utm_medium=calendar&utm_source=team_cal&utm_content=league_url#game-268214
LOCATION:Semones Family YMCA - Court 2
BEGIN:VALARM
TRIGGER:-P2H
ACTION:DISPLAY
DESCRIPTION:St. Rita Armor Green (S. Pondrom) vs Showtime 1 (B. Calver)
END:VALARM
END:VEVENT
BEGIN:VEVENT
UID:semones-268230@ygametime.com
DTSTAMP:20211218T140000Z
DTSTART;TZID=America/Chicago:20211218T080000
DURATION:PT0H60M0S
SUMMARY:St. Rita Shields (R. Moench) vs St. Rita Armor Green (S. Pondrom)
DESCRIPTION:Kinder Boys | Basketball\nSemones Family YMCA\n
URL;VALUE=URI:https://ygametime.com/branch/semones/sports/2021-winter-basketball/11492/?utm_medium=calendar&utm_source=team_cal&utm_content=league_url#game-268230
LOCATION:Semones Family YMCA - Court 2
BEGIN:VALARM
TRIGGER:-P2H
ACTION:DISPLAY
DESCRIPTION:St. Rita Shields (R. Moench) vs St. Rita Armor Green (S. Pondrom)
END:VALARM
END:VEVENT
BEGIN:VEVENT
UID:semones-268246@ygametime.com
DTSTAMP:20220108T220000Z
DTSTART;TZID=America/Chicago:20220108T160000
DURATION:PT0H60M0S
SUMMARY:St. Rita Armor Green (S. Pondrom) vs Temple Tigers (J. Pagnam)
DESCRIPTION:Kinder Boys | Basketball\nSemones Family YMCA\n
URL;VALUE=URI:https://ygametime.com/branch/semones/sports/2021-winter-basketball/11492/?utm_medium=calendar&utm_source=team_cal&utm_content=league_url#game-268246
LOCATION:Semones Family YMCA - Court 1
BEGIN:VALARM
TRIGGER:-P2H
ACTION:DISPLAY
DESCRIPTION:St. Rita Armor Green (S. Pondrom) vs Temple Tigers (J. Pagnam)
END:VALARM
END:VEVENT
BEGIN:VEVENT
UID:semones-268262@ygametime.com
DTSTAMP:20220115T220000Z
DTSTART;TZID=America/Chicago:20220115T160000
DURATION:PT0H60M0S
SUMMARY:Kramer (V. Rodriguez) vs St. Rita Armor Green (S. Pondrom)
DESCRIPTION:Kinder Boys | Basketball\nSemones Family YMCA\n
URL;VALUE=URI:https://ygametime.com/branch/semones/sports/2021-winter-basketball/11492/?utm_medium=calendar&utm_source=team_cal&utm_content=league_url#game-268262
LOCATION:Semones Family YMCA - Court 2
BEGIN:VALARM
TRIGGER:-P2H
ACTION:DISPLAY
DESCRIPTION:Kramer (V. Rodriguez) vs St. Rita Armor Green (S. Pondrom)
END:VALARM
END:VEVENT
BEGIN:VEVENT
UID:semones-268278@ygametime.com
DTSTAMP:20220122T140000Z
DTSTART;TZID=America/Chicago:20220122T080000
DURATION:PT0H60M0S
SUMMARY:St. Rita Armor Green (S. Pondrom) vs Grace Stallions 2 (M. McKendrick)
DESCRIPTION:Kinder Boys | Basketball\nSemones Family YMCA\n
URL;VALUE=URI:https://ygametime.com/branch/semones/sports/2021-winter-basketball/11492/?utm_medium=calendar&utm_source=team_cal&utm_content=league_url#game-268278
LOCATION:Semones Family YMCA - Court 2
BEGIN:VALARM
TRIGGER:-P2H
ACTION:DISPLAY
DESCRIPTION:St. Rita Armor Green (S. Pondrom) vs Grace Stallions 2 (M. McKendrick)
END:VALARM
END:VEVENT
BEGIN:VEVENT
UID:semones-268294@ygametime.com
DTSTAMP:20220206T190000Z
DTSTART;TZID=America/Chicago:20220206T130000
DURATION:PT0H60M0S
SUMMARY:JCC Kinder B2 (L. Staub) vs St. Rita Armor Green (S. Pondrom)
DESCRIPTION:Kinder Boys | Basketball\nSemones Family YMCA\n
URL;VALUE=URI:https://ygametime.com/branch/semones/sports/2021-winter-basketball/11492/?utm_medium=calendar&utm_source=team_cal&utm_content=league_url#game-268294
LOCATION:JCC of Dallas - Court 1
BEGIN:VALARM
TRIGGER:-P2H
ACTION:DISPLAY
DESCRIPTION:JCC Kinder B2 (L. Staub) vs St. Rita Armor Green (S. Pondrom)
END:VALARM
END:VEVENT
BEGIN:VEVENT
UID:semones-268310@ygametime.com
DTSTAMP:20220212T140000Z
DTSTART;TZID=America/Chicago:20220212T080000
DURATION:PT0H60M0S
SUMMARY:St. Rita Armor Green (S. Pondrom) vs DeGolyer Dolphins (C. Felch)
DESCRIPTION:Kinder Boys | Basketball\nSemones Family YMCA\n
URL;VALUE=URI:https://ygametime.com/branch/semones/sports/2021-winter-basketball/11492/?utm_medium=calendar&utm_source=team_cal&utm_content=league_url#game-268310
LOCATION:Semones Family YMCA - Court 2
BEGIN:VALARM
TRIGGER:-P2H
ACTION:DISPLAY
DESCRIPTION:St. Rita Armor Green (S. Pondrom) vs DeGolyer Dolphins (C. Felch)
END:VALARM
END:VEVENT
END:VCALENDAR

