BEGIN:VCALENDAR
VERSION:2.0
PRODID:-//YGAMETIME.com//YGT iCal Creator//EN
METHOD:PUBLISH
X-PUBLISHED-TTL:PT6H
REFRESH-INTERVAL;VALUE=DURATION:PT6H
CALSCALE:GREGORIAN
X-WR-CALNAME:YGAMETIME CALENDAR
BEGIN:VTIMEZONE
TZID:America/Chicago
X-LIC-LOCATION:America/Chicago
BEGIN:DAYLIGHT
TZOFFSETFROM:-0600
TZOFFSETTO:-0500
TZNAME:CDT
DTSTART:19700308T020000
RRULE:FREQ=YEARLY;BYMONTH=3;BYDAY=2SU
END:DAYLIGHT
BEGIN:STANDARD
TZOFFSETFROM:-0500
TZOFFSETTO:-0600
TZNAME:CST
DTSTART:19701101T020000
RRULE:FREQ=YEARLY;BYMONTH=11;BYDAY=1SU
END:STANDARD
END:VTIMEZONE
BEGIN:VEVENT
UID:semones-268217@ygametime.com
DTSTAMP:20211211T220000Z
DTSTART;TZID=America/Chicago:20211211T160000
DURATION:PT0H60M0S
SUMMARY:Stingers (W. Hardy) vs ESD Eagles (P. Stahl)
DESCRIPTION:Kinder Boys | Basketball\nSemones Family YMCA\n
URL;VALUE=URI:https://ygametime.com/branch/semones/sports/2021-winter-basketball/11492/?utm_medium=calendar&utm_source=team_cal&utm_content=league_url#game-268217
LOCATION:Semones Family YMCA - Court 1
BEGIN:VALARM
TRIGGER:-P2H
ACTION:DISPLAY
DESCRIPTION:Stingers (W. Hardy) vs ESD Eagles (P. Stahl)
END:VALARM
END:VEVENT
BEGIN:VEVENT
UID:semones-268231@ygametime.com
DTSTAMP:20211218T210000Z
DTSTART;TZID=America/Chicago:20211218T150000
DURATION:PT0H60M0S
SUMMARY:Showtime 2 (B. Calver) vs Stingers (W. Hardy)
DESCRIPTION:Kinder Boys | Basketball\nSemones Family YMCA\n
URL;VALUE=URI:https://ygametime.com/branch/semones/sports/2021-winter-basketball/11492/?utm_medium=calendar&utm_source=team_cal&utm_content=league_url#game-268231
LOCATION:Semones Family YMCA - Court 2
BEGIN:VALARM
TRIGGER:-P2H
ACTION:DISPLAY
DESCRIPTION:Showtime 2 (B. Calver) vs Stingers (W. Hardy)
END:VALARM
END:VEVENT
BEGIN:VEVENT
UID:semones-268261@ygametime.com
DTSTAMP:20220108T220000Z
DTSTART;TZID=America/Chicago:20220108T160000
DURATION:PT0H60M0S
SUMMARY:Stingers (W. Hardy) vs Lamplighter Lightning (R. Aneed)
DESCRIPTION:Kinder Boys | Basketball\nSemones Family YMCA\n
URL;VALUE=URI:https://ygametime.com/branch/semones/sports/2021-winter-basketball/11492/?utm_medium=calendar&utm_source=team_cal&utm_content=league_url#game-268261
LOCATION:Semones Family YMCA - Court 2
BEGIN:VALARM
TRIGGER:-P2H
ACTION:DISPLAY
DESCRIPTION:Stingers (W. Hardy) vs Lamplighter Lightning (R. Aneed)
END:VALARM
END:VEVENT
BEGIN:VEVENT
UID:semones-268275@ygametime.com
DTSTAMP:20220115T140000Z
DTSTART;TZID=America/Chicago:20220115T080000
DURATION:PT0H60M0S
SUMMARY:Showtime 1 (B. Calver) vs Stingers (W. Hardy)
DESCRIPTION:Kinder Boys | Basketball\nSemones Family YMCA\n
URL;VALUE=URI:https://ygametime.com/branch/semones/sports/2021-winter-basketball/11492/?utm_medium=calendar&utm_source=team_cal&utm_content=league_url#game-268275
LOCATION:Semones Family YMCA - Court 2
BEGIN:VALARM
TRIGGER:-P2H
ACTION:DISPLAY
DESCRIPTION:Showtime 1 (B. Calver) vs Stingers (W. Hardy)
END:VALARM
END:VEVENT
BEGIN:VEVENT
UID:semones-268291@ygametime.com
DTSTAMP:20220122T230000Z
DTSTART;TZID=America/Chicago:20220122T170000
DURATION:PT0H60M0S
SUMMARY:Lamplighter Globetrotters (T. Kuppin) vs Stingers (W. Hardy)
DESCRIPTION:Kinder Boys | Basketball\nSemones Family YMCA\n
URL;VALUE=URI:https://ygametime.com/branch/semones/sports/2021-winter-basketball/11492/?utm_medium=calendar&utm_source=team_cal&utm_content=league_url#game-268291
LOCATION:Semones Family YMCA - Court 1
BEGIN:VALARM
TRIGGER:-P2H
ACTION:DISPLAY
DESCRIPTION:Lamplighter Globetrotters (T. Kuppin) vs Stingers (W. Hardy)
END:VALARM
END:VEVENT
BEGIN:VEVENT
UID:semones-268307@ygametime.com
DTSTAMP:20220129T220000Z
DTSTART;TZID=America/Chicago:20220129T160000
DURATION:PT0H60M0S
SUMMARY:Stingers (W. Hardy) vs Grace Stallions 1 (S. Thieme)
DESCRIPTION:Kinder Boys | Basketball\nSemones Family YMCA\n
URL;VALUE=URI:https://ygametime.com/branch/semones/sports/2021-winter-basketball/11492/?utm_medium=calendar&utm_source=team_cal&utm_content=league_url#game-268307
LOCATION:Semones Family YMCA - Court 2
BEGIN:VALARM
TRIGGER:-P2H
ACTION:DISPLAY
DESCRIPTION:Stingers (W. Hardy) vs Grace Stallions 1 (S. Thieme)
END:VALARM
END:VEVENT
BEGIN:VEVENT
UID:semones-268323@ygametime.com
DTSTAMP:20220213T170000Z
DTSTART;TZID=America/Chicago:20220213T110000
DURATION:PT0H60M0S
SUMMARY:JCC Kinder B1 (B. Diamond) vs Stingers (W. Hardy)
DESCRIPTION:Kinder Boys | Basketball\nSemones Family YMCA\n
URL;VALUE=URI:https://ygametime.com/branch/semones/sports/2021-winter-basketball/11492/?utm_medium=calendar&utm_source=team_cal&utm_content=league_url#game-268323
LOCATION:JCC of Dallas - Court 1
BEGIN:VALARM
TRIGGER:-P2H
ACTION:DISPLAY
DESCRIPTION:JCC Kinder B1 (B. Diamond) vs Stingers (W. Hardy)
END:VALARM
END:VEVENT
END:VCALENDAR

