BEGIN:VCALENDAR
VERSION:2.0
PRODID:-//YGAMETIME.com//YGT iCal Creator//EN
METHOD:PUBLISH
X-PUBLISHED-TTL:PT6H
REFRESH-INTERVAL;VALUE=DURATION:PT6H
CALSCALE:GREGORIAN
X-WR-CALNAME:YGAMETIME CALENDAR
BEGIN:VTIMEZONE
TZID:America/Chicago
X-LIC-LOCATION:America/Chicago
BEGIN:DAYLIGHT
TZOFFSETFROM:-0600
TZOFFSETTO:-0500
TZNAME:CDT
DTSTART:19700308T020000
RRULE:FREQ=YEARLY;BYMONTH=3;BYDAY=2SU
END:DAYLIGHT
BEGIN:STANDARD
TZOFFSETFROM:-0500
TZOFFSETTO:-0600
TZNAME:CST
DTSTART:19701101T020000
RRULE:FREQ=YEARLY;BYMONTH=11;BYDAY=1SU
END:STANDARD
END:VTIMEZONE
BEGIN:VEVENT
UID:semones-268225@ygametime.com
DTSTAMP:20211211T200000Z
DTSTART;TZID=America/Chicago:20211211T140000
DURATION:PT0H60M0S
SUMMARY:Monsters (T. Haffar) vs Bearcats 1 (B. Lomont)
DESCRIPTION:Kinder Boys | Basketball\nSemones Family YMCA\n
URL;VALUE=URI:https://ygametime.com/branch/semones/sports/2021-winter-basketball/11492/?utm_medium=calendar&utm_source=team_cal&utm_content=league_url#game-268225
LOCATION:Semones Family YMCA - Court 1
BEGIN:VALARM
TRIGGER:-P2H
ACTION:DISPLAY
DESCRIPTION:Monsters (T. Haffar) vs Bearcats 1 (B. Lomont)
END:VALARM
END:VEVENT
BEGIN:VEVENT
UID:semones-268239@ygametime.com
DTSTAMP:20211218T200000Z
DTSTART;TZID=America/Chicago:20211218T140000
DURATION:PT0H60M0S
SUMMARY:St. Rita Spartans (M. Weibring) vs Monsters (T. Haffar)
DESCRIPTION:Kinder Boys | Basketball\nSemones Family YMCA\n
URL;VALUE=URI:https://ygametime.com/branch/semones/sports/2021-winter-basketball/11492/?utm_medium=calendar&utm_source=team_cal&utm_content=league_url#game-268239
LOCATION:Semones Family YMCA - Court 1
BEGIN:VALARM
TRIGGER:-P2H
ACTION:DISPLAY
DESCRIPTION:St. Rita Spartans (M. Weibring) vs Monsters (T. Haffar)
END:VALARM
END:VEVENT
BEGIN:VEVENT
UID:semones-268253@ygametime.com
DTSTAMP:20220108T180000Z
DTSTART;TZID=America/Chicago:20220108T120000
DURATION:PT0H60M0S
SUMMARY:Monsters (T. Haffar) vs ESD Eagles (S. Rodgers)
DESCRIPTION:Kinder Boys | Basketball\nSemones Family YMCA\n
URL;VALUE=URI:https://ygametime.com/branch/semones/sports/2021-winter-basketball/11492/?utm_medium=calendar&utm_source=team_cal&utm_content=league_url#game-268253
LOCATION:Semones Family YMCA - Court 2
BEGIN:VALARM
TRIGGER:-P2H
ACTION:DISPLAY
DESCRIPTION:Monsters (T. Haffar) vs ESD Eagles (S. Rodgers)
END:VALARM
END:VEVENT
BEGIN:VEVENT
UID:semones-268267@ygametime.com
DTSTAMP:20220115T170000Z
DTSTART;TZID=America/Chicago:20220115T110000
DURATION:PT0H60M0S
SUMMARY:St. Rita White (L. Bartolomei) vs Monsters (T. Haffar)
DESCRIPTION:Kinder Boys | Basketball\nSemones Family YMCA\n
URL;VALUE=URI:https://ygametime.com/branch/semones/sports/2021-winter-basketball/11492/?utm_medium=calendar&utm_source=team_cal&utm_content=league_url#game-268267
LOCATION:Semones Family YMCA - Court 2
BEGIN:VALARM
TRIGGER:-P2H
ACTION:DISPLAY
DESCRIPTION:St. Rita White (L. Bartolomei) vs Monsters (T. Haffar)
END:VALARM
END:VEVENT
BEGIN:VEVENT
UID:semones-268281@ygametime.com
DTSTAMP:20220122T180000Z
DTSTART;TZID=America/Chicago:20220122T120000
DURATION:PT0H60M0S
SUMMARY:Monsters (T. Haffar) vs ESD Eagles (P. Stahl)
DESCRIPTION:Kinder Boys | Basketball\nSemones Family YMCA\n
URL;VALUE=URI:https://ygametime.com/branch/semones/sports/2021-winter-basketball/11492/?utm_medium=calendar&utm_source=team_cal&utm_content=league_url#game-268281
LOCATION:Semones Family YMCA - Court 2
BEGIN:VALARM
TRIGGER:-P2H
ACTION:DISPLAY
DESCRIPTION:Monsters (T. Haffar) vs ESD Eagles (P. Stahl)
END:VALARM
END:VEVENT
BEGIN:VEVENT
UID:semones-268295@ygametime.com
DTSTAMP:20220129T140000Z
DTSTART;TZID=America/Chicago:20220129T080000
DURATION:PT0H60M0S
SUMMARY:Showtime 2 (B. Calver) vs Monsters (T. Haffar)
DESCRIPTION:Kinder Boys | Basketball\nSemones Family YMCA\n
URL;VALUE=URI:https://ygametime.com/branch/semones/sports/2021-winter-basketball/11492/?utm_medium=calendar&utm_source=team_cal&utm_content=league_url#game-268295
LOCATION:Semones Family YMCA - Court 2
BEGIN:VALARM
TRIGGER:-P2H
ACTION:DISPLAY
DESCRIPTION:Showtime 2 (B. Calver) vs Monsters (T. Haffar)
END:VALARM
END:VEVENT
END:VCALENDAR

