BEGIN:VCALENDAR
VERSION:2.0
PRODID:-//YGAMETIME.com//YGT iCal Creator//EN
METHOD:PUBLISH
X-PUBLISHED-TTL:PT6H
REFRESH-INTERVAL;VALUE=DURATION:PT6H
CALSCALE:GREGORIAN
X-WR-CALNAME:YGAMETIME CALENDAR
BEGIN:VTIMEZONE
TZID:America/Chicago
X-LIC-LOCATION:America/Chicago
BEGIN:DAYLIGHT
TZOFFSETFROM:-0600
TZOFFSETTO:-0500
TZNAME:CDT
DTSTART:19700308T020000
RRULE:FREQ=YEARLY;BYMONTH=3;BYDAY=2SU
END:DAYLIGHT
BEGIN:STANDARD
TZOFFSETFROM:-0500
TZOFFSETTO:-0600
TZNAME:CST
DTSTART:19701101T020000
RRULE:FREQ=YEARLY;BYMONTH=11;BYDAY=1SU
END:STANDARD
END:VTIMEZONE
BEGIN:VEVENT
UID:semones-268227@ygametime.com
DTSTAMP:20211211T220000Z
DTSTART;TZID=America/Chicago:20211211T160000
DURATION:PT0H60M0S
SUMMARY:Greenhill Hornets ( J. Razo) vs GSES Ballers (H. Heil)
DESCRIPTION:Kinder Boys | Basketball\nSemones Family YMCA\n
URL;VALUE=URI:https://ygametime.com/branch/semones/sports/2021-winter-basketball/11492/?utm_medium=calendar&utm_source=team_cal&utm_content=league_url#game-268227
LOCATION:Semones Family YMCA - Court 2
BEGIN:VALARM
TRIGGER:-P2H
ACTION:DISPLAY
DESCRIPTION:Greenhill Hornets ( J. Razo) vs GSES Ballers (H. Heil)
END:VALARM
END:VEVENT
BEGIN:VEVENT
UID:semones-268241@ygametime.com
DTSTAMP:20211218T210000Z
DTSTART;TZID=America/Chicago:20211218T150000
DURATION:PT0H60M0S
SUMMARY:Bearcats 1 (B. Lomont) vs Greenhill Hornets ( J. Razo)
DESCRIPTION:Kinder Boys | Basketball\nSemones Family YMCA\n
URL;VALUE=URI:https://ygametime.com/branch/semones/sports/2021-winter-basketball/11492/?utm_medium=calendar&utm_source=team_cal&utm_content=league_url#game-268241
LOCATION:Semones Family YMCA - Court 1
BEGIN:VALARM
TRIGGER:-P2H
ACTION:DISPLAY
DESCRIPTION:Bearcats 1 (B. Lomont) vs Greenhill Hornets ( J. Razo)
END:VALARM
END:VEVENT
BEGIN:VEVENT
UID:semones-268255@ygametime.com
DTSTAMP:20220108T190000Z
DTSTART;TZID=America/Chicago:20220108T130000
DURATION:PT0H60M0S
SUMMARY:Greenhill Hornets ( J. Razo) vs St. Rita Spartans (M. Weibring)
DESCRIPTION:Kinder Boys | Basketball\nSemones Family YMCA\n
URL;VALUE=URI:https://ygametime.com/branch/semones/sports/2021-winter-basketball/11492/?utm_medium=calendar&utm_source=team_cal&utm_content=league_url#game-268255
LOCATION:Semones Family YMCA - Court 2
BEGIN:VALARM
TRIGGER:-P2H
ACTION:DISPLAY
DESCRIPTION:Greenhill Hornets ( J. Razo) vs St. Rita Spartans (M. Weibring)
END:VALARM
END:VEVENT
BEGIN:VEVENT
UID:semones-268283@ygametime.com
DTSTAMP:20220122T170000Z
DTSTART;TZID=America/Chicago:20220122T110000
DURATION:PT0H60M0S
SUMMARY:Greenhill Hornets ( J. Razo) vs St. Rita White (L. Bartolomei)
DESCRIPTION:Kinder Boys | Basketball\nSemones Family YMCA\n
URL;VALUE=URI:https://ygametime.com/branch/semones/sports/2021-winter-basketball/11492/?utm_medium=calendar&utm_source=team_cal&utm_content=league_url#game-268283
LOCATION:Semones Family YMCA - Court 2
BEGIN:VALARM
TRIGGER:-P2H
ACTION:DISPLAY
DESCRIPTION:Greenhill Hornets ( J. Razo) vs St. Rita White (L. Bartolomei)
END:VALARM
END:VEVENT
BEGIN:VEVENT
UID:semones-268297@ygametime.com
DTSTAMP:20220129T170000Z
DTSTART;TZID=America/Chicago:20220129T110000
DURATION:PT0H60M0S
SUMMARY:ESD Eagles (P. Stahl) vs Greenhill Hornets ( J. Razo)
DESCRIPTION:Kinder Boys | Basketball\nSemones Family YMCA\n
URL;VALUE=URI:https://ygametime.com/branch/semones/sports/2021-winter-basketball/11492/?utm_medium=calendar&utm_source=team_cal&utm_content=league_url#game-268297
LOCATION:Semones Family YMCA - Court 2
BEGIN:VALARM
TRIGGER:-P2H
ACTION:DISPLAY
DESCRIPTION:ESD Eagles (P. Stahl) vs Greenhill Hornets ( J. Razo)
END:VALARM
END:VEVENT
BEGIN:VEVENT
UID:semones-268311@ygametime.com
DTSTAMP:20220212T150000Z
DTSTART;TZID=America/Chicago:20220212T090000
DURATION:PT0H60M0S
SUMMARY:Greenhill Hornets ( J. Razo) vs Showtime 2 (B. Calver)
DESCRIPTION:Kinder Boys | Basketball\nSemones Family YMCA\n
URL;VALUE=URI:https://ygametime.com/branch/semones/sports/2021-winter-basketball/11492/?utm_medium=calendar&utm_source=team_cal&utm_content=league_url#game-268311
LOCATION:Semones Family YMCA - Court 2
BEGIN:VALARM
TRIGGER:-P2H
ACTION:DISPLAY
DESCRIPTION:Greenhill Hornets ( J. Razo) vs Showtime 2 (B. Calver)
END:VALARM
END:VEVENT
END:VCALENDAR

