BEGIN:VCALENDAR
VERSION:2.0
PRODID:-//YGAMETIME.com//YGT iCal Creator//EN
METHOD:PUBLISH
X-PUBLISHED-TTL:PT6H
REFRESH-INTERVAL;VALUE=DURATION:PT6H
CALSCALE:GREGORIAN
X-WR-CALNAME:YGAMETIME CALENDAR
BEGIN:VTIMEZONE
TZID:America/Chicago
X-LIC-LOCATION:America/Chicago
BEGIN:DAYLIGHT
TZOFFSETFROM:-0600
TZOFFSETTO:-0500
TZNAME:CDT
DTSTART:19700308T020000
RRULE:FREQ=YEARLY;BYMONTH=3;BYDAY=2SU
END:DAYLIGHT
BEGIN:STANDARD
TZOFFSETFROM:-0500
TZOFFSETTO:-0600
TZNAME:CST
DTSTART:19701101T020000
RRULE:FREQ=YEARLY;BYMONTH=11;BYDAY=1SU
END:STANDARD
END:VTIMEZONE
BEGIN:VEVENT
UID:semones-264459@ygametime.com
DTSTAMP:20211212T180000Z
DTSTART;TZID=America/Chicago:20211212T120000
DURATION:PT0H60M0S
SUMMARY:Greenhill Hornets (S. Lonergan) vs Parish Panthers - White ( A. Martinez)
DESCRIPTION:5th/6th Girls - Competitive | Basketball\nSemones Family YMCA\n
URL;VALUE=URI:https://ygametime.com/branch/semones/sports/2021-winter-basketball/11503/?utm_medium=calendar&utm_source=team_cal&utm_content=league_url#game-264459
LOCATION:Churchill Recreation Center
BEGIN:VALARM
TRIGGER:-P2H
ACTION:DISPLAY
DESCRIPTION:Greenhill Hornets (S. Lonergan) vs Parish Panthers - White ( A. Martinez)
END:VALARM
END:VEVENT
BEGIN:VEVENT
UID:semones-264464@ygametime.com
DTSTAMP:20211219T180000Z
DTSTART;TZID=America/Chicago:20211219T120000
DURATION:PT0H60M0S
SUMMARY:Parish Panthers - White ( A. Martinez) vs Red Hots (B. Johnson)
DESCRIPTION:5th/6th Girls - Competitive | Basketball\nSemones Family YMCA\n
URL;VALUE=URI:https://ygametime.com/branch/semones/sports/2021-winter-basketball/11503/?utm_medium=calendar&utm_source=team_cal&utm_content=league_url#game-264464
LOCATION:ED walker Middle School
BEGIN:VALARM
TRIGGER:-P2H
ACTION:DISPLAY
DESCRIPTION:Parish Panthers - White ( A. Martinez) vs Red Hots (B. Johnson)
END:VALARM
END:VEVENT
BEGIN:VEVENT
UID:semones-264466@ygametime.com
DTSTAMP:20220108T140000Z
DTSTART;TZID=America/Chicago:20220108T080000
DURATION:PT0H60M0S
SUMMARY:Timber Dragons (M. Hernandez) vs Parish Panthers - White ( A. Martinez)
DESCRIPTION:5th/6th Girls - Competitive | Basketball\nSemones Family YMCA\n
URL;VALUE=URI:https://ygametime.com/branch/semones/sports/2021-winter-basketball/11503/?utm_medium=calendar&utm_source=team_cal&utm_content=league_url#game-264466
LOCATION:ED walker Middle School
BEGIN:VALARM
TRIGGER:-P2H
ACTION:DISPLAY
DESCRIPTION:Timber Dragons (M. Hernandez) vs Parish Panthers - White ( A. Martinez)
END:VALARM
END:VEVENT
BEGIN:VEVENT
UID:semones-264468@ygametime.com
DTSTAMP:20220115T150000Z
DTSTART;TZID=America/Chicago:20220115T090000
DURATION:PT0H60M0S
SUMMARY:Parish Panthers - White ( A. Martinez) vs Daisy Dream (M. DeLeon)
DESCRIPTION:5th/6th Girls - Competitive | Basketball\nSemones Family YMCA\n
URL;VALUE=URI:https://ygametime.com/branch/semones/sports/2021-winter-basketball/11503/?utm_medium=calendar&utm_source=team_cal&utm_content=league_url#game-264468
LOCATION:ED walker Middle School
BEGIN:VALARM
TRIGGER:-P2H
ACTION:DISPLAY
DESCRIPTION:Parish Panthers - White ( A. Martinez) vs Daisy Dream (M. DeLeon)
END:VALARM
END:VEVENT
BEGIN:VEVENT
UID:semones-264473@ygametime.com
DTSTAMP:20220122T140000Z
DTSTART;TZID=America/Chicago:20220122T080000
DURATION:PT0H60M0S
SUMMARY:ESD Eagles (Hen. Heil) vs Parish Panthers - White ( A. Martinez)
DESCRIPTION:5th/6th Girls - Competitive | Basketball\nSemones Family YMCA\n
URL;VALUE=URI:https://ygametime.com/branch/semones/sports/2021-winter-basketball/11503/?utm_medium=calendar&utm_source=team_cal&utm_content=league_url#game-264473
LOCATION:ED walker Middle School
BEGIN:VALARM
TRIGGER:-P2H
ACTION:DISPLAY
DESCRIPTION:ESD Eagles (Hen. Heil) vs Parish Panthers - White ( A. Martinez)
END:VALARM
END:VEVENT
BEGIN:VEVENT
UID:semones-264475@ygametime.com
DTSTAMP:20220129T150000Z
DTSTART;TZID=America/Chicago:20220129T090000
DURATION:PT0H60M0S
SUMMARY:Greenhill Hornets (S. Lonergan) vs Parish Panthers - White ( A. Martinez)
DESCRIPTION:5th/6th Girls - Competitive | Basketball\nSemones Family YMCA\n
URL;VALUE=URI:https://ygametime.com/branch/semones/sports/2021-winter-basketball/11503/?utm_medium=calendar&utm_source=team_cal&utm_content=league_url#game-264475
LOCATION:ED walker Middle School
BEGIN:VALARM
TRIGGER:-P2H
ACTION:DISPLAY
DESCRIPTION:Greenhill Hornets (S. Lonergan) vs Parish Panthers - White ( A. Martinez)
END:VALARM
END:VEVENT
BEGIN:VEVENT
UID:semones-264477@ygametime.com
DTSTAMP:20220219T190000Z
DTSTART;TZID=America/Chicago:20220219T130000
DURATION:PT0H60M0S
SUMMARY:Parish Panthers - White ( A. Martinez) vs Red Hots (B. Johnson)
DESCRIPTION:5th/6th Girls - Competitive | Basketball\nSemones Family YMCA\n
URL;VALUE=URI:https://ygametime.com/branch/semones/sports/2021-winter-basketball/11503/?utm_medium=calendar&utm_source=team_cal&utm_content=league_url#game-264477
LOCATION:Lake Highlands YMCA
BEGIN:VALARM
TRIGGER:-P2H
ACTION:DISPLAY
DESCRIPTION:Parish Panthers - White ( A. Martinez) vs Red Hots (B. Johnson)
END:VALARM
END:VEVENT
END:VCALENDAR

