BEGIN:VCALENDAR
VERSION:2.0
PRODID:-//YGAMETIME.com//YGT iCal Creator//EN
METHOD:PUBLISH
X-PUBLISHED-TTL:PT6H
REFRESH-INTERVAL;VALUE=DURATION:PT6H
CALSCALE:GREGORIAN
X-WR-CALNAME:YGAMETIME CALENDAR
BEGIN:VTIMEZONE
TZID:America/Chicago
X-LIC-LOCATION:America/Chicago
BEGIN:DAYLIGHT
TZOFFSETFROM:-0600
TZOFFSETTO:-0500
TZNAME:CDT
DTSTART:19700308T020000
RRULE:FREQ=YEARLY;BYMONTH=3;BYDAY=2SU
END:DAYLIGHT
BEGIN:STANDARD
TZOFFSETFROM:-0500
TZOFFSETTO:-0600
TZNAME:CST
DTSTART:19701101T020000
RRULE:FREQ=YEARLY;BYMONTH=11;BYDAY=1SU
END:STANDARD
END:VTIMEZONE
BEGIN:VEVENT
UID:semones-264468@ygametime.com
DTSTAMP:20220115T150000Z
DTSTART;TZID=America/Chicago:20220115T090000
DURATION:PT0H60M0S
SUMMARY:Parish Panthers - White ( A. Martinez) vs Daisy Dream (M. DeLeon)
DESCRIPTION:5th/6th Girls - Competitive | Basketball\nSemones Family YMCA\n
URL;VALUE=URI:https://ygametime.com/branch/semones/sports/2021-winter-basketball/11503/?utm_medium=calendar&utm_source=team_cal&utm_content=league_url#game-264468
LOCATION:ED walker Middle School
BEGIN:VALARM
TRIGGER:-P2H
ACTION:DISPLAY
DESCRIPTION:Parish Panthers - White ( A. Martinez) vs Daisy Dream (M. DeLeon)
END:VALARM
END:VEVENT
BEGIN:VEVENT
UID:semones-264467@ygametime.com
DTSTAMP:20220122T150000Z
DTSTART;TZID=America/Chicago:20220122T090000
DURATION:PT0H60M0S
SUMMARY:Daisy Dream (M. DeLeon) vs Red Hots (B. Johnson)
DESCRIPTION:5th/6th Girls - Competitive | Basketball\nSemones Family YMCA\n
URL;VALUE=URI:https://ygametime.com/branch/semones/sports/2021-winter-basketball/11503/?utm_medium=calendar&utm_source=team_cal&utm_content=league_url#game-264467
LOCATION:ED walker Middle School
BEGIN:VALARM
TRIGGER:-P2H
ACTION:DISPLAY
DESCRIPTION:Daisy Dream (M. DeLeon) vs Red Hots (B. Johnson)
END:VALARM
END:VEVENT
BEGIN:VEVENT
UID:semones-264471@ygametime.com
DTSTAMP:20220122T160000Z
DTSTART;TZID=America/Chicago:20220122T100000
DURATION:PT0H60M0S
SUMMARY:Greenhill Hornets (S. Lonergan) vs Daisy Dream (M. DeLeon)
DESCRIPTION:5th/6th Girls - Competitive | Basketball\nSemones Family YMCA\n
URL;VALUE=URI:https://ygametime.com/branch/semones/sports/2021-winter-basketball/11503/?utm_medium=calendar&utm_source=team_cal&utm_content=league_url#game-264471
LOCATION:ED walker Middle School
BEGIN:VALARM
TRIGGER:-P2H
ACTION:DISPLAY
DESCRIPTION:Greenhill Hornets (S. Lonergan) vs Daisy Dream (M. DeLeon)
END:VALARM
END:VEVENT
BEGIN:VEVENT
UID:semones-264461@ygametime.com
DTSTAMP:20220122T220000Z
DTSTART;TZID=America/Chicago:20220122T160000
DURATION:PT0H60M0S
SUMMARY:Daisy Dream (M. DeLeon) vs Timber Dragons (M. Hernandez)
DESCRIPTION:5th/6th Girls - Competitive | Basketball\nSemones Family YMCA\n
URL;VALUE=URI:https://ygametime.com/branch/semones/sports/2021-winter-basketball/11503/?utm_medium=calendar&utm_source=team_cal&utm_content=league_url#game-264461
LOCATION:ED walker Middle School
BEGIN:VALARM
TRIGGER:-P2H
ACTION:DISPLAY
DESCRIPTION:Daisy Dream (M. DeLeon) vs Timber Dragons (M. Hernandez)
END:VALARM
END:VEVENT
BEGIN:VEVENT
UID:semones-264474@ygametime.com
DTSTAMP:20220129T160000Z
DTSTART;TZID=America/Chicago:20220129T100000
DURATION:PT0H60M0S
SUMMARY:Daisy Dream (M. DeLeon) vs Timber Dragons (M. Hernandez)
DESCRIPTION:5th/6th Girls - Competitive | Basketball\nSemones Family YMCA\n
URL;VALUE=URI:https://ygametime.com/branch/semones/sports/2021-winter-basketball/11503/?utm_medium=calendar&utm_source=team_cal&utm_content=league_url#game-264474
LOCATION:ED walker Middle School
BEGIN:VALARM
TRIGGER:-P2H
ACTION:DISPLAY
DESCRIPTION:Daisy Dream (M. DeLeon) vs Timber Dragons (M. Hernandez)
END:VALARM
END:VEVENT
BEGIN:VEVENT
UID:semones-264463@ygametime.com
DTSTAMP:20220208T010000Z
DTSTART;TZID=America/Chicago:20220207T190000
DURATION:PT0H60M0S
SUMMARY:ESD Eagles (Hen. Heil) vs Daisy Dream (M. DeLeon)
DESCRIPTION:5th/6th Girls - Competitive | Basketball\nSemones Family YMCA\n
URL;VALUE=URI:https://ygametime.com/branch/semones/sports/2021-winter-basketball/11503/?utm_medium=calendar&utm_source=team_cal&utm_content=league_url#game-264463
LOCATION:Semones Family YMCA - Full Court
BEGIN:VALARM
TRIGGER:-P2H
ACTION:DISPLAY
DESCRIPTION:ESD Eagles (Hen. Heil) vs Daisy Dream (M. DeLeon)
END:VALARM
END:VEVENT
END:VCALENDAR

