BEGIN:VCALENDAR
VERSION:2.0
PRODID:-//YGAMETIME.com//YGT iCal Creator//EN
METHOD:PUBLISH
X-PUBLISHED-TTL:PT6H
REFRESH-INTERVAL;VALUE=DURATION:PT6H
CALSCALE:GREGORIAN
X-WR-CALNAME:YGAMETIME CALENDAR
BEGIN:VTIMEZONE
TZID:America/Chicago
X-LIC-LOCATION:America/Chicago
BEGIN:DAYLIGHT
TZOFFSETFROM:-0600
TZOFFSETTO:-0500
TZNAME:CDT
DTSTART:19700308T020000
RRULE:FREQ=YEARLY;BYMONTH=3;BYDAY=2SU
END:DAYLIGHT
BEGIN:STANDARD
TZOFFSETFROM:-0500
TZOFFSETTO:-0600
TZNAME:CST
DTSTART:19701101T020000
RRULE:FREQ=YEARLY;BYMONTH=11;BYDAY=1SU
END:STANDARD
END:VTIMEZONE
BEGIN:VEVENT
UID:semones-268770@ygametime.com
DTSTAMP:20211211T160000Z
DTSTART;TZID=America/Chicago:20211211T100000
DURATION:PT0H60M0S
SUMMARY:Degolyer (M. Rodriguez) vs Spartans (D. Reynolds)
DESCRIPTION:3rd Grade Boys - Competitive | Basketball\nSemones Family YMCA\n
URL;VALUE=URI:https://ygametime.com/branch/semones/sports/2021-winter-basketball/11501/?utm_medium=calendar&utm_source=team_cal&utm_content=league_url#game-268770
LOCATION:Campbell Green Recreation Center
BEGIN:VALARM
TRIGGER:-P2H
ACTION:DISPLAY
DESCRIPTION:Degolyer (M. Rodriguez) vs Spartans (D. Reynolds)
END:VALARM
END:VEVENT
BEGIN:VEVENT
UID:semones-268772@ygametime.com
DTSTAMP:20211218T150000Z
DTSTART;TZID=America/Chicago:20211218T090000
DURATION:PT0H60M0S
SUMMARY:St. Monica Bearcats White (E. Robison) vs Degolyer (M. Rodriguez)
DESCRIPTION:3rd Grade Boys - Competitive | Basketball\nSemones Family YMCA\n
URL;VALUE=URI:https://ygametime.com/branch/semones/sports/2021-winter-basketball/11501/?utm_medium=calendar&utm_source=team_cal&utm_content=league_url#game-268772
LOCATION:Campbell Green Recreation Center
BEGIN:VALARM
TRIGGER:-P2H
ACTION:DISPLAY
DESCRIPTION:St. Monica Bearcats White (E. Robison) vs Degolyer (M. Rodriguez)
END:VALARM
END:VEVENT
BEGIN:VEVENT
UID:semones-268774@ygametime.com
DTSTAMP:20220108T140000Z
DTSTART;TZID=America/Chicago:20220108T080000
DURATION:PT0H60M0S
SUMMARY:Degolyer (M. Rodriguez) vs GSES Blue ( T. Volkman)
DESCRIPTION:3rd Grade Boys - Competitive | Basketball\nSemones Family YMCA\n
URL;VALUE=URI:https://ygametime.com/branch/semones/sports/2021-winter-basketball/11501/?utm_medium=calendar&utm_source=team_cal&utm_content=league_url#game-268774
LOCATION:Campbell Green Recreation Center
BEGIN:VALARM
TRIGGER:-P2H
ACTION:DISPLAY
DESCRIPTION:Degolyer (M. Rodriguez) vs GSES Blue ( T. Volkman)
END:VALARM
END:VEVENT
BEGIN:VEVENT
UID:semones-268778@ygametime.com
DTSTAMP:20220115T150000Z
DTSTART;TZID=America/Chicago:20220115T090000
DURATION:PT0H60M0S
SUMMARY:Spartans (H.Kamara) vs Degolyer (M. Rodriguez)
DESCRIPTION:3rd Grade Boys - Competitive | Basketball\nSemones Family YMCA\n
URL;VALUE=URI:https://ygametime.com/branch/semones/sports/2021-winter-basketball/11501/?utm_medium=calendar&utm_source=team_cal&utm_content=league_url#game-268778
LOCATION:Campbell Green Recreation Center
BEGIN:VALARM
TRIGGER:-P2H
ACTION:DISPLAY
DESCRIPTION:Spartans (H.Kamara) vs Degolyer (M. Rodriguez)
END:VALARM
END:VEVENT
BEGIN:VEVENT
UID:semones-268784@ygametime.com
DTSTAMP:20220129T150000Z
DTSTART;TZID=America/Chicago:20220129T090000
DURATION:PT0H60M0S
SUMMARY:Blazers (H. Lake) vs Degolyer (M. Rodriguez)
DESCRIPTION:3rd Grade Boys - Competitive | Basketball\nSemones Family YMCA\n
URL;VALUE=URI:https://ygametime.com/branch/semones/sports/2021-winter-basketball/11501/?utm_medium=calendar&utm_source=team_cal&utm_content=league_url#game-268784
LOCATION:Campbell Green Recreation Center
BEGIN:VALARM
TRIGGER:-P2H
ACTION:DISPLAY
DESCRIPTION:Blazers (H. Lake) vs Degolyer (M. Rodriguez)
END:VALARM
END:VEVENT
BEGIN:VEVENT
UID:semones-268792@ygametime.com
DTSTAMP:20220204T000000Z
DTSTART;TZID=America/Chicago:20220203T180000
DURATION:PT0H60M0S
SUMMARY:St. Monica Bearcats White (E. Robison) vs Degolyer (M. Rodriguez)
DESCRIPTION:3rd Grade Boys - Competitive | Basketball\nSemones Family YMCA\n
URL;VALUE=URI:https://ygametime.com/branch/semones/sports/2021-winter-basketball/11501/?utm_medium=calendar&utm_source=team_cal&utm_content=league_url#game-268792
LOCATION:Semones Family YMCA - Full Court
BEGIN:VALARM
TRIGGER:-P2H
ACTION:DISPLAY
DESCRIPTION:St. Monica Bearcats White (E. Robison) vs Degolyer (M. Rodriguez)
END:VALARM
END:VEVENT
BEGIN:VEVENT
UID:semones-268790@ygametime.com
DTSTAMP:20220212T150000Z
DTSTART;TZID=America/Chicago:20220212T090000
DURATION:PT0H60M0S
SUMMARY:Degolyer (M. Rodriguez) vs Spartans (D. Reynolds)
DESCRIPTION:3rd Grade Boys - Competitive | Basketball\nSemones Family YMCA\n
URL;VALUE=URI:https://ygametime.com/branch/semones/sports/2021-winter-basketball/11501/?utm_medium=calendar&utm_source=team_cal&utm_content=league_url#game-268790
LOCATION:Campbell Green Recreation Center
BEGIN:VALARM
TRIGGER:-P2H
ACTION:DISPLAY
DESCRIPTION:Degolyer (M. Rodriguez) vs Spartans (D. Reynolds)
END:VALARM
END:VEVENT
BEGIN:VEVENT
UID:semones-268787@ygametime.com
DTSTAMP:20220219T180000Z
DTSTART;TZID=America/Chicago:20220219T120000
DURATION:PT0H60M0S
SUMMARY:Degolyer (M. Rodriguez) vs St. Monica Bearcats Blue (G. LePoris)
DESCRIPTION:3rd Grade Boys - Competitive | Basketball\nSemones Family YMCA\n
URL;VALUE=URI:https://ygametime.com/branch/semones/sports/2021-winter-basketball/11501/?utm_medium=calendar&utm_source=team_cal&utm_content=league_url#game-268787
LOCATION:Campbell Green Recreation Center
BEGIN:VALARM
TRIGGER:-P2H
ACTION:DISPLAY
DESCRIPTION:Degolyer (M. Rodriguez) vs St. Monica Bearcats Blue (G. LePoris)
END:VALARM
END:VEVENT
END:VCALENDAR

