BEGIN:VCALENDAR
VERSION:2.0
PRODID:-//YGAMETIME.com//YGT iCal Creator//EN
METHOD:PUBLISH
X-PUBLISHED-TTL:PT6H
REFRESH-INTERVAL;VALUE=DURATION:PT6H
CALSCALE:GREGORIAN
X-WR-CALNAME:YGAMETIME CALENDAR
BEGIN:VTIMEZONE
TZID:America/Chicago
X-LIC-LOCATION:America/Chicago
BEGIN:DAYLIGHT
TZOFFSETFROM:-0600
TZOFFSETTO:-0500
TZNAME:CDT
DTSTART:19700308T020000
RRULE:FREQ=YEARLY;BYMONTH=3;BYDAY=2SU
END:DAYLIGHT
BEGIN:STANDARD
TZOFFSETFROM:-0500
TZOFFSETTO:-0600
TZNAME:CST
DTSTART:19701101T020000
RRULE:FREQ=YEARLY;BYMONTH=11;BYDAY=1SU
END:STANDARD
END:VTIMEZONE
BEGIN:VEVENT
UID:semones-268768@ygametime.com
DTSTAMP:20211211T140000Z
DTSTART;TZID=America/Chicago:20211211T080000
DURATION:PT0H60M0S
SUMMARY:St. Monica Bearcats Blue (G. LePoris) vs Blazers (H. Lake)
DESCRIPTION:3rd Grade Boys - Competitive | Basketball\nSemones Family YMCA\n
URL;VALUE=URI:https://ygametime.com/branch/semones/sports/2021-winter-basketball/11501/?utm_medium=calendar&utm_source=team_cal&utm_content=league_url#game-268768
LOCATION:Campbell Green Recreation Center
BEGIN:VALARM
TRIGGER:-P2H
ACTION:DISPLAY
DESCRIPTION:St. Monica Bearcats Blue (G. LePoris) vs Blazers (H. Lake)
END:VALARM
END:VEVENT
BEGIN:VEVENT
UID:semones-268771@ygametime.com
DTSTAMP:20211218T140000Z
DTSTART;TZID=America/Chicago:20211218T080000
DURATION:PT0H60M0S
SUMMARY:Spartans (D. Reynolds) vs St. Monica Bearcats Blue (G. LePoris)
DESCRIPTION:3rd Grade Boys - Competitive | Basketball\nSemones Family YMCA\n
URL;VALUE=URI:https://ygametime.com/branch/semones/sports/2021-winter-basketball/11501/?utm_medium=calendar&utm_source=team_cal&utm_content=league_url#game-268771
LOCATION:Campbell Green Recreation Center
BEGIN:VALARM
TRIGGER:-P2H
ACTION:DISPLAY
DESCRIPTION:Spartans (D. Reynolds) vs St. Monica Bearcats Blue (G. LePoris)
END:VALARM
END:VEVENT
BEGIN:VEVENT
UID:semones-268776@ygametime.com
DTSTAMP:20220108T160000Z
DTSTART;TZID=America/Chicago:20220108T100000
DURATION:PT0H60M0S
SUMMARY:St. Monica Bearcats Blue (G. LePoris) vs St. Monica Bearcats White (E. Robison)
DESCRIPTION:3rd Grade Boys - Competitive | Basketball\nSemones Family YMCA\n
URL;VALUE=URI:https://ygametime.com/branch/semones/sports/2021-winter-basketball/11501/?utm_medium=calendar&utm_source=team_cal&utm_content=league_url#game-268776
LOCATION:Campbell Green Recreation Center
BEGIN:VALARM
TRIGGER:-P2H
ACTION:DISPLAY
DESCRIPTION:St. Monica Bearcats Blue (G. LePoris) vs St. Monica Bearcats White (E. Robison)
END:VALARM
END:VEVENT
BEGIN:VEVENT
UID:semones-268779@ygametime.com
DTSTAMP:20220115T160000Z
DTSTART;TZID=America/Chicago:20220115T100000
DURATION:PT0H60M0S
SUMMARY:GSES Blue ( T. Volkman) vs St. Monica Bearcats Blue (G. LePoris)
DESCRIPTION:3rd Grade Boys - Competitive | Basketball\nSemones Family YMCA\n
URL;VALUE=URI:https://ygametime.com/branch/semones/sports/2021-winter-basketball/11501/?utm_medium=calendar&utm_source=team_cal&utm_content=league_url#game-268779
LOCATION:Campbell Green Recreation Center
BEGIN:VALARM
TRIGGER:-P2H
ACTION:DISPLAY
DESCRIPTION:GSES Blue ( T. Volkman) vs St. Monica Bearcats Blue (G. LePoris)
END:VALARM
END:VEVENT
BEGIN:VEVENT
UID:semones-268781@ygametime.com
DTSTAMP:20220122T150000Z
DTSTART;TZID=America/Chicago:20220122T090000
DURATION:PT0H60M0S
SUMMARY:St. Monica Bearcats Blue (G. LePoris) vs Spartans (H.Kamara)
DESCRIPTION:3rd Grade Boys - Competitive | Basketball\nSemones Family YMCA\n
URL;VALUE=URI:https://ygametime.com/branch/semones/sports/2021-winter-basketball/11501/?utm_medium=calendar&utm_source=team_cal&utm_content=league_url#game-268781
LOCATION:Campbell Green Recreation Center
BEGIN:VALARM
TRIGGER:-P2H
ACTION:DISPLAY
DESCRIPTION:St. Monica Bearcats Blue (G. LePoris) vs Spartans (H.Kamara)
END:VALARM
END:VEVENT
BEGIN:VEVENT
UID:semones-268791@ygametime.com
DTSTAMP:20220212T160000Z
DTSTART;TZID=America/Chicago:20220212T100000
DURATION:PT0H60M0S
SUMMARY:St. Monica Bearcats Blue (G. LePoris) vs Spartans (D. Reynolds)
DESCRIPTION:3rd Grade Boys - Competitive | Basketball\nSemones Family YMCA\n
URL;VALUE=URI:https://ygametime.com/branch/semones/sports/2021-winter-basketball/11501/?utm_medium=calendar&utm_source=team_cal&utm_content=league_url#game-268791
LOCATION:Campbell Green Recreation Center
BEGIN:VALARM
TRIGGER:-P2H
ACTION:DISPLAY
DESCRIPTION:St. Monica Bearcats Blue (G. LePoris) vs Spartans (D. Reynolds)
END:VALARM
END:VEVENT
BEGIN:VEVENT
UID:semones-268787@ygametime.com
DTSTAMP:20220219T180000Z
DTSTART;TZID=America/Chicago:20220219T120000
DURATION:PT0H60M0S
SUMMARY:Degolyer (M. Rodriguez) vs St. Monica Bearcats Blue (G. LePoris)
DESCRIPTION:3rd Grade Boys - Competitive | Basketball\nSemones Family YMCA\n
URL;VALUE=URI:https://ygametime.com/branch/semones/sports/2021-winter-basketball/11501/?utm_medium=calendar&utm_source=team_cal&utm_content=league_url#game-268787
LOCATION:Campbell Green Recreation Center
BEGIN:VALARM
TRIGGER:-P2H
ACTION:DISPLAY
DESCRIPTION:Degolyer (M. Rodriguez) vs St. Monica Bearcats Blue (G. LePoris)
END:VALARM
END:VEVENT
END:VCALENDAR

