BEGIN:VCALENDAR
VERSION:2.0
PRODID:-//YGAMETIME.com//YGT iCal Creator//EN
METHOD:PUBLISH
X-PUBLISHED-TTL:PT6H
REFRESH-INTERVAL;VALUE=DURATION:PT6H
CALSCALE:GREGORIAN
X-WR-CALNAME:YGAMETIME CALENDAR
BEGIN:VTIMEZONE
TZID:America/Chicago
X-LIC-LOCATION:America/Chicago
BEGIN:DAYLIGHT
TZOFFSETFROM:-0600
TZOFFSETTO:-0500
TZNAME:CDT
DTSTART:19700308T020000
RRULE:FREQ=YEARLY;BYMONTH=3;BYDAY=2SU
END:DAYLIGHT
BEGIN:STANDARD
TZOFFSETFROM:-0500
TZOFFSETTO:-0600
TZNAME:CST
DTSTART:19701101T020000
RRULE:FREQ=YEARLY;BYMONTH=11;BYDAY=1SU
END:STANDARD
END:VTIMEZONE
BEGIN:VEVENT
UID:semones-264587@ygametime.com
DTSTAMP:20211212T210000Z
DTSTART;TZID=America/Chicago:20211212T150000
DURATION:PT0H60M0S
SUMMARY:Wesley Prep 1 (J. Hart) vs Lucky Charms (C. Dalheim)
DESCRIPTION:2nd Grade Girls - Competitive | Basketball\nSemones Family YMCA\n
URL;VALUE=URI:https://ygametime.com/branch/semones/sports/2021-winter-basketball/11500/?utm_medium=calendar&utm_source=team_cal&utm_content=league_url#game-264587
LOCATION:Semones Family YMCA - Full Court
BEGIN:VALARM
TRIGGER:-P2H
ACTION:DISPLAY
DESCRIPTION:Wesley Prep 1 (J. Hart) vs Lucky Charms (C. Dalheim)
END:VALARM
END:VEVENT
BEGIN:VEVENT
UID:semones-264590@ygametime.com
DTSTAMP:20220109T210000Z
DTSTART;TZID=America/Chicago:20220109T150000
DURATION:PT0H60M0S
SUMMARY:Lucky Charms (C. Dalheim) vs CKS Crusders (E. Ortiz)
DESCRIPTION:2nd Grade Girls - Competitive | Basketball\nSemones Family YMCA\n
URL;VALUE=URI:https://ygametime.com/branch/semones/sports/2021-winter-basketball/11500/?utm_medium=calendar&utm_source=team_cal&utm_content=league_url#game-264590
LOCATION:Semones Family YMCA - Full Court
BEGIN:VALARM
TRIGGER:-P2H
ACTION:DISPLAY
DESCRIPTION:Lucky Charms (C. Dalheim) vs CKS Crusders (E. Ortiz)
END:VALARM
END:VEVENT
BEGIN:VEVENT
UID:semones-264592@ygametime.com
DTSTAMP:20220116T200000Z
DTSTART;TZID=America/Chicago:20220116T140000
DURATION:PT0H60M0S
SUMMARY:CKS Crusaders (A. Young) vs Lucky Charms (C. Dalheim)
DESCRIPTION:2nd Grade Girls - Competitive | Basketball\nSemones Family YMCA\n
URL;VALUE=URI:https://ygametime.com/branch/semones/sports/2021-winter-basketball/11500/?utm_medium=calendar&utm_source=team_cal&utm_content=league_url#game-264592
LOCATION:Semones Family YMCA - Full Court
BEGIN:VALARM
TRIGGER:-P2H
ACTION:DISPLAY
DESCRIPTION:CKS Crusaders (A. Young) vs Lucky Charms (C. Dalheim)
END:VALARM
END:VEVENT
BEGIN:VEVENT
UID:semones-264596@ygametime.com
DTSTAMP:20220123T220000Z
DTSTART;TZID=America/Chicago:20220123T160000
DURATION:PT0H60M0S
SUMMARY:Lucky Charms (C. Dalheim) vs Wesley Prep 2 (J. Hart)
DESCRIPTION:2nd Grade Girls - Competitive | Basketball\nSemones Family YMCA\n
URL;VALUE=URI:https://ygametime.com/branch/semones/sports/2021-winter-basketball/11500/?utm_medium=calendar&utm_source=team_cal&utm_content=league_url#game-264596
LOCATION:Semones Family YMCA - Full Court
BEGIN:VALARM
TRIGGER:-P2H
ACTION:DISPLAY
DESCRIPTION:Lucky Charms (C. Dalheim) vs Wesley Prep 2 (J. Hart)
END:VALARM
END:VEVENT
BEGIN:VEVENT
UID:semones-264599@ygametime.com
DTSTAMP:20220130T210000Z
DTSTART;TZID=America/Chicago:20220130T150000
DURATION:PT0H60M0S
SUMMARY:Wesley Prep 2 (J. Hart) vs Lucky Charms (C. Dalheim)
DESCRIPTION:2nd Grade Girls - Competitive | Basketball\nSemones Family YMCA\n
URL;VALUE=URI:https://ygametime.com/branch/semones/sports/2021-winter-basketball/11500/?utm_medium=calendar&utm_source=team_cal&utm_content=league_url#game-264599
LOCATION:Semones Family YMCA - Full Court
BEGIN:VALARM
TRIGGER:-P2H
ACTION:DISPLAY
DESCRIPTION:Wesley Prep 2 (J. Hart) vs Lucky Charms (C. Dalheim)
END:VALARM
END:VEVENT
BEGIN:VEVENT
UID:semones-264603@ygametime.com
DTSTAMP:20220206T210000Z
DTSTART;TZID=America/Chicago:20220206T150000
DURATION:PT0H60M0S
SUMMARY:Wesley Prep 1 (J. Hart) vs Lucky Charms (C. Dalheim)
DESCRIPTION:2nd Grade Girls - Competitive | Basketball\nSemones Family YMCA\n
URL;VALUE=URI:https://ygametime.com/branch/semones/sports/2021-winter-basketball/11500/?utm_medium=calendar&utm_source=team_cal&utm_content=league_url#game-264603
LOCATION:Semones Family YMCA - Full Court
BEGIN:VALARM
TRIGGER:-P2H
ACTION:DISPLAY
DESCRIPTION:Wesley Prep 1 (J. Hart) vs Lucky Charms (C. Dalheim)
END:VALARM
END:VEVENT
BEGIN:VEVENT
UID:semones-264606@ygametime.com
DTSTAMP:20220213T230000Z
DTSTART;TZID=America/Chicago:20220213T170000
DURATION:PT0H60M0S
SUMMARY:Lucky Charms (C. Dalheim) vs CKS Crusders (E. Ortiz)
DESCRIPTION:2nd Grade Girls - Competitive | Basketball\nSemones Family YMCA\n
URL;VALUE=URI:https://ygametime.com/branch/semones/sports/2021-winter-basketball/11500/?utm_medium=calendar&utm_source=team_cal&utm_content=league_url#game-264606
LOCATION:Semones Family YMCA - Full Court
BEGIN:VALARM
TRIGGER:-P2H
ACTION:DISPLAY
DESCRIPTION:Lucky Charms (C. Dalheim) vs CKS Crusders (E. Ortiz)
END:VALARM
END:VEVENT
END:VCALENDAR

