BEGIN:VCALENDAR
VERSION:2.0
PRODID:-//YGAMETIME.com//YGT iCal Creator//EN
METHOD:PUBLISH
X-PUBLISHED-TTL:PT6H
REFRESH-INTERVAL;VALUE=DURATION:PT6H
CALSCALE:GREGORIAN
X-WR-CALNAME:YGAMETIME CALENDAR
BEGIN:VTIMEZONE
TZID:America/Chicago
X-LIC-LOCATION:America/Chicago
BEGIN:DAYLIGHT
TZOFFSETFROM:-0600
TZOFFSETTO:-0500
TZNAME:CDT
DTSTART:19700308T020000
RRULE:FREQ=YEARLY;BYMONTH=3;BYDAY=2SU
END:DAYLIGHT
BEGIN:STANDARD
TZOFFSETFROM:-0500
TZOFFSETTO:-0600
TZNAME:CST
DTSTART:19701101T020000
RRULE:FREQ=YEARLY;BYMONTH=11;BYDAY=1SU
END:STANDARD
END:VTIMEZONE
BEGIN:VEVENT
UID:semones-264589@ygametime.com
DTSTAMP:20220109T200000Z
DTSTART;TZID=America/Chicago:20220109T140000
DURATION:PT0H60M0S
SUMMARY:Wesley Prep 2 (J. Hart) vs CKS Crusaders (A. Young)
DESCRIPTION:2nd Grade Girls - Competitive | Basketball\nSemones Family YMCA\n
URL;VALUE=URI:https://ygametime.com/branch/semones/sports/2021-winter-basketball/11500/?utm_medium=calendar&utm_source=team_cal&utm_content=league_url#game-264589
LOCATION:Semones Family YMCA - Full Court
BEGIN:VALARM
TRIGGER:-P2H
ACTION:DISPLAY
DESCRIPTION:Wesley Prep 2 (J. Hart) vs CKS Crusaders (A. Young)
END:VALARM
END:VEVENT
BEGIN:VEVENT
UID:semones-264596@ygametime.com
DTSTAMP:20220123T220000Z
DTSTART;TZID=America/Chicago:20220123T160000
DURATION:PT0H60M0S
SUMMARY:Lucky Charms (C. Dalheim) vs Wesley Prep 2 (J. Hart)
DESCRIPTION:2nd Grade Girls - Competitive | Basketball\nSemones Family YMCA\n
URL;VALUE=URI:https://ygametime.com/branch/semones/sports/2021-winter-basketball/11500/?utm_medium=calendar&utm_source=team_cal&utm_content=league_url#game-264596
LOCATION:Semones Family YMCA - Full Court
BEGIN:VALARM
TRIGGER:-P2H
ACTION:DISPLAY
DESCRIPTION:Lucky Charms (C. Dalheim) vs Wesley Prep 2 (J. Hart)
END:VALARM
END:VEVENT
BEGIN:VEVENT
UID:semones-264599@ygametime.com
DTSTAMP:20220130T210000Z
DTSTART;TZID=America/Chicago:20220130T150000
DURATION:PT0H60M0S
SUMMARY:Wesley Prep 2 (J. Hart) vs Lucky Charms (C. Dalheim)
DESCRIPTION:2nd Grade Girls - Competitive | Basketball\nSemones Family YMCA\n
URL;VALUE=URI:https://ygametime.com/branch/semones/sports/2021-winter-basketball/11500/?utm_medium=calendar&utm_source=team_cal&utm_content=league_url#game-264599
LOCATION:Semones Family YMCA - Full Court
BEGIN:VALARM
TRIGGER:-P2H
ACTION:DISPLAY
DESCRIPTION:Wesley Prep 2 (J. Hart) vs Lucky Charms (C. Dalheim)
END:VALARM
END:VEVENT
BEGIN:VEVENT
UID:semones-264601@ygametime.com
DTSTAMP:20220206T220000Z
DTSTART;TZID=America/Chicago:20220206T160000
DURATION:PT0H60M0S
SUMMARY:CKS Crusders (E. Ortiz) vs Wesley Prep 2 (J. Hart)
DESCRIPTION:2nd Grade Girls - Competitive | Basketball\nSemones Family YMCA\n
URL;VALUE=URI:https://ygametime.com/branch/semones/sports/2021-winter-basketball/11500/?utm_medium=calendar&utm_source=team_cal&utm_content=league_url#game-264601
LOCATION:Semones Family YMCA - Full Court
BEGIN:VALARM
TRIGGER:-P2H
ACTION:DISPLAY
DESCRIPTION:CKS Crusders (E. Ortiz) vs Wesley Prep 2 (J. Hart)
END:VALARM
END:VEVENT
BEGIN:VEVENT
UID:semones-264593@ygametime.com
DTSTAMP:20220208T000000Z
DTSTART;TZID=America/Chicago:20220207T180000
DURATION:PT0H60M0S
SUMMARY:Wesley Prep 2 (J. Hart) vs CKS (B. Burlingame)
DESCRIPTION:2nd Grade Girls - Competitive | Basketball\nSemones Family YMCA\n
URL;VALUE=URI:https://ygametime.com/branch/semones/sports/2021-winter-basketball/11500/?utm_medium=calendar&utm_source=team_cal&utm_content=league_url#game-264593
LOCATION:Semones Family YMCA - Court 1
BEGIN:VALARM
TRIGGER:-P2H
ACTION:DISPLAY
DESCRIPTION:Wesley Prep 2 (J. Hart) vs CKS (B. Burlingame)
END:VALARM
END:VEVENT
BEGIN:VEVENT
UID:semones-264588@ygametime.com
DTSTAMP:20220212T010000Z
DTSTART;TZID=America/Chicago:20220211T190000
DURATION:PT0H60M0S
SUMMARY:CKS Crusders (E. Ortiz) vs Wesley Prep 2 (J. Hart)
DESCRIPTION:2nd Grade Girls - Competitive | Basketball\nSemones Family YMCA\n
URL;VALUE=URI:https://ygametime.com/branch/semones/sports/2021-winter-basketball/11500/?utm_medium=calendar&utm_source=team_cal&utm_content=league_url#game-264588
LOCATION:Semones Family YMCA - Full Court
BEGIN:VALARM
TRIGGER:-P2H
ACTION:DISPLAY
DESCRIPTION:CKS Crusders (E. Ortiz) vs Wesley Prep 2 (J. Hart)
END:VALARM
END:VEVENT
BEGIN:VEVENT
UID:semones-264605@ygametime.com
DTSTAMP:20220213T220000Z
DTSTART;TZID=America/Chicago:20220213T160000
DURATION:PT0H60M0S
SUMMARY:Wesley Prep 2 (J. Hart) vs CKS Crusaders (A. Young)
DESCRIPTION:2nd Grade Girls - Competitive | Basketball\nSemones Family YMCA\n
URL;VALUE=URI:https://ygametime.com/branch/semones/sports/2021-winter-basketball/11500/?utm_medium=calendar&utm_source=team_cal&utm_content=league_url#game-264605
LOCATION:Semones Family YMCA - Full Court
BEGIN:VALARM
TRIGGER:-P2H
ACTION:DISPLAY
DESCRIPTION:Wesley Prep 2 (J. Hart) vs CKS Crusaders (A. Young)
END:VALARM
END:VEVENT
END:VCALENDAR

