BEGIN:VCALENDAR
VERSION:2.0
PRODID:-//YGAMETIME.com//YGT iCal Creator//EN
METHOD:PUBLISH
X-PUBLISHED-TTL:PT6H
REFRESH-INTERVAL;VALUE=DURATION:PT6H
CALSCALE:GREGORIAN
X-WR-CALNAME:YGAMETIME CALENDAR
BEGIN:VTIMEZONE
TZID:America/Chicago
X-LIC-LOCATION:America/Chicago
BEGIN:DAYLIGHT
TZOFFSETFROM:-0600
TZOFFSETTO:-0500
TZNAME:CDT
DTSTART:19700308T020000
RRULE:FREQ=YEARLY;BYMONTH=3;BYDAY=2SU
END:DAYLIGHT
BEGIN:STANDARD
TZOFFSETFROM:-0500
TZOFFSETTO:-0600
TZNAME:CST
DTSTART:19701101T020000
RRULE:FREQ=YEARLY;BYMONTH=11;BYDAY=1SU
END:STANDARD
END:VTIMEZONE
BEGIN:VEVENT
UID:semones-263231@ygametime.com
DTSTAMP:20211211T170000Z
DTSTART;TZID=America/Chicago:20211211T110000
DURATION:PT0H60M0S
SUMMARY:Kramer (E. Moore) vs Bear Kitties (P. Richer)
DESCRIPTION:1st Grade Girls | Basketball\nSemones Family YMCA\n
URL;VALUE=URI:https://ygametime.com/branch/semones/sports/2021-winter-basketball/11393/?utm_medium=calendar&utm_source=team_cal&utm_content=league_url#game-263231
LOCATION:Kramer Elementary School
BEGIN:VALARM
TRIGGER:-P2H
ACTION:DISPLAY
DESCRIPTION:Kramer (E. Moore) vs Bear Kitties (P. Richer)
END:VALARM
END:VEVENT
BEGIN:VEVENT
UID:semones-263239@ygametime.com
DTSTAMP:20211218T160000Z
DTSTART;TZID=America/Chicago:20211218T100000
DURATION:PT0H60M0S
SUMMARY:Bear Kitties (P. Richer) vs Wesley Prep Panthers (J. Hutchins)
DESCRIPTION:1st Grade Girls | Basketball\nSemones Family YMCA\n
URL;VALUE=URI:https://ygametime.com/branch/semones/sports/2021-winter-basketball/11393/?utm_medium=calendar&utm_source=team_cal&utm_content=league_url#game-263239
LOCATION:Kramer Elementary School
BEGIN:VALARM
TRIGGER:-P2H
ACTION:DISPLAY
DESCRIPTION:Bear Kitties (P. Richer) vs Wesley Prep Panthers (J. Hutchins)
END:VALARM
END:VEVENT
BEGIN:VEVENT
UID:semones-263247@ygametime.com
DTSTAMP:20220108T170000Z
DTSTART;TZID=America/Chicago:20220108T110000
DURATION:PT0H60M0S
SUMMARY:Pink Flamingos (L. Toudouze) vs Bear Kitties (P. Richer)
DESCRIPTION:1st Grade Girls | Basketball\nSemones Family YMCA\n
URL;VALUE=URI:https://ygametime.com/branch/semones/sports/2021-winter-basketball/11393/?utm_medium=calendar&utm_source=team_cal&utm_content=league_url#game-263247
LOCATION:Kramer Elementary School
BEGIN:VALARM
TRIGGER:-P2H
ACTION:DISPLAY
DESCRIPTION:Pink Flamingos (L. Toudouze) vs Bear Kitties (P. Richer)
END:VALARM
END:VEVENT
BEGIN:VEVENT
UID:semones-263255@ygametime.com
DTSTAMP:20220115T170000Z
DTSTART;TZID=America/Chicago:20220115T110000
DURATION:PT0H60M0S
SUMMARY:Bear Kitties (P. Richer) vs Trinity Trojans ( C. Smith)
DESCRIPTION:1st Grade Girls | Basketball\nSemones Family YMCA\n
URL;VALUE=URI:https://ygametime.com/branch/semones/sports/2021-winter-basketball/11393/?utm_medium=calendar&utm_source=team_cal&utm_content=league_url#game-263255
LOCATION:Kramer Elementary School
BEGIN:VALARM
TRIGGER:-P2H
ACTION:DISPLAY
DESCRIPTION:Bear Kitties (P. Richer) vs Trinity Trojans ( C. Smith)
END:VALARM
END:VEVENT
BEGIN:VEVENT
UID:semones-263263@ygametime.com
DTSTAMP:20220122T170000Z
DTSTART;TZID=America/Chicago:20220122T110000
DURATION:PT0H60M0S
SUMMARY:Parish Panther (C. Boehler) vs Bear Kitties (P. Richer)
DESCRIPTION:1st Grade Girls | Basketball\nSemones Family YMCA\n
URL;VALUE=URI:https://ygametime.com/branch/semones/sports/2021-winter-basketball/11393/?utm_medium=calendar&utm_source=team_cal&utm_content=league_url#game-263263
LOCATION:Kramer Elementary School
BEGIN:VALARM
TRIGGER:-P2H
ACTION:DISPLAY
DESCRIPTION:Parish Panther (C. Boehler) vs Bear Kitties (P. Richer)
END:VALARM
END:VEVENT
BEGIN:VEVENT
UID:semones-263270@ygametime.com
DTSTAMP:20220129T160000Z
DTSTART;TZID=America/Chicago:20220129T100000
DURATION:PT0H60M0S
SUMMARY:Bear Kitties (P. Richer) vs Cougars (J. Myhre)
DESCRIPTION:1st Grade Girls | Basketball\nSemones Family YMCA\n
URL;VALUE=URI:https://ygametime.com/branch/semones/sports/2021-winter-basketball/11393/?utm_medium=calendar&utm_source=team_cal&utm_content=league_url#game-263270
LOCATION:Kramer Elementary School
BEGIN:VALARM
TRIGGER:-P2H
ACTION:DISPLAY
DESCRIPTION:Bear Kitties (P. Richer) vs Cougars (J. Myhre)
END:VALARM
END:VEVENT
BEGIN:VEVENT
UID:semones-263276@ygametime.com
DTSTAMP:20220212T140000Z
DTSTART;TZID=America/Chicago:20220212T080000
DURATION:PT0H60M0S
SUMMARY:ESD Eagles (C. Nicosia) vs Bear Kitties (P. Richer)
DESCRIPTION:1st Grade Girls | Basketball\nSemones Family YMCA\n
URL;VALUE=URI:https://ygametime.com/branch/semones/sports/2021-winter-basketball/11393/?utm_medium=calendar&utm_source=team_cal&utm_content=league_url#game-263276
LOCATION:Kramer Elementary School
BEGIN:VALARM
TRIGGER:-P2H
ACTION:DISPLAY
DESCRIPTION:ESD Eagles (C. Nicosia) vs Bear Kitties (P. Richer)
END:VALARM
END:VEVENT
END:VCALENDAR

