BEGIN:VCALENDAR
VERSION:2.0
PRODID:-//YGAMETIME.com//YGT iCal Creator//EN
METHOD:PUBLISH
X-PUBLISHED-TTL:PT6H
REFRESH-INTERVAL;VALUE=DURATION:PT6H
CALSCALE:GREGORIAN
X-WR-CALNAME:YGAMETIME CALENDAR
BEGIN:VTIMEZONE
TZID:America/Chicago
X-LIC-LOCATION:America/Chicago
BEGIN:DAYLIGHT
TZOFFSETFROM:-0600
TZOFFSETTO:-0500
TZNAME:CDT
DTSTART:19700308T020000
RRULE:FREQ=YEARLY;BYMONTH=3;BYDAY=2SU
END:DAYLIGHT
BEGIN:STANDARD
TZOFFSETFROM:-0500
TZOFFSETTO:-0600
TZNAME:CST
DTSTART:19701101T020000
RRULE:FREQ=YEARLY;BYMONTH=11;BYDAY=1SU
END:STANDARD
END:VTIMEZONE
BEGIN:VEVENT
UID:semones-263232@ygametime.com
DTSTAMP:20211211T190000Z
DTSTART;TZID=America/Chicago:20211211T130000
DURATION:PT0H60M0S
SUMMARY:Parish Panther (C. Boehler) vs Greenhill Hornets (C. Lazard)
DESCRIPTION:1st Grade Girls | Basketball\nSemones Family YMCA\n
URL;VALUE=URI:https://ygametime.com/branch/semones/sports/2021-winter-basketball/11393/?utm_medium=calendar&utm_source=team_cal&utm_content=league_url#game-263232
LOCATION:Kramer Elementary School
BEGIN:VALARM
TRIGGER:-P2H
ACTION:DISPLAY
DESCRIPTION:Parish Panther (C. Boehler) vs Greenhill Hornets (C. Lazard)
END:VALARM
END:VEVENT
BEGIN:VEVENT
UID:semones-263240@ygametime.com
DTSTAMP:20211218T170000Z
DTSTART;TZID=America/Chicago:20211218T110000
DURATION:PT0H60M0S
SUMMARY:Mighty Dolphins (B. Lares) vs Parish Panther (C. Boehler)
DESCRIPTION:1st Grade Girls | Basketball\nSemones Family YMCA\n
URL;VALUE=URI:https://ygametime.com/branch/semones/sports/2021-winter-basketball/11393/?utm_medium=calendar&utm_source=team_cal&utm_content=league_url#game-263240
LOCATION:Kramer Elementary School
BEGIN:VALARM
TRIGGER:-P2H
ACTION:DISPLAY
DESCRIPTION:Mighty Dolphins (B. Lares) vs Parish Panther (C. Boehler)
END:VALARM
END:VEVENT
BEGIN:VEVENT
UID:semones-263248@ygametime.com
DTSTAMP:20220108T180000Z
DTSTART;TZID=America/Chicago:20220108T120000
DURATION:PT0H60M0S
SUMMARY:Parish Panther (C. Boehler) vs Grace Academy Ponies (C. Pickering)
DESCRIPTION:1st Grade Girls | Basketball\nSemones Family YMCA\n
URL;VALUE=URI:https://ygametime.com/branch/semones/sports/2021-winter-basketball/11393/?utm_medium=calendar&utm_source=team_cal&utm_content=league_url#game-263248
LOCATION:Kramer Elementary School
BEGIN:VALARM
TRIGGER:-P2H
ACTION:DISPLAY
DESCRIPTION:Parish Panther (C. Boehler) vs Grace Academy Ponies (C. Pickering)
END:VALARM
END:VEVENT
BEGIN:VEVENT
UID:semones-263256@ygametime.com
DTSTAMP:20220115T210000Z
DTSTART;TZID=America/Chicago:20220115T150000
DURATION:PT0H60M0S
SUMMARY:Spartan Spirit (S. Sava) vs Parish Panther (C. Boehler)
DESCRIPTION:1st Grade Girls | Basketball\nSemones Family YMCA\n
URL;VALUE=URI:https://ygametime.com/branch/semones/sports/2021-winter-basketball/11393/?utm_medium=calendar&utm_source=team_cal&utm_content=league_url#game-263256
LOCATION:Kramer Elementary School
BEGIN:VALARM
TRIGGER:-P2H
ACTION:DISPLAY
DESCRIPTION:Spartan Spirit (S. Sava) vs Parish Panther (C. Boehler)
END:VALARM
END:VEVENT
BEGIN:VEVENT
UID:semones-263263@ygametime.com
DTSTAMP:20220122T170000Z
DTSTART;TZID=America/Chicago:20220122T110000
DURATION:PT0H60M0S
SUMMARY:Parish Panther (C. Boehler) vs Bear Kitties (P. Richer)
DESCRIPTION:1st Grade Girls | Basketball\nSemones Family YMCA\n
URL;VALUE=URI:https://ygametime.com/branch/semones/sports/2021-winter-basketball/11393/?utm_medium=calendar&utm_source=team_cal&utm_content=league_url#game-263263
LOCATION:Kramer Elementary School
BEGIN:VALARM
TRIGGER:-P2H
ACTION:DISPLAY
DESCRIPTION:Parish Panther (C. Boehler) vs Bear Kitties (P. Richer)
END:VALARM
END:VEVENT
BEGIN:VEVENT
UID:semones-263269@ygametime.com
DTSTAMP:20220129T150000Z
DTSTART;TZID=America/Chicago:20220129T090000
DURATION:PT0H60M0S
SUMMARY:The Bolts (M. Cohen) vs Parish Panther (C. Boehler)
DESCRIPTION:1st Grade Girls | Basketball\nSemones Family YMCA\n
URL;VALUE=URI:https://ygametime.com/branch/semones/sports/2021-winter-basketball/11393/?utm_medium=calendar&utm_source=team_cal&utm_content=league_url#game-263269
LOCATION:Kramer Elementary School
BEGIN:VALARM
TRIGGER:-P2H
ACTION:DISPLAY
DESCRIPTION:The Bolts (M. Cohen) vs Parish Panther (C. Boehler)
END:VALARM
END:VEVENT
BEGIN:VEVENT
UID:semones-263283@ygametime.com
DTSTAMP:20220212T150000Z
DTSTART;TZID=America/Chicago:20220212T090000
DURATION:PT0H60M0S
SUMMARY:Parish Panther (C. Boehler) vs Daisy Devils (M. Pereyra de Olazabal)
DESCRIPTION:1st Grade Girls | Basketball\nSemones Family YMCA\n
URL;VALUE=URI:https://ygametime.com/branch/semones/sports/2021-winter-basketball/11393/?utm_medium=calendar&utm_source=team_cal&utm_content=league_url#game-263283
LOCATION:Kramer Elementary School
BEGIN:VALARM
TRIGGER:-P2H
ACTION:DISPLAY
DESCRIPTION:Parish Panther (C. Boehler) vs Daisy Devils (M. Pereyra de Olazabal)
END:VALARM
END:VEVENT
END:VCALENDAR

