BEGIN:VCALENDAR
VERSION:2.0
PRODID:-//YGAMETIME.com//YGT iCal Creator//EN
METHOD:PUBLISH
X-PUBLISHED-TTL:PT6H
REFRESH-INTERVAL;VALUE=DURATION:PT6H
CALSCALE:GREGORIAN
X-WR-CALNAME:YGAMETIME CALENDAR
BEGIN:VTIMEZONE
TZID:America/Chicago
X-LIC-LOCATION:America/Chicago
BEGIN:DAYLIGHT
TZOFFSETFROM:-0600
TZOFFSETTO:-0500
TZNAME:CDT
DTSTART:19700308T020000
RRULE:FREQ=YEARLY;BYMONTH=3;BYDAY=2SU
END:DAYLIGHT
BEGIN:STANDARD
TZOFFSETFROM:-0500
TZOFFSETTO:-0600
TZNAME:CST
DTSTART:19701101T020000
RRULE:FREQ=YEARLY;BYMONTH=11;BYDAY=1SU
END:STANDARD
END:VTIMEZONE
BEGIN:VEVENT
UID:semones-263228@ygametime.com
DTSTAMP:20211211T140000Z
DTSTART;TZID=America/Chicago:20211211T080000
DURATION:PT0H60M0S
SUMMARY:ESD Eagles (C. Nicosia) vs Spartan Hoopsters (F. Gibson)
DESCRIPTION:1st Grade Girls | Basketball\nSemones Family YMCA\n
URL;VALUE=URI:https://ygametime.com/branch/semones/sports/2021-winter-basketball/11393/?utm_medium=calendar&utm_source=team_cal&utm_content=league_url#game-263228
LOCATION:Kramer Elementary School
BEGIN:VALARM
TRIGGER:-P2H
ACTION:DISPLAY
DESCRIPTION:ESD Eagles (C. Nicosia) vs Spartan Hoopsters (F. Gibson)
END:VALARM
END:VEVENT
BEGIN:VEVENT
UID:semones-263236@ygametime.com
DTSTAMP:20211218T140000Z
DTSTART;TZID=America/Chicago:20211218T080000
DURATION:PT0H60M0S
SUMMARY:Hockahoops (S. Hanies) vs ESD Eagles (C. Nicosia)
DESCRIPTION:1st Grade Girls | Basketball\nSemones Family YMCA\n
URL;VALUE=URI:https://ygametime.com/branch/semones/sports/2021-winter-basketball/11393/?utm_medium=calendar&utm_source=team_cal&utm_content=league_url#game-263236
LOCATION:Kramer Elementary School
BEGIN:VALARM
TRIGGER:-P2H
ACTION:DISPLAY
DESCRIPTION:Hockahoops (S. Hanies) vs ESD Eagles (C. Nicosia)
END:VALARM
END:VEVENT
BEGIN:VEVENT
UID:semones-263244@ygametime.com
DTSTAMP:20220108T140000Z
DTSTART;TZID=America/Chicago:20220108T080000
DURATION:PT0H60M0S
SUMMARY:ESD Eagles (C. Nicosia) vs Greenhill Hornets (C. Lazard)
DESCRIPTION:1st Grade Girls | Basketball\nSemones Family YMCA\n
URL;VALUE=URI:https://ygametime.com/branch/semones/sports/2021-winter-basketball/11393/?utm_medium=calendar&utm_source=team_cal&utm_content=league_url#game-263244
LOCATION:Kramer Elementary School
BEGIN:VALARM
TRIGGER:-P2H
ACTION:DISPLAY
DESCRIPTION:ESD Eagles (C. Nicosia) vs Greenhill Hornets (C. Lazard)
END:VALARM
END:VEVENT
BEGIN:VEVENT
UID:semones-263252@ygametime.com
DTSTAMP:20220115T140000Z
DTSTART;TZID=America/Chicago:20220115T080000
DURATION:PT0H60M0S
SUMMARY:Mighty Dolphins (B. Lares) vs ESD Eagles (C. Nicosia)
DESCRIPTION:1st Grade Girls | Basketball\nSemones Family YMCA\n
URL;VALUE=URI:https://ygametime.com/branch/semones/sports/2021-winter-basketball/11393/?utm_medium=calendar&utm_source=team_cal&utm_content=league_url#game-263252
LOCATION:Kramer Elementary School
BEGIN:VALARM
TRIGGER:-P2H
ACTION:DISPLAY
DESCRIPTION:Mighty Dolphins (B. Lares) vs ESD Eagles (C. Nicosia)
END:VALARM
END:VEVENT
BEGIN:VEVENT
UID:semones-263260@ygametime.com
DTSTAMP:20220122T140000Z
DTSTART;TZID=America/Chicago:20220122T080000
DURATION:PT0H60M0S
SUMMARY:ESD Eagles (C. Nicosia) vs Grace Academy Ponies (C. Pickering)
DESCRIPTION:1st Grade Girls | Basketball\nSemones Family YMCA\n
URL;VALUE=URI:https://ygametime.com/branch/semones/sports/2021-winter-basketball/11393/?utm_medium=calendar&utm_source=team_cal&utm_content=league_url#game-263260
LOCATION:Kramer Elementary School
BEGIN:VALARM
TRIGGER:-P2H
ACTION:DISPLAY
DESCRIPTION:ESD Eagles (C. Nicosia) vs Grace Academy Ponies (C. Pickering)
END:VALARM
END:VEVENT
BEGIN:VEVENT
UID:semones-263268@ygametime.com
DTSTAMP:20220129T140000Z
DTSTART;TZID=America/Chicago:20220129T080000
DURATION:PT0H60M0S
SUMMARY:Spartan Spirit (S. Sava) vs ESD Eagles (C. Nicosia)
DESCRIPTION:1st Grade Girls | Basketball\nSemones Family YMCA\n
URL;VALUE=URI:https://ygametime.com/branch/semones/sports/2021-winter-basketball/11393/?utm_medium=calendar&utm_source=team_cal&utm_content=league_url#game-263268
LOCATION:Kramer Elementary School
BEGIN:VALARM
TRIGGER:-P2H
ACTION:DISPLAY
DESCRIPTION:Spartan Spirit (S. Sava) vs ESD Eagles (C. Nicosia)
END:VALARM
END:VEVENT
BEGIN:VEVENT
UID:semones-263276@ygametime.com
DTSTAMP:20220212T140000Z
DTSTART;TZID=America/Chicago:20220212T080000
DURATION:PT0H60M0S
SUMMARY:ESD Eagles (C. Nicosia) vs Bear Kitties (P. Richer)
DESCRIPTION:1st Grade Girls | Basketball\nSemones Family YMCA\n
URL;VALUE=URI:https://ygametime.com/branch/semones/sports/2021-winter-basketball/11393/?utm_medium=calendar&utm_source=team_cal&utm_content=league_url#game-263276
LOCATION:Kramer Elementary School
BEGIN:VALARM
TRIGGER:-P2H
ACTION:DISPLAY
DESCRIPTION:ESD Eagles (C. Nicosia) vs Bear Kitties (P. Richer)
END:VALARM
END:VEVENT
END:VCALENDAR

