BEGIN:VCALENDAR
VERSION:2.0
PRODID:-//YGAMETIME.com//YGT iCal Creator//EN
METHOD:PUBLISH
X-PUBLISHED-TTL:PT6H
REFRESH-INTERVAL;VALUE=DURATION:PT6H
CALSCALE:GREGORIAN
X-WR-CALNAME:YGAMETIME CALENDAR
BEGIN:VTIMEZONE
TZID:America/Chicago
X-LIC-LOCATION:America/Chicago
BEGIN:DAYLIGHT
TZOFFSETFROM:-0600
TZOFFSETTO:-0500
TZNAME:CDT
DTSTART:19700308T020000
RRULE:FREQ=YEARLY;BYMONTH=3;BYDAY=2SU
END:DAYLIGHT
BEGIN:STANDARD
TZOFFSETFROM:-0500
TZOFFSETTO:-0600
TZNAME:CST
DTSTART:19701101T020000
RRULE:FREQ=YEARLY;BYMONTH=11;BYDAY=1SU
END:STANDARD
END:VTIMEZONE
BEGIN:VEVENT
UID:semones-263229@ygametime.com
DTSTAMP:20211211T150000Z
DTSTART;TZID=America/Chicago:20211211T090000
DURATION:PT0H60M0S
SUMMARY:Daisy Devils (M. Pereyra de Olazabal) vs The Bolts (M. Cohen)
DESCRIPTION:1st Grade Girls | Basketball\nSemones Family YMCA\n
URL;VALUE=URI:https://ygametime.com/branch/semones/sports/2021-winter-basketball/11393/?utm_medium=calendar&utm_source=team_cal&utm_content=league_url#game-263229
LOCATION:Kramer Elementary School
BEGIN:VALARM
TRIGGER:-P2H
ACTION:DISPLAY
DESCRIPTION:Daisy Devils (M. Pereyra de Olazabal) vs The Bolts (M. Cohen)
END:VALARM
END:VEVENT
BEGIN:VEVENT
UID:semones-263243@ygametime.com
DTSTAMP:20211218T180000Z
DTSTART;TZID=America/Chicago:20211218T120000
DURATION:PT0H60M0S
SUMMARY:Spartan Hoopsters (F. Gibson) vs Daisy Devils (M. Pereyra de Olazabal)
DESCRIPTION:1st Grade Girls | Basketball\nSemones Family YMCA\n
URL;VALUE=URI:https://ygametime.com/branch/semones/sports/2021-winter-basketball/11393/?utm_medium=calendar&utm_source=team_cal&utm_content=league_url#game-263243
LOCATION:Kramer Elementary School
BEGIN:VALARM
TRIGGER:-P2H
ACTION:DISPLAY
DESCRIPTION:Spartan Hoopsters (F. Gibson) vs Daisy Devils (M. Pereyra de Olazabal)
END:VALARM
END:VEVENT
BEGIN:VEVENT
UID:semones-263251@ygametime.com
DTSTAMP:20220108T160000Z
DTSTART;TZID=America/Chicago:20220108T100000
DURATION:PT0H60M0S
SUMMARY:Kramer (E. Moore) vs Daisy Devils (M. Pereyra de Olazabal)
DESCRIPTION:1st Grade Girls | Basketball\nSemones Family YMCA\n
URL;VALUE=URI:https://ygametime.com/branch/semones/sports/2021-winter-basketball/11393/?utm_medium=calendar&utm_source=team_cal&utm_content=league_url#game-263251
LOCATION:Kramer Elementary School
BEGIN:VALARM
TRIGGER:-P2H
ACTION:DISPLAY
DESCRIPTION:Kramer (E. Moore) vs Daisy Devils (M. Pereyra de Olazabal)
END:VALARM
END:VEVENT
BEGIN:VEVENT
UID:semones-263259@ygametime.com
DTSTAMP:20220115T220000Z
DTSTART;TZID=America/Chicago:20220115T160000
DURATION:PT0H60M0S
SUMMARY:Daisy Devils (M. Pereyra de Olazabal) vs Wesley Prep Panthers (J. Hutchins)
DESCRIPTION:1st Grade Girls | Basketball\nSemones Family YMCA\n
URL;VALUE=URI:https://ygametime.com/branch/semones/sports/2021-winter-basketball/11393/?utm_medium=calendar&utm_source=team_cal&utm_content=league_url#game-263259
LOCATION:Kramer Elementary School
BEGIN:VALARM
TRIGGER:-P2H
ACTION:DISPLAY
DESCRIPTION:Daisy Devils (M. Pereyra de Olazabal) vs Wesley Prep Panthers (J. Hutchins)
END:VALARM
END:VEVENT
BEGIN:VEVENT
UID:semones-263267@ygametime.com
DTSTAMP:20220122T210000Z
DTSTART;TZID=America/Chicago:20220122T150000
DURATION:PT0H60M0S
SUMMARY:Pink Flamingos (L. Toudouze) vs Daisy Devils (M. Pereyra de Olazabal)
DESCRIPTION:1st Grade Girls | Basketball\nSemones Family YMCA\n
URL;VALUE=URI:https://ygametime.com/branch/semones/sports/2021-winter-basketball/11393/?utm_medium=calendar&utm_source=team_cal&utm_content=league_url#game-263267
LOCATION:Kramer Elementary School
BEGIN:VALARM
TRIGGER:-P2H
ACTION:DISPLAY
DESCRIPTION:Pink Flamingos (L. Toudouze) vs Daisy Devils (M. Pereyra de Olazabal)
END:VALARM
END:VEVENT
BEGIN:VEVENT
UID:semones-263275@ygametime.com
DTSTAMP:20220129T210000Z
DTSTART;TZID=America/Chicago:20220129T150000
DURATION:PT0H60M0S
SUMMARY:Daisy Devils (M. Pereyra de Olazabal) vs Trinity Trojans ( C. Smith)
DESCRIPTION:1st Grade Girls | Basketball\nSemones Family YMCA\n
URL;VALUE=URI:https://ygametime.com/branch/semones/sports/2021-winter-basketball/11393/?utm_medium=calendar&utm_source=team_cal&utm_content=league_url#game-263275
LOCATION:Kramer Elementary School
BEGIN:VALARM
TRIGGER:-P2H
ACTION:DISPLAY
DESCRIPTION:Daisy Devils (M. Pereyra de Olazabal) vs Trinity Trojans ( C. Smith)
END:VALARM
END:VEVENT
BEGIN:VEVENT
UID:semones-263283@ygametime.com
DTSTAMP:20220212T150000Z
DTSTART;TZID=America/Chicago:20220212T090000
DURATION:PT0H60M0S
SUMMARY:Parish Panther (C. Boehler) vs Daisy Devils (M. Pereyra de Olazabal)
DESCRIPTION:1st Grade Girls | Basketball\nSemones Family YMCA\n
URL;VALUE=URI:https://ygametime.com/branch/semones/sports/2021-winter-basketball/11393/?utm_medium=calendar&utm_source=team_cal&utm_content=league_url#game-263283
LOCATION:Kramer Elementary School
BEGIN:VALARM
TRIGGER:-P2H
ACTION:DISPLAY
DESCRIPTION:Parish Panther (C. Boehler) vs Daisy Devils (M. Pereyra de Olazabal)
END:VALARM
END:VEVENT
END:VCALENDAR

