BEGIN:VCALENDAR
VERSION:2.0
PRODID:-//YGAMETIME.com//YGT iCal Creator//EN
METHOD:PUBLISH
X-PUBLISHED-TTL:PT6H
REFRESH-INTERVAL;VALUE=DURATION:PT6H
CALSCALE:GREGORIAN
X-WR-CALNAME:YGAMETIME CALENDAR
BEGIN:VTIMEZONE
TZID:America/Chicago
X-LIC-LOCATION:America/Chicago
BEGIN:DAYLIGHT
TZOFFSETFROM:-0600
TZOFFSETTO:-0500
TZNAME:CDT
DTSTART:19700308T020000
RRULE:FREQ=YEARLY;BYMONTH=3;BYDAY=2SU
END:DAYLIGHT
BEGIN:STANDARD
TZOFFSETFROM:-0500
TZOFFSETTO:-0600
TZNAME:CST
DTSTART:19701101T020000
RRULE:FREQ=YEARLY;BYMONTH=11;BYDAY=1SU
END:STANDARD
END:VTIMEZONE
BEGIN:VEVENT
UID:semones-263234@ygametime.com
DTSTAMP:20211211T200000Z
DTSTART;TZID=America/Chicago:20211211T140000
DURATION:PT0H60M0S
SUMMARY:Trinity Trojans ( C. Smith) vs Mighty Dolphins (B. Lares)
DESCRIPTION:1st Grade Girls | Basketball\nSemones Family YMCA\n
URL;VALUE=URI:https://ygametime.com/branch/semones/sports/2021-winter-basketball/11393/?utm_medium=calendar&utm_source=team_cal&utm_content=league_url#game-263234
LOCATION:Kramer Elementary School
BEGIN:VALARM
TRIGGER:-P2H
ACTION:DISPLAY
DESCRIPTION:Trinity Trojans ( C. Smith) vs Mighty Dolphins (B. Lares)
END:VALARM
END:VEVENT
BEGIN:VEVENT
UID:semones-263240@ygametime.com
DTSTAMP:20211218T170000Z
DTSTART;TZID=America/Chicago:20211218T110000
DURATION:PT0H60M0S
SUMMARY:Mighty Dolphins (B. Lares) vs Parish Panther (C. Boehler)
DESCRIPTION:1st Grade Girls | Basketball\nSemones Family YMCA\n
URL;VALUE=URI:https://ygametime.com/branch/semones/sports/2021-winter-basketball/11393/?utm_medium=calendar&utm_source=team_cal&utm_content=league_url#game-263240
LOCATION:Kramer Elementary School
BEGIN:VALARM
TRIGGER:-P2H
ACTION:DISPLAY
DESCRIPTION:Mighty Dolphins (B. Lares) vs Parish Panther (C. Boehler)
END:VALARM
END:VEVENT
BEGIN:VEVENT
UID:semones-263252@ygametime.com
DTSTAMP:20220115T140000Z
DTSTART;TZID=America/Chicago:20220115T080000
DURATION:PT0H60M0S
SUMMARY:Mighty Dolphins (B. Lares) vs ESD Eagles (C. Nicosia)
DESCRIPTION:1st Grade Girls | Basketball\nSemones Family YMCA\n
URL;VALUE=URI:https://ygametime.com/branch/semones/sports/2021-winter-basketball/11393/?utm_medium=calendar&utm_source=team_cal&utm_content=league_url#game-263252
LOCATION:Kramer Elementary School
BEGIN:VALARM
TRIGGER:-P2H
ACTION:DISPLAY
DESCRIPTION:Mighty Dolphins (B. Lares) vs ESD Eagles (C. Nicosia)
END:VALARM
END:VEVENT
BEGIN:VEVENT
UID:semones-263266@ygametime.com
DTSTAMP:20220122T190000Z
DTSTART;TZID=America/Chicago:20220122T130000
DURATION:PT0H60M0S
SUMMARY:Hockahoops (S. Hanies) vs Mighty Dolphins (B. Lares)
DESCRIPTION:1st Grade Girls | Basketball\nSemones Family YMCA\n
URL;VALUE=URI:https://ygametime.com/branch/semones/sports/2021-winter-basketball/11393/?utm_medium=calendar&utm_source=team_cal&utm_content=league_url#game-263266
LOCATION:Kramer Elementary School
BEGIN:VALARM
TRIGGER:-P2H
ACTION:DISPLAY
DESCRIPTION:Hockahoops (S. Hanies) vs Mighty Dolphins (B. Lares)
END:VALARM
END:VEVENT
BEGIN:VEVENT
UID:semones-263272@ygametime.com
DTSTAMP:20220129T180000Z
DTSTART;TZID=America/Chicago:20220129T120000
DURATION:PT0H60M0S
SUMMARY:Mighty Dolphins (B. Lares) vs Greenhill Hornets (C. Lazard)
DESCRIPTION:1st Grade Girls | Basketball\nSemones Family YMCA\n
URL;VALUE=URI:https://ygametime.com/branch/semones/sports/2021-winter-basketball/11393/?utm_medium=calendar&utm_source=team_cal&utm_content=league_url#game-263272
LOCATION:Kramer Elementary School
BEGIN:VALARM
TRIGGER:-P2H
ACTION:DISPLAY
DESCRIPTION:Mighty Dolphins (B. Lares) vs Greenhill Hornets (C. Lazard)
END:VALARM
END:VEVENT
BEGIN:VEVENT
UID:semones-263278@ygametime.com
DTSTAMP:20220212T160000Z
DTSTART;TZID=America/Chicago:20220212T100000
DURATION:PT0H60M0S
SUMMARY:Mighty Dolphins (B. Lares) vs Spartan Hoopsters (F. Gibson)
DESCRIPTION:1st Grade Girls | Basketball\nSemones Family YMCA\n
URL;VALUE=URI:https://ygametime.com/branch/semones/sports/2021-winter-basketball/11393/?utm_medium=calendar&utm_source=team_cal&utm_content=league_url#game-263278
LOCATION:Kramer Elementary School
BEGIN:VALARM
TRIGGER:-P2H
ACTION:DISPLAY
DESCRIPTION:Mighty Dolphins (B. Lares) vs Spartan Hoopsters (F. Gibson)
END:VALARM
END:VEVENT
BEGIN:VEVENT
UID:semones-263246@ygametime.com
DTSTAMP:20220212T220000Z
DTSTART;TZID=America/Chicago:20220212T160000
DURATION:PT0H60M0S
SUMMARY:Cougars (J. Myhre) vs Mighty Dolphins (B. Lares)
DESCRIPTION:1st Grade Girls | Basketball\nSemones Family YMCA\n
URL;VALUE=URI:https://ygametime.com/branch/semones/sports/2021-winter-basketball/11393/?utm_medium=calendar&utm_source=team_cal&utm_content=league_url#game-263246
LOCATION:Kramer Elementary School
BEGIN:VALARM
TRIGGER:-P2H
ACTION:DISPLAY
DESCRIPTION:Cougars (J. Myhre) vs Mighty Dolphins (B. Lares)
END:VALARM
END:VEVENT
END:VCALENDAR

