BEGIN:VCALENDAR
VERSION:2.0
PRODID:-//YGAMETIME.com//YGT iCal Creator//EN
METHOD:PUBLISH
X-PUBLISHED-TTL:PT6H
REFRESH-INTERVAL;VALUE=DURATION:PT6H
CALSCALE:GREGORIAN
X-WR-CALNAME:YGAMETIME CALENDAR
BEGIN:VTIMEZONE
TZID:America/Chicago
X-LIC-LOCATION:America/Chicago
BEGIN:DAYLIGHT
TZOFFSETFROM:-0600
TZOFFSETTO:-0500
TZNAME:CDT
DTSTART:19700308T020000
RRULE:FREQ=YEARLY;BYMONTH=3;BYDAY=2SU
END:DAYLIGHT
BEGIN:STANDARD
TZOFFSETFROM:-0500
TZOFFSETTO:-0600
TZNAME:CST
DTSTART:19701101T020000
RRULE:FREQ=YEARLY;BYMONTH=11;BYDAY=1SU
END:STANDARD
END:VTIMEZONE
BEGIN:VEVENT
UID:semones-268406@ygametime.com
DTSTAMP:20211211T190000Z
DTSTART;TZID=America/Chicago:20211211T130000
DURATION:PT0H60M0S
SUMMARY:DeGloyer Dolphins (J. Reynolds) vs Cobras (B. Gruner)
DESCRIPTION:1st Grade Boys | Basketball\nSemones Family YMCA\n
URL;VALUE=URI:https://ygametime.com/branch/semones/sports/2021-winter-basketball/11493/?utm_medium=calendar&utm_source=team_cal&utm_content=league_url#game-268406
LOCATION:JCC of Dallas - Court 2
BEGIN:VALARM
TRIGGER:-P2H
ACTION:DISPLAY
DESCRIPTION:DeGloyer Dolphins (J. Reynolds) vs Cobras (B. Gruner)
END:VALARM
END:VEVENT
BEGIN:VEVENT
UID:semones-268442@ygametime.com
DTSTAMP:20220108T180000Z
DTSTART;TZID=America/Chicago:20220108T120000
DURATION:PT0H60M0S
SUMMARY:Lamplighter (Hardin) vs Cobras (B. Gruner)
DESCRIPTION:1st Grade Boys | Basketball\nSemones Family YMCA\n
URL;VALUE=URI:https://ygametime.com/branch/semones/sports/2021-winter-basketball/11493/?utm_medium=calendar&utm_source=team_cal&utm_content=league_url#game-268442
LOCATION:JCC of Dallas - Court 2
BEGIN:VALARM
TRIGGER:-P2H
ACTION:DISPLAY
DESCRIPTION:Lamplighter (Hardin) vs Cobras (B. Gruner)
END:VALARM
END:VEVENT
BEGIN:VEVENT
UID:semones-268424@ygametime.com
DTSTAMP:20220109T190000Z
DTSTART;TZID=America/Chicago:20220109T130000
DURATION:PT0H60M0S
SUMMARY:Cobras (B. Gruner) vs JCC (K. Koshkin)
DESCRIPTION:1st Grade Boys | Basketball\nSemones Family YMCA\n
URL;VALUE=URI:https://ygametime.com/branch/semones/sports/2021-winter-basketball/11493/?utm_medium=calendar&utm_source=team_cal&utm_content=league_url#game-268424
LOCATION:JCC of Dallas - Court 2
BEGIN:VALARM
TRIGGER:-P2H
ACTION:DISPLAY
DESCRIPTION:Cobras (B. Gruner) vs JCC (K. Koshkin)
END:VALARM
END:VEVENT
BEGIN:VEVENT
UID:semones-268460@ygametime.com
DTSTAMP:20220115T180000Z
DTSTART;TZID=America/Chicago:20220115T120000
DURATION:PT0H60M0S
SUMMARY:Cobras (B. Gruner) vs Wild Dragons (S. Murphy)
DESCRIPTION:1st Grade Boys | Basketball\nSemones Family YMCA\n
URL;VALUE=URI:https://ygametime.com/branch/semones/sports/2021-winter-basketball/11493/?utm_medium=calendar&utm_source=team_cal&utm_content=league_url#game-268460
LOCATION:JCC of Dallas - Court 2
BEGIN:VALARM
TRIGGER:-P2H
ACTION:DISPLAY
DESCRIPTION:Cobras (B. Gruner) vs Wild Dragons (S. Murphy)
END:VALARM
END:VEVENT
BEGIN:VEVENT
UID:semones-268478@ygametime.com
DTSTAMP:20220122T180000Z
DTSTART;TZID=America/Chicago:20220122T120000
DURATION:PT0H60M0S
SUMMARY:Withers Wildcats (B. Phillips) vs Cobras (B. Gruner)
DESCRIPTION:1st Grade Boys | Basketball\nSemones Family YMCA\n
URL;VALUE=URI:https://ygametime.com/branch/semones/sports/2021-winter-basketball/11493/?utm_medium=calendar&utm_source=team_cal&utm_content=league_url#game-268478
LOCATION:JCC of Dallas - Court 2
BEGIN:VALARM
TRIGGER:-P2H
ACTION:DISPLAY
DESCRIPTION:Withers Wildcats (B. Phillips) vs Cobras (B. Gruner)
END:VALARM
END:VEVENT
BEGIN:VEVENT
UID:semones-268496@ygametime.com
DTSTAMP:20220129T200000Z
DTSTART;TZID=America/Chicago:20220129T140000
DURATION:PT0H60M0S
SUMMARY:Cobras (B. Gruner) vs Kramer (D. Yancy)
DESCRIPTION:1st Grade Boys | Basketball\nSemones Family YMCA\n
URL;VALUE=URI:https://ygametime.com/branch/semones/sports/2021-winter-basketball/11493/?utm_medium=calendar&utm_source=team_cal&utm_content=league_url#game-268496
LOCATION:JCC of Dallas - Court 2
BEGIN:VALARM
TRIGGER:-P2H
ACTION:DISPLAY
DESCRIPTION:Cobras (B. Gruner) vs Kramer (D. Yancy)
END:VALARM
END:VEVENT
BEGIN:VEVENT
UID:semones-268514@ygametime.com
DTSTAMP:20220212T180000Z
DTSTART;TZID=America/Chicago:20220212T120000
DURATION:PT0H60M0S
SUMMARY:Alcuin Hawks White (L. Petter) vs Cobras (B. Gruner)
DESCRIPTION:1st Grade Boys | Basketball\nSemones Family YMCA\n
URL;VALUE=URI:https://ygametime.com/branch/semones/sports/2021-winter-basketball/11493/?utm_medium=calendar&utm_source=team_cal&utm_content=league_url#game-268514
LOCATION:JCC of Dallas - Court 1
BEGIN:VALARM
TRIGGER:-P2H
ACTION:DISPLAY
DESCRIPTION:Alcuin Hawks White (L. Petter) vs Cobras (B. Gruner)
END:VALARM
END:VEVENT
END:VCALENDAR

