BEGIN:VCALENDAR
VERSION:2.0
PRODID:-//YGAMETIME.com//YGT iCal Creator//EN
METHOD:PUBLISH
X-PUBLISHED-TTL:PT6H
REFRESH-INTERVAL;VALUE=DURATION:PT6H
CALSCALE:GREGORIAN
X-WR-CALNAME:YGAMETIME CALENDAR
BEGIN:VTIMEZONE
TZID:America/Chicago
X-LIC-LOCATION:America/Chicago
BEGIN:DAYLIGHT
TZOFFSETFROM:-0600
TZOFFSETTO:-0500
TZNAME:CDT
DTSTART:19700308T020000
RRULE:FREQ=YEARLY;BYMONTH=3;BYDAY=2SU
END:DAYLIGHT
BEGIN:STANDARD
TZOFFSETFROM:-0500
TZOFFSETTO:-0600
TZNAME:CST
DTSTART:19701101T020000
RRULE:FREQ=YEARLY;BYMONTH=11;BYDAY=1SU
END:STANDARD
END:VTIMEZONE
BEGIN:VEVENT
UID:semones-268408@ygametime.com
DTSTAMP:20211212T190000Z
DTSTART;TZID=America/Chicago:20211212T130000
DURATION:PT0H60M0S
SUMMARY:JCC (K. Koshkin) vs Spartans ( J. Teh)
DESCRIPTION:1st Grade Boys | Basketball\nSemones Family YMCA\n
URL;VALUE=URI:https://ygametime.com/branch/semones/sports/2021-winter-basketball/11493/?utm_medium=calendar&utm_source=team_cal&utm_content=league_url#game-268408
LOCATION:JCC of Dallas - Court 2
BEGIN:VALARM
TRIGGER:-P2H
ACTION:DISPLAY
DESCRIPTION:JCC (K. Koshkin) vs Spartans ( J. Teh)
END:VALARM
END:VEVENT
BEGIN:VEVENT
UID:semones-268426@ygametime.com
DTSTAMP:20211218T190000Z
DTSTART;TZID=America/Chicago:20211218T130000
DURATION:PT0H60M0S
SUMMARY:Spartans ( J. Teh) vs Lamplighter (Hardin)
DESCRIPTION:1st Grade Boys | Basketball\nSemones Family YMCA\n
URL;VALUE=URI:https://ygametime.com/branch/semones/sports/2021-winter-basketball/11493/?utm_medium=calendar&utm_source=team_cal&utm_content=league_url#game-268426
LOCATION:JCC of Dallas - Court 2
BEGIN:VALARM
TRIGGER:-P2H
ACTION:DISPLAY
DESCRIPTION:Spartans ( J. Teh) vs Lamplighter (Hardin)
END:VALARM
END:VEVENT
BEGIN:VEVENT
UID:semones-268444@ygametime.com
DTSTAMP:20220108T200000Z
DTSTART;TZID=America/Chicago:20220108T140000
DURATION:PT0H60M0S
SUMMARY:Wild Dragons (S. Murphy) vs Spartans ( J. Teh)
DESCRIPTION:1st Grade Boys | Basketball\nSemones Family YMCA\n
URL;VALUE=URI:https://ygametime.com/branch/semones/sports/2021-winter-basketball/11493/?utm_medium=calendar&utm_source=team_cal&utm_content=league_url#game-268444
LOCATION:JCC of Dallas - Court 1
BEGIN:VALARM
TRIGGER:-P2H
ACTION:DISPLAY
DESCRIPTION:Wild Dragons (S. Murphy) vs Spartans ( J. Teh)
END:VALARM
END:VEVENT
BEGIN:VEVENT
UID:semones-268462@ygametime.com
DTSTAMP:20220115T200000Z
DTSTART;TZID=America/Chicago:20220115T140000
DURATION:PT0H60M0S
SUMMARY:Spartans ( J. Teh) vs Withers Wildcats (B. Phillips)
DESCRIPTION:1st Grade Boys | Basketball\nSemones Family YMCA\n
URL;VALUE=URI:https://ygametime.com/branch/semones/sports/2021-winter-basketball/11493/?utm_medium=calendar&utm_source=team_cal&utm_content=league_url#game-268462
LOCATION:JCC of Dallas - Court 1
BEGIN:VALARM
TRIGGER:-P2H
ACTION:DISPLAY
DESCRIPTION:Spartans ( J. Teh) vs Withers Wildcats (B. Phillips)
END:VALARM
END:VEVENT
BEGIN:VEVENT
UID:semones-268480@ygametime.com
DTSTAMP:20220122T200000Z
DTSTART;TZID=America/Chicago:20220122T140000
DURATION:PT0H60M0S
SUMMARY:Kramer (D. Yancy) vs Spartans ( J. Teh)
DESCRIPTION:1st Grade Boys | Basketball\nSemones Family YMCA\n
URL;VALUE=URI:https://ygametime.com/branch/semones/sports/2021-winter-basketball/11493/?utm_medium=calendar&utm_source=team_cal&utm_content=league_url#game-268480
LOCATION:JCC of Dallas - Court 1
BEGIN:VALARM
TRIGGER:-P2H
ACTION:DISPLAY
DESCRIPTION:Kramer (D. Yancy) vs Spartans ( J. Teh)
END:VALARM
END:VEVENT
BEGIN:VEVENT
UID:semones-268498@ygametime.com
DTSTAMP:20220129T220000Z
DTSTART;TZID=America/Chicago:20220129T160000
DURATION:PT0H60M0S
SUMMARY:Spartans ( J. Teh) vs Alcuin Hawks White (L. Petter)
DESCRIPTION:1st Grade Boys | Basketball\nSemones Family YMCA\n
URL;VALUE=URI:https://ygametime.com/branch/semones/sports/2021-winter-basketball/11493/?utm_medium=calendar&utm_source=team_cal&utm_content=league_url#game-268498
LOCATION:JCC of Dallas - Court 2
BEGIN:VALARM
TRIGGER:-P2H
ACTION:DISPLAY
DESCRIPTION:Spartans ( J. Teh) vs Alcuin Hawks White (L. Petter)
END:VALARM
END:VEVENT
BEGIN:VEVENT
UID:semones-268516@ygametime.com
DTSTAMP:20220208T000000Z
DTSTART;TZID=America/Chicago:20220207T180000
DURATION:PT0H60M0S
SUMMARY:ESD White (T.Teaford) vs Spartans ( J. Teh)
DESCRIPTION:1st Grade Boys | Basketball\nSemones Family YMCA\n
URL;VALUE=URI:https://ygametime.com/branch/semones/sports/2021-winter-basketball/11493/?utm_medium=calendar&utm_source=team_cal&utm_content=league_url#game-268516
LOCATION:Semones Family YMCA - Court 2
BEGIN:VALARM
TRIGGER:-P2H
ACTION:DISPLAY
DESCRIPTION:ESD White (T.Teaford) vs Spartans ( J. Teh)
END:VALARM
END:VEVENT
END:VCALENDAR

