BEGIN:VCALENDAR
VERSION:2.0
PRODID:-//YGAMETIME.com//YGT iCal Creator//EN
METHOD:PUBLISH
X-PUBLISHED-TTL:PT6H
REFRESH-INTERVAL;VALUE=DURATION:PT6H
CALSCALE:GREGORIAN
X-WR-CALNAME:YGAMETIME CALENDAR
BEGIN:VTIMEZONE
TZID:America/Chicago
X-LIC-LOCATION:America/Chicago
BEGIN:DAYLIGHT
TZOFFSETFROM:-0600
TZOFFSETTO:-0500
TZNAME:CDT
DTSTART:19700308T020000
RRULE:FREQ=YEARLY;BYMONTH=3;BYDAY=2SU
END:DAYLIGHT
BEGIN:STANDARD
TZOFFSETFROM:-0500
TZOFFSETTO:-0600
TZNAME:CST
DTSTART:19701101T020000
RRULE:FREQ=YEARLY;BYMONTH=11;BYDAY=1SU
END:STANDARD
END:VTIMEZONE
BEGIN:VEVENT
UID:semones-268414@ygametime.com
DTSTAMP:20211211T200000Z
DTSTART;TZID=America/Chicago:20211211T140000
DURATION:PT0H60M0S
SUMMARY:Withers Wildcats (B. Phillips) vs ESD Blue (A. Mountain)
DESCRIPTION:1st Grade Boys | Basketball\nSemones Family YMCA\n
URL;VALUE=URI:https://ygametime.com/branch/semones/sports/2021-winter-basketball/11493/?utm_medium=calendar&utm_source=team_cal&utm_content=league_url#game-268414
LOCATION:JCC of Dallas - Court 2
BEGIN:VALARM
TRIGGER:-P2H
ACTION:DISPLAY
DESCRIPTION:Withers Wildcats (B. Phillips) vs ESD Blue (A. Mountain)
END:VALARM
END:VEVENT
BEGIN:VEVENT
UID:semones-268432@ygametime.com
DTSTAMP:20211218T220000Z
DTSTART;TZID=America/Chicago:20211218T160000
DURATION:PT0H60M0S
SUMMARY:ESD Blue (A. Mountain) vs Alcuin Hawks Blue (L. Petter)
DESCRIPTION:1st Grade Boys | Basketball\nSemones Family YMCA\n
URL;VALUE=URI:https://ygametime.com/branch/semones/sports/2021-winter-basketball/11493/?utm_medium=calendar&utm_source=team_cal&utm_content=league_url#game-268432
LOCATION:JCC of Dallas - Court 2
BEGIN:VALARM
TRIGGER:-P2H
ACTION:DISPLAY
DESCRIPTION:ESD Blue (A. Mountain) vs Alcuin Hawks Blue (L. Petter)
END:VALARM
END:VEVENT
BEGIN:VEVENT
UID:semones-268450@ygametime.com
DTSTAMP:20220108T230000Z
DTSTART;TZID=America/Chicago:20220108T170000
DURATION:PT0H60M0S
SUMMARY:Alcuin Hawks White (L. Petter) vs ESD Blue (A. Mountain)
DESCRIPTION:1st Grade Boys | Basketball\nSemones Family YMCA\n
URL;VALUE=URI:https://ygametime.com/branch/semones/sports/2021-winter-basketball/11493/?utm_medium=calendar&utm_source=team_cal&utm_content=league_url#game-268450
LOCATION:JCC of Dallas - Court 2
BEGIN:VALARM
TRIGGER:-P2H
ACTION:DISPLAY
DESCRIPTION:Alcuin Hawks White (L. Petter) vs ESD Blue (A. Mountain)
END:VALARM
END:VEVENT
BEGIN:VEVENT
UID:semones-268483@ygametime.com
DTSTAMP:20220122T210000Z
DTSTART;TZID=America/Chicago:20220122T150000
DURATION:PT0H60M0S
SUMMARY:Christ the King Crusaders (M. Peakes) vs ESD Blue (A. Mountain)
DESCRIPTION:1st Grade Boys | Basketball\nSemones Family YMCA\n
URL;VALUE=URI:https://ygametime.com/branch/semones/sports/2021-winter-basketball/11493/?utm_medium=calendar&utm_source=team_cal&utm_content=league_url#game-268483
LOCATION:JCC of Dallas - Court 2
BEGIN:VALARM
TRIGGER:-P2H
ACTION:DISPLAY
DESCRIPTION:Christ the King Crusaders (M. Peakes) vs ESD Blue (A. Mountain)
END:VALARM
END:VEVENT
BEGIN:VEVENT
UID:semones-268499@ygametime.com
DTSTAMP:20220129T220000Z
DTSTART;TZID=America/Chicago:20220129T160000
DURATION:PT0H60M0S
SUMMARY:ESD Blue (A. Mountain) vs St. Rita White (C. King)
DESCRIPTION:1st Grade Boys | Basketball\nSemones Family YMCA\n
URL;VALUE=URI:https://ygametime.com/branch/semones/sports/2021-winter-basketball/11493/?utm_medium=calendar&utm_source=team_cal&utm_content=league_url#game-268499
LOCATION:JCC of Dallas - Court 1
BEGIN:VALARM
TRIGGER:-P2H
ACTION:DISPLAY
DESCRIPTION:ESD Blue (A. Mountain) vs St. Rita White (C. King)
END:VALARM
END:VEVENT
BEGIN:VEVENT
UID:semones-268467@ygametime.com
DTSTAMP:20220208T230000Z
DTSTART;TZID=America/Chicago:20220208T170000
DURATION:PT0H60M0S
SUMMARY:ESD Blue (A. Mountain) vs ESD White (T.Teaford)
DESCRIPTION:1st Grade Boys | Basketball\nSemones Family YMCA\n
URL;VALUE=URI:https://ygametime.com/branch/semones/sports/2021-winter-basketball/11493/?utm_medium=calendar&utm_source=team_cal&utm_content=league_url#game-268467
LOCATION:Semones Family YMCA - Court 2
BEGIN:VALARM
TRIGGER:-P2H
ACTION:DISPLAY
DESCRIPTION:ESD Blue (A. Mountain) vs ESD White (T.Teaford)
END:VALARM
END:VEVENT
BEGIN:VEVENT
UID:semones-268515@ygametime.com
DTSTAMP:20220212T170000Z
DTSTART;TZID=America/Chicago:20220212T110000
DURATION:PT0H60M0S
SUMMARY:Spartans Green (J. Lothamer) vs ESD Blue (A. Mountain)
DESCRIPTION:1st Grade Boys | Basketball\nSemones Family YMCA\n
URL;VALUE=URI:https://ygametime.com/branch/semones/sports/2021-winter-basketball/11493/?utm_medium=calendar&utm_source=team_cal&utm_content=league_url#game-268515
LOCATION:JCC of Dallas - Court 1
BEGIN:VALARM
TRIGGER:-P2H
ACTION:DISPLAY
DESCRIPTION:Spartans Green (J. Lothamer) vs ESD Blue (A. Mountain)
END:VALARM
END:VEVENT
END:VCALENDAR

