BEGIN:VCALENDAR
VERSION:2.0
PRODID:-//YGAMETIME.com//YGT iCal Creator//EN
METHOD:PUBLISH
X-PUBLISHED-TTL:PT6H
REFRESH-INTERVAL;VALUE=DURATION:PT6H
CALSCALE:GREGORIAN
X-WR-CALNAME:YGAMETIME CALENDAR
BEGIN:VTIMEZONE
TZID:America/Chicago
X-LIC-LOCATION:America/Chicago
BEGIN:DAYLIGHT
TZOFFSETFROM:-0600
TZOFFSETTO:-0500
TZNAME:CDT
DTSTART:19700308T020000
RRULE:FREQ=YEARLY;BYMONTH=3;BYDAY=2SU
END:DAYLIGHT
BEGIN:STANDARD
TZOFFSETFROM:-0500
TZOFFSETTO:-0600
TZNAME:CST
DTSTART:19701101T020000
RRULE:FREQ=YEARLY;BYMONTH=11;BYDAY=1SU
END:STANDARD
END:VTIMEZONE
BEGIN:VEVENT
UID:semones-268417@ygametime.com
DTSTAMP:20211218T140000Z
DTSTART;TZID=America/Chicago:20211218T080000
DURATION:PT0H60M0S
SUMMARY:Walnut Hills Hawks (B. Longwell) vs Wesley Prep Blue ( J. Platt)
DESCRIPTION:1st Grade Boys | Basketball\nSemones Family YMCA\n
URL;VALUE=URI:https://ygametime.com/branch/semones/sports/2021-winter-basketball/11493/?utm_medium=calendar&utm_source=team_cal&utm_content=league_url#game-268417
LOCATION:JCC of Dallas - Court 2
BEGIN:VALARM
TRIGGER:-P2H
ACTION:DISPLAY
DESCRIPTION:Walnut Hills Hawks (B. Longwell) vs Wesley Prep Blue ( J. Platt)
END:VALARM
END:VEVENT
BEGIN:VEVENT
UID:semones-268451@ygametime.com
DTSTAMP:20220108T230000Z
DTSTART;TZID=America/Chicago:20220108T170000
DURATION:PT0H60M0S
SUMMARY:Walnut Hills Hawks (B. Longwell) vs SMS Bearcats (A. Schroeder)
DESCRIPTION:1st Grade Boys | Basketball\nSemones Family YMCA\n
URL;VALUE=URI:https://ygametime.com/branch/semones/sports/2021-winter-basketball/11493/?utm_medium=calendar&utm_source=team_cal&utm_content=league_url#game-268451
LOCATION:JCC of Dallas - Court 1
BEGIN:VALARM
TRIGGER:-P2H
ACTION:DISPLAY
DESCRIPTION:Walnut Hills Hawks (B. Longwell) vs SMS Bearcats (A. Schroeder)
END:VALARM
END:VEVENT
BEGIN:VEVENT
UID:semones-268487@ygametime.com
DTSTAMP:20220122T230000Z
DTSTART;TZID=America/Chicago:20220122T170000
DURATION:PT0H60M0S
SUMMARY:Walnut Hills Hawks (B. Longwell) vs DIS 1st Boys (Coach Clement)
DESCRIPTION:1st Grade Boys | Basketball\nSemones Family YMCA\n
URL;VALUE=URI:https://ygametime.com/branch/semones/sports/2021-winter-basketball/11493/?utm_medium=calendar&utm_source=team_cal&utm_content=league_url#game-268487
LOCATION:JCC of Dallas - Court 2
BEGIN:VALARM
TRIGGER:-P2H
ACTION:DISPLAY
DESCRIPTION:Walnut Hills Hawks (B. Longwell) vs DIS 1st Boys (Coach Clement)
END:VALARM
END:VEVENT
BEGIN:VEVENT
UID:semones-268469@ygametime.com
DTSTAMP:20220123T170000Z
DTSTART;TZID=America/Chicago:20220123T110000
DURATION:PT0H60M0S
SUMMARY:ESD Silver (D. Stevens) vs Walnut Hills Hawks (B. Longwell)
DESCRIPTION:1st Grade Boys | Basketball\nSemones Family YMCA\n
URL;VALUE=URI:https://ygametime.com/branch/semones/sports/2021-winter-basketball/11493/?utm_medium=calendar&utm_source=team_cal&utm_content=league_url#game-268469
LOCATION:Semones Family YMCA - Court 1
BEGIN:VALARM
TRIGGER:-P2H
ACTION:DISPLAY
DESCRIPTION:ESD Silver (D. Stevens) vs Walnut Hills Hawks (B. Longwell)
END:VALARM
END:VEVENT
BEGIN:VEVENT
UID:semones-268505@ygametime.com
DTSTAMP:20220206T200000Z
DTSTART;TZID=America/Chicago:20220206T140000
DURATION:PT0H60M0S
SUMMARY:JCC (C. Golderg) vs Walnut Hills Hawks (B. Longwell)
DESCRIPTION:1st Grade Boys | Basketball\nSemones Family YMCA\n
URL;VALUE=URI:https://ygametime.com/branch/semones/sports/2021-winter-basketball/11493/?utm_medium=calendar&utm_source=team_cal&utm_content=league_url#game-268505
LOCATION:JCC of Dallas - Court 1
BEGIN:VALARM
TRIGGER:-P2H
ACTION:DISPLAY
DESCRIPTION:JCC (C. Golderg) vs Walnut Hills Hawks (B. Longwell)
END:VALARM
END:VEVENT
BEGIN:VEVENT
UID:semones-268401@ygametime.com
DTSTAMP:20220207T230000Z
DTSTART;TZID=America/Chicago:20220207T170000
DURATION:PT0H60M0S
SUMMARY:SMS Bearcats (J. Tamayo) vs Walnut Hills Hawks (B. Longwell)
DESCRIPTION:1st Grade Boys | Basketball\nSemones Family YMCA\n
URL;VALUE=URI:https://ygametime.com/branch/semones/sports/2021-winter-basketball/11493/?utm_medium=calendar&utm_source=team_cal&utm_content=league_url#game-268401
LOCATION:Semones Family YMCA - Court 1
BEGIN:VALARM
TRIGGER:-P2H
ACTION:DISPLAY
DESCRIPTION:SMS Bearcats (J. Tamayo) vs Walnut Hills Hawks (B. Longwell)
END:VALARM
END:VEVENT
BEGIN:VEVENT
UID:semones-268523@ygametime.com
DTSTAMP:20220213T200000Z
DTSTART;TZID=America/Chicago:20220213T140000
DURATION:PT0H60M0S
SUMMARY:Walnut Hills Hawks (B. Longwell) vs JCC (A. Steiger)
DESCRIPTION:1st Grade Boys | Basketball\nSemones Family YMCA\n
URL;VALUE=URI:https://ygametime.com/branch/semones/sports/2021-winter-basketball/11493/?utm_medium=calendar&utm_source=team_cal&utm_content=league_url#game-268523
LOCATION:JCC of Dallas - Court 2
BEGIN:VALARM
TRIGGER:-P2H
ACTION:DISPLAY
DESCRIPTION:Walnut Hills Hawks (B. Longwell) vs JCC (A. Steiger)
END:VALARM
END:VEVENT
END:VCALENDAR

