BEGIN:VCALENDAR
VERSION:2.0
PRODID:-//YGAMETIME.com//YGT iCal Creator//EN
METHOD:PUBLISH
X-PUBLISHED-TTL:PT6H
REFRESH-INTERVAL;VALUE=DURATION:PT6H
CALSCALE:GREGORIAN
X-WR-CALNAME:YGAMETIME CALENDAR
BEGIN:VTIMEZONE
TZID:America/Chicago
X-LIC-LOCATION:America/Chicago
BEGIN:DAYLIGHT
TZOFFSETFROM:-0600
TZOFFSETTO:-0500
TZNAME:CDT
DTSTART:19700308T020000
RRULE:FREQ=YEARLY;BYMONTH=3;BYDAY=2SU
END:DAYLIGHT
BEGIN:STANDARD
TZOFFSETFROM:-0500
TZOFFSETTO:-0600
TZNAME:CST
DTSTART:19701101T020000
RRULE:FREQ=YEARLY;BYMONTH=11;BYDAY=1SU
END:STANDARD
END:VTIMEZONE
BEGIN:VEVENT
UID:semones-268419@ygametime.com
DTSTAMP:20211218T150000Z
DTSTART;TZID=America/Chicago:20211218T090000
DURATION:PT0H60M0S
SUMMARY:Hornets (J. Earl) vs SMS Bearcats (J. Tamayo)
DESCRIPTION:1st Grade Boys | Basketball\nSemones Family YMCA\n
URL;VALUE=URI:https://ygametime.com/branch/semones/sports/2021-winter-basketball/11493/?utm_medium=calendar&utm_source=team_cal&utm_content=league_url#game-268419
LOCATION:JCC of Dallas - Court 2
BEGIN:VALARM
TRIGGER:-P2H
ACTION:DISPLAY
DESCRIPTION:Hornets (J. Earl) vs SMS Bearcats (J. Tamayo)
END:VALARM
END:VEVENT
BEGIN:VEVENT
UID:semones-268435@ygametime.com
DTSTAMP:20220108T140000Z
DTSTART;TZID=America/Chicago:20220108T080000
DURATION:PT0H60M0S
SUMMARY:Wesley Prep Blue ( J. Platt) vs Hornets (J. Earl)
DESCRIPTION:1st Grade Boys | Basketball\nSemones Family YMCA\n
URL;VALUE=URI:https://ygametime.com/branch/semones/sports/2021-winter-basketball/11493/?utm_medium=calendar&utm_source=team_cal&utm_content=league_url#game-268435
LOCATION:JCC of Dallas - Court 2
BEGIN:VALARM
TRIGGER:-P2H
ACTION:DISPLAY
DESCRIPTION:Wesley Prep Blue ( J. Platt) vs Hornets (J. Earl)
END:VALARM
END:VEVENT
BEGIN:VEVENT
UID:semones-268485@ygametime.com
DTSTAMP:20220122T220000Z
DTSTART;TZID=America/Chicago:20220122T160000
DURATION:PT0H60M0S
SUMMARY:Hornets (J. Earl) vs SMS Bearcats (A. Schroeder)
DESCRIPTION:1st Grade Boys | Basketball\nSemones Family YMCA\n
URL;VALUE=URI:https://ygametime.com/branch/semones/sports/2021-winter-basketball/11493/?utm_medium=calendar&utm_source=team_cal&utm_content=league_url#game-268485
LOCATION:JCC of Dallas - Court 2
BEGIN:VALARM
TRIGGER:-P2H
ACTION:DISPLAY
DESCRIPTION:Hornets (J. Earl) vs SMS Bearcats (A. Schroeder)
END:VALARM
END:VEVENT
BEGIN:VEVENT
UID:semones-268503@ygametime.com
DTSTAMP:20220129T230000Z
DTSTART;TZID=America/Chicago:20220129T170000
DURATION:PT0H60M0S
SUMMARY:Lamplighter Dragons (C.Casey) vs Hornets (J. Earl)
DESCRIPTION:1st Grade Boys | Basketball\nSemones Family YMCA\n
URL;VALUE=URI:https://ygametime.com/branch/semones/sports/2021-winter-basketball/11493/?utm_medium=calendar&utm_source=team_cal&utm_content=league_url#game-268503
LOCATION:JCC of Dallas - Court 2
BEGIN:VALARM
TRIGGER:-P2H
ACTION:DISPLAY
DESCRIPTION:Lamplighter Dragons (C.Casey) vs Hornets (J. Earl)
END:VALARM
END:VEVENT
BEGIN:VEVENT
UID:semones-268403@ygametime.com
DTSTAMP:20220201T230000Z
DTSTART;TZID=America/Chicago:20220201T170000
DURATION:PT0H60M0S
SUMMARY:Dealey Dragons (B. Mohon) vs Hornets (J. Earl)
DESCRIPTION:1st Grade Boys | Basketball\nSemones Family YMCA\n
URL;VALUE=URI:https://ygametime.com/branch/semones/sports/2021-winter-basketball/11493/?utm_medium=calendar&utm_source=team_cal&utm_content=league_url#game-268403
LOCATION:Semones Family YMCA - Court 2
BEGIN:VALARM
TRIGGER:-P2H
ACTION:DISPLAY
DESCRIPTION:Dealey Dragons (B. Mohon) vs Hornets (J. Earl)
END:VALARM
END:VEVENT
BEGIN:VEVENT
UID:semones-268466@ygametime.com
DTSTAMP:20220203T000000Z
DTSTART;TZID=America/Chicago:20220202T180000
DURATION:PT0H60M0S
SUMMARY:Hornets (J. Earl) vs Alcuin Hawks White (L. Petter)
DESCRIPTION:1st Grade Boys | Basketball\nSemones Family YMCA\n
URL;VALUE=URI:https://ygametime.com/branch/semones/sports/2021-winter-basketball/11493/?utm_medium=calendar&utm_source=team_cal&utm_content=league_url#game-268466
LOCATION:Semones Family YMCA - Court 1
BEGIN:VALARM
TRIGGER:-P2H
ACTION:DISPLAY
DESCRIPTION:Hornets (J. Earl) vs Alcuin Hawks White (L. Petter)
END:VALARM
END:VEVENT
BEGIN:VEVENT
UID:semones-268521@ygametime.com
DTSTAMP:20220213T200000Z
DTSTART;TZID=America/Chicago:20220213T140000
DURATION:PT0H60M0S
SUMMARY:Hornets (J. Earl) vs JCC (C. Golderg)
DESCRIPTION:1st Grade Boys | Basketball\nSemones Family YMCA\n
URL;VALUE=URI:https://ygametime.com/branch/semones/sports/2021-winter-basketball/11493/?utm_medium=calendar&utm_source=team_cal&utm_content=league_url#game-268521
LOCATION:JCC of Dallas - Court 1
BEGIN:VALARM
TRIGGER:-P2H
ACTION:DISPLAY
DESCRIPTION:Hornets (J. Earl) vs JCC (C. Golderg)
END:VALARM
END:VEVENT
END:VCALENDAR

