BEGIN:VCALENDAR
VERSION:2.0
PRODID:-//YGAMETIME.com//YGT iCal Creator//EN
METHOD:PUBLISH
X-PUBLISHED-TTL:PT6H
REFRESH-INTERVAL;VALUE=DURATION:PT6H
CALSCALE:GREGORIAN
X-WR-CALNAME:YGAMETIME CALENDAR
BEGIN:VTIMEZONE
TZID:America/Chicago
X-LIC-LOCATION:America/Chicago
BEGIN:DAYLIGHT
TZOFFSETFROM:-0600
TZOFFSETTO:-0500
TZNAME:CDT
DTSTART:19700308T020000
RRULE:FREQ=YEARLY;BYMONTH=3;BYDAY=2SU
END:DAYLIGHT
BEGIN:STANDARD
TZOFFSETFROM:-0500
TZOFFSETTO:-0600
TZNAME:CST
DTSTART:19701101T020000
RRULE:FREQ=YEARLY;BYMONTH=11;BYDAY=1SU
END:STANDARD
END:VTIMEZONE
BEGIN:VEVENT
UID:semones-268420@ygametime.com
DTSTAMP:20211218T170000Z
DTSTART;TZID=America/Chicago:20211218T110000
DURATION:PT0H60M0S
SUMMARY:GSES Blue (W. Hanschen) vs Dealey Dragons (B. Mohon)
DESCRIPTION:1st Grade Boys | Basketball\nSemones Family YMCA\n
URL;VALUE=URI:https://ygametime.com/branch/semones/sports/2021-winter-basketball/11493/?utm_medium=calendar&utm_source=team_cal&utm_content=league_url#game-268420
LOCATION:JCC of Dallas - Court 2
BEGIN:VALARM
TRIGGER:-P2H
ACTION:DISPLAY
DESCRIPTION:GSES Blue (W. Hanschen) vs Dealey Dragons (B. Mohon)
END:VALARM
END:VEVENT
BEGIN:VEVENT
UID:semones-268436@ygametime.com
DTSTAMP:20220108T150000Z
DTSTART;TZID=America/Chicago:20220108T090000
DURATION:PT0H60M0S
SUMMARY:Dealey Dragons (B. Mohon) vs SMS Bearcats (S. Ackels)
DESCRIPTION:1st Grade Boys | Basketball\nSemones Family YMCA\n
URL;VALUE=URI:https://ygametime.com/branch/semones/sports/2021-winter-basketball/11493/?utm_medium=calendar&utm_source=team_cal&utm_content=league_url#game-268436
LOCATION:JCC of Dallas - Court 2
BEGIN:VALARM
TRIGGER:-P2H
ACTION:DISPLAY
DESCRIPTION:Dealey Dragons (B. Mohon) vs SMS Bearcats (S. Ackels)
END:VALARM
END:VEVENT
BEGIN:VEVENT
UID:semones-268470@ygametime.com
DTSTAMP:20220115T220000Z
DTSTART;TZID=America/Chicago:20220115T160000
DURATION:PT0H60M0S
SUMMARY:Wesley Prep White (J. Platt) vs Dealey Dragons (B. Mohon)
DESCRIPTION:1st Grade Boys | Basketball\nSemones Family YMCA\n
URL;VALUE=URI:https://ygametime.com/branch/semones/sports/2021-winter-basketball/11493/?utm_medium=calendar&utm_source=team_cal&utm_content=league_url#game-268470
LOCATION:JCC of Dallas - Court 2
BEGIN:VALARM
TRIGGER:-P2H
ACTION:DISPLAY
DESCRIPTION:Wesley Prep White (J. Platt) vs Dealey Dragons (B. Mohon)
END:VALARM
END:VEVENT
BEGIN:VEVENT
UID:semones-268486@ygametime.com
DTSTAMP:20220122T230000Z
DTSTART;TZID=America/Chicago:20220122T170000
DURATION:PT0H60M0S
SUMMARY:Dealey Dragons (B. Mohon) vs St. Mark's Lion (J. Kern)
DESCRIPTION:1st Grade Boys | Basketball\nSemones Family YMCA\n
URL;VALUE=URI:https://ygametime.com/branch/semones/sports/2021-winter-basketball/11493/?utm_medium=calendar&utm_source=team_cal&utm_content=league_url#game-268486
LOCATION:JCC of Dallas - Court 1
BEGIN:VALARM
TRIGGER:-P2H
ACTION:DISPLAY
DESCRIPTION:Dealey Dragons (B. Mohon) vs St. Mark's Lion (J. Kern)
END:VALARM
END:VEVENT
BEGIN:VEVENT
UID:semones-268502@ygametime.com
DTSTAMP:20220129T230000Z
DTSTART;TZID=America/Chicago:20220129T170000
DURATION:PT0H60M0S
SUMMARY:SMS Bearcats (A. Schroeder) vs Dealey Dragons (B. Mohon)
DESCRIPTION:1st Grade Boys | Basketball\nSemones Family YMCA\n
URL;VALUE=URI:https://ygametime.com/branch/semones/sports/2021-winter-basketball/11493/?utm_medium=calendar&utm_source=team_cal&utm_content=league_url#game-268502
LOCATION:JCC of Dallas - Court 1
BEGIN:VALARM
TRIGGER:-P2H
ACTION:DISPLAY
DESCRIPTION:SMS Bearcats (A. Schroeder) vs Dealey Dragons (B. Mohon)
END:VALARM
END:VEVENT
BEGIN:VEVENT
UID:semones-268403@ygametime.com
DTSTAMP:20220201T230000Z
DTSTART;TZID=America/Chicago:20220201T170000
DURATION:PT0H60M0S
SUMMARY:Dealey Dragons (B. Mohon) vs Hornets (J. Earl)
DESCRIPTION:1st Grade Boys | Basketball\nSemones Family YMCA\n
URL;VALUE=URI:https://ygametime.com/branch/semones/sports/2021-winter-basketball/11493/?utm_medium=calendar&utm_source=team_cal&utm_content=league_url#game-268403
LOCATION:Semones Family YMCA - Court 2
BEGIN:VALARM
TRIGGER:-P2H
ACTION:DISPLAY
DESCRIPTION:Dealey Dragons (B. Mohon) vs Hornets (J. Earl)
END:VALARM
END:VEVENT
BEGIN:VEVENT
UID:semones-268520@ygametime.com
DTSTAMP:20220212T200000Z
DTSTART;TZID=America/Chicago:20220212T140000
DURATION:PT0H60M0S
SUMMARY:DeGloyer Dolphins (J. Reynolds) vs Dealey Dragons (B. Mohon)
DESCRIPTION:1st Grade Boys | Basketball\nSemones Family YMCA\n
URL;VALUE=URI:https://ygametime.com/branch/semones/sports/2021-winter-basketball/11493/?utm_medium=calendar&utm_source=team_cal&utm_content=league_url#game-268520
LOCATION:JCC of Dallas - Court 2
BEGIN:VALARM
TRIGGER:-P2H
ACTION:DISPLAY
DESCRIPTION:DeGloyer Dolphins (J. Reynolds) vs Dealey Dragons (B. Mohon)
END:VALARM
END:VEVENT
END:VCALENDAR

